Firefox-Marionette v0.37 Perl 5 v5.8.8 x86_64-linux

Status
Pass
From
Slaven Rezić (SREZIC)
Dist
Firefox-Marionette v0.37
Platform
Perl 5 v5.8.8 x86_64-linux
Date
2018-02-10 08:28:47
ID
69e77708-0e3c-11e8-9b2e-bbe4bf338817
This distribution has been tested as part of the CPAN Testers
project, supporting the Perl programming language.  See
http://wiki.cpantesters.org/ for more information or email
questions to cpan-testers-discuss@perl.org


--
Dear David Dick,

This is a computer-generated report for Firefox-Marionette-0.37
on perl 5.8.8, created by CPAN-Reporter-1.2018.

Thank you for uploading your work to CPAN.  Congratulations!
All tests were successful.

Sections of this report:

    * Tester comments
    * Program output
    * Prerequisites
    * Environment and other context

------------------------------
TESTER COMMENTS
------------------------------

Additional comments from tester:

none provided

------------------------------
PROGRAM OUTPUT
------------------------------

Output from 'make test':

PERL_DL_NONLAZY=1 "/opt/perl-5.8.8/bin/perl" "-MExtUtils::Command::MM" "-MTest::Harness" "-e" "undef *Test::Harness::Switches; test_harness(0, 'blib/lib', 'blib/arch')" t/*.t
# Testing Firefox::Marionette 0.37
t/00.load.t ........ ok
# Version is Mozilla Firefox 58.0.2
# XAUTHORITY is /var/run/gdm3/auth-for-eserte-4neTlr/database
# DISPLAY is :45
# D-Bus is working
# Xvfb deb version is 2:1.16.4-1+deb8u2
# grep -r Mem /proc/meminfo
# MemTotal:       32888924 kB
# MemFree:          285028 kB
# MemAvailable:    1871252 kB
# ulimit -a | grep -i mem
# memory(kbytes)       unlimited
# locked memory(kbytes) 64
# vmemory(kbytes)      3145728
# This firefox installation has 2 existing profiles
*** You are running in headless mode.
<< {"applicationType":"gecko","marionetteProtocol":3}
>> 31:[0,1,"WebDriver:NewSession",{}]
<< [1,1,null,{"sessionId":"08197d67-d63e-4555-a547-f4a2e4bbc121","capabilities":{"browserName":"firefox","browserVersion":"58.0.2","platformName":"linux","platformVersion":"3.16.0-4-amd64","pageLoadStrategy":"normal","acceptInsecureCerts":false,"timeouts":{"implicit":0,"pageLoad":300000,"script":30000},"rotatable":false,"moz:accessibilityChecks":false,"moz:headless":true,"moz:processID":9896,"moz:profile":"/var/tmp/cpansmoker-1000/2018021009/firefox_marionette_profile_9yPJ_gJvYxI","moz:webdriverClick":true}}]
>> 33:[0,2,"WebDriver:GetCapabilities"]
<< [1,2,null,{"capabilities":{"browserName":"firefox","browserVersion":"58.0.2","platformName":"linux","platformVersion":"3.16.0-4-amd64","pageLoadStrategy":"normal","acceptInsecureCerts":false,"timeouts":{"implicit":0,"pageLoad":300000,"script":30000},"rotatable":false,"moz:accessibilityChecks":false,"moz:headless":true,"moz:processID":9896,"moz:profile":"/var/tmp/cpansmoker-1000/2018021009/firefox_marionette_profile_9yPJ_gJvYxI","moz:webdriverClick":true}}]
# Browser version is 58.0.2
# Operating System is linux 3.16.0-4-amd64
# Profile Directory is /var/tmp/cpansmoker-1000/2018021009/firefox_marionette_profile_9yPJ_gJvYxI
# Mozilla PID is 9896
>> 31:[0,3,"WebDriver:GetWindowType"]
<< [1,3,null,{"value":"navigator:browser"}]
>> 31:[0,4,"WebDriver:GetWindowType"]
<< [1,4,null,{"value":"navigator:browser"}]
>> 31:[0,5,"WebDriver:GetWindowRect"]
<< [1,5,null,{"x":0,"y":0,"width":1366,"height":768,"state":"maximized"}]
>> 70:[0,6,"WebDriver:SetWindowRect",{"width":326,"y":9,"x":3,"height":452}]
<< [1,6,null,{"x":3,"y":9,"width":326,"height":452,"state":"normal"}]
>> 31:[0,7,"WebDriver:GetWindowRect"]
<< [1,7,null,{"x":3,"y":9,"width":326,"height":452,"state":"normal"}]
>> 29:[0,8,"WebDriver:GetTimeouts"]
<< [1,8,null,{"implicit":0,"pageLoad":300000,"script":30000}]
>> 80:[0,9,"WebDriver:SetTimeouts",{"pageLoad":45043,"script":48021,"implicit":41001}]
<< [1,9,null,{}]
>> 30:[0,10,"WebDriver:GetTimeouts"]
<< [1,10,null,{"implicit":41001,"pageLoad":45043,"script":48021}]
>> 81:[0,11,"WebDriver:SetTimeouts",{"pageLoad":45043,"script":48021,"implicit":41001}]
<< [1,11,null,{}]
>> 108:[0,12,"WebDriver:ExecuteScript",{"script":"window.open(\"https://duckduckgo.com\", \"_blank\");","args":[]}]
<< [1,12,null,{"value":null}]
>> 30:[0,13,"WebDriver:CloseWindow"]
<< [1,13,null,["2147483652"]]
>> 32:[0,14,"WebDriver:DeleteSession"]
<< [1,14,null,{}]
>> 32:[0,15,"WebDriver:NewSession",{}]
<< [1,15,null,{"sessionId":"8b99c187-d8c7-489d-9daf-d455ab06bf0b","capabilities":{"browserName":"firefox","browserVersion":"58.0.2","platformName":"linux","platformVersion":"3.16.0-4-amd64","pageLoadStrategy":"normal","acceptInsecureCerts":false,"timeouts":{"implicit":0,"pageLoad":300000,"script":30000},"rotatable":false,"moz:accessibilityChecks":false,"moz:headless":true,"moz:processID":9896,"moz:profile":"/var/tmp/cpansmoker-1000/2018021009/firefox_marionette_profile_9yPJ_gJvYxI","moz:webdriverClick":true}}]
>> 51:[0,16,"Marionette:Quit",{"flags":["eAttemptQuit"]}]
<< [1,16,null,{"cause":"shutdown"}]
*** You are running in headless mode.
<< {"applicationType":"gecko","marionetteProtocol":3}
>> 294:[0,1,"WebDriver:NewSession",{"pageLoadStrategy":"eager","capabilities":{"requiredCapabilities":{"pageLoadStrategy":"eager","moz:accessibilityChecks":true,"moz:webdriverClick":true,"acceptInsecureCerts":true}},"moz:accessibilityChecks":true,"moz:webdriverClick":true,"acceptInsecureCerts":true}]
<< [1,1,null,{"sessionId":"aeef44fe-ea21-4993-bbea-a1911dc77220","capabilities":{"browserName":"firefox","browserVersion":"58.0.2","platformName":"linux","platformVersion":"3.16.0-4-amd64","pageLoadStrategy":"eager","acceptInsecureCerts":true,"timeouts":{"implicit":0,"pageLoad":300000,"script":30000},"rotatable":false,"moz:accessibilityChecks":true,"moz:headless":true,"moz:processID":10297,"moz:profile":"/var/tmp/cpansmoker-1000/2018021009/firefox_marionette_profile_ci3XmBLNAYo","moz:webdriverClick":true}}]
>> 33:[0,2,"WebDriver:GetCapabilities"]
<< [1,2,null,{"capabilities":{"browserName":"firefox","browserVersion":"58.0.2","platformName":"linux","platformVersion":"3.16.0-4-amd64","pageLoadStrategy":"eager","acceptInsecureCerts":true,"timeouts":{"implicit":0,"pageLoad":300000,"script":30000},"rotatable":false,"moz:accessibilityChecks":true,"moz:headless":true,"moz:processID":10297,"moz:profile":"/var/tmp/cpansmoker-1000/2018021009/firefox_marionette_profile_ci3XmBLNAYo","moz:webdriverClick":true}}]
>> 50:[0,3,"Marionette:Quit",{"flags":["eAttemptQuit"]}]
<< [1,3,null,{"cause":"shutdown"}]
**** DEPRECATED METHOD - page_source HAS BEEN REPLACED BY html **** at t/01-marionette.t line 410.
**** DEPRECATED METHOD - find_element HAS BEEN REPLACED BY find **** at t/01-marionette.t line 418.
**** DEPRECATED METHOD - send_keys HAS BEEN REPLACED BY type **** at t/01-marionette.t line 440.
**** DEPRECATED METHOD - find_elements HAS BEEN REPLACED BY list **** at t/01-marionette.t line 442.
**** DEPRECATED METHOD - send_keys HAS BEEN REPLACED BY type **** at t/01-marionette.t line 443.
# Installing extension from /home/eserte/.cpan/build/2018021009/Firefox-Marionette-0.37-0/t/addons/test.xpi

(firefox:11216): GLib-GObject-CRITICAL **: g_object_ref: assertion 'object->ref_count > 0' failed

(firefox:11216): GLib-GObject-CRITICAL **: g_object_unref: assertion 'object->ref_count > 0' failed

(firefox:11216): GLib-GObject-CRITICAL **: g_object_ref: assertion 'object->ref_count > 0' failed

(firefox:11216): GLib-GObject-CRITICAL **: g_object_unref: assertion 'object->ref_count > 0' failed

(firefox:11216): GLib-GObject-CRITICAL **: g_object_ref: assertion 'object->ref_count > 0' failed

(firefox:11216): GLib-GObject-CRITICAL **: g_object_unref: assertion 'object->ref_count > 0' failed

(/home/eserte/Downloads/firefox/firefox:11323): GLib-GObject-CRITICAL **: g_object_ref: assertion 'object->ref_count > 0' failed

(/home/eserte/Downloads/firefox/firefox:11323): GLib-GObject-CRITICAL **: g_object_unref: assertion 'object->ref_count > 0' failed

(/home/eserte/Downloads/firefox/firefox:11323): GLib-GObject-CRITICAL **: g_object_ref: assertion 'object->ref_count > 0' failed

(/home/eserte/Downloads/firefox/firefox:11323): GLib-GObject-CRITICAL **: g_object_unref: assertion 'object->ref_count > 0' failed

(/home/eserte/Downloads/firefox/firefox:11323): GLib-GObject-CRITICAL **: g_object_ref: assertion 'object->ref_count > 0' failed

(/home/eserte/Downloads/firefox/firefox:11323): GLib-GObject-CRITICAL **: g_object_unref: assertion 'object->ref_count > 0' failed
<< {"applicationType":"gecko","marionetteProtocol":3}
>> 298:[0,1,"WebDriver:NewSession",{"pageLoadStrategy":"none","capabilities":{"requiredCapabilities":{"pageLoadStrategy":"none","moz:accessibilityChecks":false,"moz:webdriverClick":false,"acceptInsecureCerts":false}},"moz:accessibilityChecks":false,"moz:webdriverClick":false,"acceptInsecureCerts":false}]
<< [1,1,null,{"sessionId":"fb296519-3658-4d27-8376-3bc270fb6ca5","capabilities":{"browserName":"firefox","browserVersion":"58.0.2","platformName":"linux","platformVersion":"3.16.0-4-amd64","pageLoadStrategy":"none","acceptInsecureCerts":false,"timeouts":{"implicit":0,"pageLoad":300000,"script":30000},"rotatable":false,"moz:accessibilityChecks":false,"moz:headless":false,"moz:processID":11216,"moz:profile":"/var/tmp/cpansmoker-1000/2018021009/firefox_marionette_profile_OXTX5c7mX4U","moz:webdriverClick":false}}]
>> 33:[0,2,"WebDriver:GetCapabilities"]
<< [1,2,null,{"capabilities":{"browserName":"firefox","browserVersion":"58.0.2","platformName":"linux","platformVersion":"3.16.0-4-amd64","pageLoadStrategy":"none","acceptInsecureCerts":false,"timeouts":{"implicit":0,"pageLoad":300000,"script":30000},"rotatable":false,"moz:accessibilityChecks":false,"moz:headless":false,"moz:processID":11216,"moz:profile":"/var/tmp/cpansmoker-1000/2018021009/firefox_marionette_profile_OXTX5c7mX4U","moz:webdriverClick":false}}]
>> 50:[0,3,"Marionette:Quit",{"flags":["eAttemptQuit"]}]
<< [1,3,null,{"cause":"shutdown"}]

(firefox:11216): GLib-GObject-CRITICAL **: g_object_ref: assertion 'object->ref_count > 0' failed

(firefox:11216): GLib-GObject-CRITICAL **: g_object_unref: assertion 'object->ref_count > 0' failed

(firefox:11216): GLib-GObject-CRITICAL **: g_object_ref: assertion 'object->ref_count > 0' failed

(firefox:11216): GLib-GObject-CRITICAL **: g_object_unref: assertion 'object->ref_count > 0' failed

(firefox:11216): GLib-GObject-CRITICAL **: g_object_ref: assertion 'object->ref_count > 0' failed

(firefox:11216): GLib-GObject-CRITICAL **: g_object_unref: assertion 'object->ref_count > 0' failed

(firefox:11216): GLib-GObject-CRITICAL **: g_object_ref: assertion 'object->ref_count > 0' failed

(firefox:11216): GLib-GObject-CRITICAL **: g_object_unref: assertion 'object->ref_count > 0' failed

(firefox:11216): GLib-GObject-CRITICAL **: g_object_ref: assertion 'object->ref_count > 0' failed

(firefox:11216): GLib-GObject-CRITICAL **: g_object_unref: assertion 'object->ref_count > 0' failed

(firefox:11216): GLib-GObject-CRITICAL **: g_object_ref: assertion 'object->ref_count > 0' failed

(firefox:11216): GLib-GObject-CRITICAL **: g_object_unref: assertion 'object->ref_count > 0' failed

(firefox:11216): GLib-GObject-CRITICAL **: g_object_ref: assertion 'object->ref_count > 0' failed

(firefox:11216): GLib-GObject-CRITICAL **: g_object_unref: assertion 'object->ref_count > 0' failed

(firefox:11216): GLib-GObject-CRITICAL **: g_object_ref: assertion 'object->ref_count > 0' failed

(firefox:11216): GLib-GObject-CRITICAL **: g_object_unref: assertion 'object->ref_count > 0' failed
# Killing PID 11495 with a signal 15
# Error Message was Firefox killed by a TERM signal (15)
t/01-marionette.t .. ok
t/pod-coverage.t ... skipped: Test::Pod::Coverage 1.04 required for testing POD coverage
t/pod.t ............ skipped: Test::Pod 1.41 required for testing POD
All tests successful.

Test Summary Report
-------------------
t/01-marionette.t (Wstat: 0 Tests: 190 Failed: 0)
  TODO passed:   121, 146-147, 166, 186-188
Files=4, Tests=191, 91 wallclock secs ( 0.03 usr  0.00 sys + 48.32 cusr 16.53 csys = 64.88 CPU)
Result: PASS

------------------------------
PREREQUISITES
------------------------------

Prerequisite modules loaded:

requires:

    Module              Need  Have    
    ------------------- ----- --------
    base                0     2.07    
    Config              0     0       
    Config::INI::Reader 0     0.025   
    Crypt::URandom      0     0.36    
    English             0     1.02    
    Exporter            0     5.58    
    Fcntl               0     1.05    
    File::Spec          0     3.62    
    File::Temp          0     0.22    
    FileHandle          0     2.01    
    IPC::Run            0     0.94    
    JSON                0     2.94    
    MIME::Base64        0     3.07    
    overload            0     1.04    
    perl                5.006 5.008008
    POSIX               0     1.09    
    Socket              0     1.78    
    URI                 0     1.71    

build_requires:

    Module              Need  Have    
    ------------------- ----- --------
    Cwd                 0     3.62    
    Digest::SHA         0     6.01    
    Test::More          0     1.302045

configure_requires:

    Module              Need  Have    
    ------------------- ----- --------
    ExtUtils::MakeMaker 0     7.18    


------------------------------
ENVIRONMENT AND OTHER CONTEXT
------------------------------

Environment variables:

    LANG = en_US.UTF-8
    PATH = /usr/local/bin:/usr/bin:/bin:/usr/local/sbin:/usr/sbin:/sbin:/home/eserte/bin/linux-gnu:/home/eserte/bin/sh:/home/eserte/bin:/home/eserte/bin/pistachio-perl/bin:/usr/games:/home/eserte/devel:/home/eserte/src/srezic-misc/scripts
    PERL5LIB = /home/eserte/.cpan/build/2018021009/Digest-SHA-6.01-0/blib/arch:/home/eserte/.cpan/build/2018021009/Digest-SHA-6.01-0/blib/lib:/home/eserte/.cpan/build/2018021009/Crypt-URandom-0.36-0/blib/arch:/home/eserte/.cpan/build/2018021009/Crypt-URandom-0.36-0/blib/lib:/home/eserte/.cpan/build/2018021009/Config-INI-0.025-0/blib/arch:/home/eserte/.cpan/build/2018021009/Config-INI-0.025-0/blib/lib:/home/eserte/.cpan/build/2018021009/Mixin-Linewise-0.108-0/blib/arch:/home/eserte/.cpan/build/2018021009/Mixin-Linewise-0.108-0/blib/lib:/home/eserte/.cpan/build/2018021009/Sub-Exporter-0.987-0/blib/arch:/home/eserte/.cpan/build/2018021009/Sub-Exporter-0.987-0/blib/lib:/home/eserte/.cpan/build/2018021009/Sub-Install-0.928-0/blib/arch:/home/eserte/.cpan/build/2018021009/Sub-Install-0.928-0/blib/lib:/home/eserte/.cpan/build/2018021009/Data-OptList-0.110-0/blib/arch:/home/eserte/.cpan/build/2018021009/Data-OptList-0.110-0/blib/lib:/home/eserte/.cpan/build/2018021009/Params-Util-1.07-0/blib/arch:/home/eserte/.cpan/build/2018021009/Params-Util-1.07-0/blib/lib:/home/eserte/.cpan/build/2018021009/PerlIO-utf8_strict-0.007-0/blib/arch:/home/eserte/.cpan/build/2018021009/PerlIO-utf8_strict-0.007-0/blib/lib
    PERL5OPT = 
    PERL5_CPANPLUS_IS_RUNNING = 6935
    PERL5_CPAN_IS_RUNNING = 6935
    PERL5_CPAN_IS_RUNNING_IN_RECURSION = 6810,6935
    PERLDOC = -MPod::Perldoc::ToTextOverstrike
    PERL_BATCH = yes
    PERL_CANARY_STABILITY_NOPROMPT = 1
    PERL_CPAN_REPORTER_CONFIG = /var/tmp/cpansmoker-1000/2018021009/cpanreporter_001_config.ini
    PERL_EXTUTILS_AUTOINSTALL = --defaultdeps
    SHELL = /bin/zsh
    STDPERL = perl
    TERM = xterm
    TMPDIR = /var/tmp/cpansmoker-1000/2018021009

Perl special variables (and OS-specific diagnostics, for MSWin32):

    $^X = /opt/perl-5.8.8/bin/perl
    $UID/$EUID = 1000 / 1000
    $GID = 1000 1024 1000 134 128 115 111 108 46 44 30 29 27 25 24 4
    $EGID = 1000 1024 1000 134 128 115 111 108 46 44 30 29 27 25 24 4

Perl module toolchain versions installed:

    Module              Have    
    ------------------- --------
    CPAN                2.14    
    CPAN::Meta          2.143240
    Cwd                 3.62    
    ExtUtils::CBuilder  0.280224
    ExtUtils::Command   7.18    
    ExtUtils::Install   1.54    
    ExtUtils::MakeMaker 7.18    
    ExtUtils::Manifest  1.70    
    ExtUtils::ParseXS   3.30    
    File::Spec          3.62    
    JSON                2.94    
    JSON::PP            2.27203 
    Module::Build       0.4220  
    Module::Signature   n/a     
    Parse::CPAN::Meta   1.4414  
    Test::Harness       3.36    
    Test::More          1.302045
    YAML                1.18    
    YAML::Syck          1.29    
    version             0.9917  


--

Summary of my perl5 (revision 5 version 8 subversion 8) configuration:
  Platform:
    osname=linux, osvers=3.16.0-4-amd64, archname=x86_64-linux
    uname='linux cabulja 3.16.0-4-amd64 #1 smp debian 3.16.7-ckt25-2+deb8u3 (2016-07-02) x86_64 gnulinux '
    config_args='-ds -e -Dprefix=/opt/perl-5.8.8 -Dcf_email=srezic@cpan.org'
    hint=recommended, useposix=true, d_sigaction=define
    usethreads=undef use5005threads=undef useithreads=undef usemultiplicity=undef
    useperlio=define d_sfio=undef uselargefiles=define usesocks=undef
    use64bitint=define use64bitall=define uselongdouble=undef
    usemymalloc=n, bincompat5005=undef
  Compiler:
    cc='cc', ccflags ='-fno-strict-aliasing -pipe -Wdeclaration-after-statement -I/usr/local/include -D_LARGEFILE_SOURCE -D_FILE_OFFSET_BITS=64',
    optimize='-O2',
    cppflags='-fno-strict-aliasing -pipe -Wdeclaration-after-statement -I/usr/local/include'
    ccversion='', gccversion='4.9.2', gccosandvers=''
    intsize=4, longsize=8, ptrsize=8, doublesize=8, byteorder=12345678
    d_longlong=define, longlongsize=8, d_longdbl=define, longdblsize=16
    ivtype='long', ivsize=8, nvtype='double', nvsize=8, Off_t='off_t', lseeksize=8
    alignbytes=8, prototype=define
  Linker and Libraries:
    ld='cc', ldflags =' -L/usr/local/lib'
    libpth=/usr/local/lib /lib/x86_64-linux-gnu /lib/../lib /usr/lib/x86_64-linux-gnu /usr/lib/../lib /lib /usr/lib
    libs=-lnsl -lgdbm -ldb -ldl -lm -lcrypt -lutil -lc -lgdbm_compat
    perllibs=-lnsl -ldl -lm -lcrypt -lutil -lc -lgdbm_compat
    libc=libc-2.19.so, so=so, useshrplib=false, libperl=libperl.a
    gnulibc_version='2.19'
  Dynamic Linking:
    dlsrc=dl_dlopen.xs, dlext=so, d_dlsymun=undef, ccdlflags='-Wl,-E'
    cccdlflags='-fpic', lddlflags='-shared -L/usr/local/lib'


Characteristics of this binary (from libperl): 
  Compile-time options: PERL_MALLOC_WRAP USE_64_BIT_ALL USE_64_BIT_INT
                        USE_LARGE_FILES USE_PERLIO
  Locally applied patches:
	Devel::PatchPerl 1.42
  Built under linux
  Compiled at Jul 18 2016 20:21:29
  %ENV:
    PERL5LIB="/home/eserte/.cpan/build/2018021009/Digest-SHA-6.01-0/blib/arch:/home/eserte/.cpan/build/2018021009/Digest-SHA-6.01-0/blib/lib:/home/eserte/.cpan/build/2018021009/Crypt-URandom-0.36-0/blib/arch:/home/eserte/.cpan/build/2018021009/Crypt-URandom-0.36-0/blib/lib:/home/eserte/.cpan/build/2018021009/Config-INI-0.025-0/blib/arch:/home/eserte/.cpan/build/2018021009/Config-INI-0.025-0/blib/lib:/home/eserte/.cpan/build/2018021009/Mixin-Linewise-0.108-0/blib/arch:/home/eserte/.cpan/build/2018021009/Mixin-Linewise-0.108-0/blib/lib:/home/eserte/.cpan/build/2018021009/Sub-Exporter-0.987-0/blib/arch:/home/eserte/.cpan/build/2018021009/Sub-Exporter-0.987-0/blib/lib:/home/eserte/.cpan/build/2018021009/Sub-Install-0.928-0/blib/arch:/home/eserte/.cpan/build/2018021009/Sub-Install-0.928-0/blib/lib:/home/eserte/.cpan/build/2018021009/Data-OptList-0.110-0/blib/arch:/home/eserte/.cpan/build/2018021009/Data-OptList-0.110-0/blib/lib:/home/eserte/.cpan/build/2018021009/Params-Util-1.07-0/blib/arch:/home/eserte/.cpan/build/2018021009/Params-Util-1.07-0/blib/lib:/home/eserte/.cpan/build/2018021009/PerlIO-utf8_strict-0.007-0/blib/arch:/home/eserte/.cpan/build/2018021009/PerlIO-utf8_strict-0.007-0/blib/lib"
    PERL5OPT=""
    PERL5_CPANPLUS_IS_RUNNING="6935"
    PERL5_CPAN_IS_RUNNING="6935"
    PERL5_CPAN_IS_RUNNING_IN_RECURSION="6810,6935"
    PERLDOC="-MPod::Perldoc::ToTextOverstrike"
    PERL_BATCH="yes"
    PERL_CANARY_STABILITY_NOPROMPT="1"
    PERL_CPAN_REPORTER_CONFIG="/var/tmp/cpansmoker-1000/2018021009/cpanreporter_001_config.ini"
    PERL_EXTUTILS_AUTOINSTALL="--defaultdeps"
  @INC:
    /home/eserte/.cpan/build/2018021009/Digest-SHA-6.01-0/blib/arch
    /home/eserte/.cpan/build/2018021009/Digest-SHA-6.01-0/blib/lib
    /home/eserte/.cpan/build/2018021009/Crypt-URandom-0.36-0/blib/arch
    /home/eserte/.cpan/build/2018021009/Crypt-URandom-0.36-0/blib/lib
    /home/eserte/.cpan/build/2018021009/Config-INI-0.025-0/blib/arch
    /home/eserte/.cpan/build/2018021009/Config-INI-0.025-0/blib/lib
    /home/eserte/.cpan/build/2018021009/Mixin-Linewise-0.108-0/blib/arch
    /home/eserte/.cpan/build/2018021009/Mixin-Linewise-0.108-0/blib/lib
    /home/eserte/.cpan/build/2018021009/Sub-Exporter-0.987-0/blib/arch
    /home/eserte/.cpan/build/2018021009/Sub-Exporter-0.987-0/blib/lib
    /home/eserte/.cpan/build/2018021009/Sub-Install-0.928-0/blib/arch
    /home/eserte/.cpan/build/2018021009/Sub-Install-0.928-0/blib/lib
    /home/eserte/.cpan/build/2018021009/Data-OptList-0.110-0/blib/arch
    /home/eserte/.cpan/build/2018021009/Data-OptList-0.110-0/blib/lib
    /home/eserte/.cpan/build/2018021009/Params-Util-1.07-0/blib/arch
    /home/eserte/.cpan/build/2018021009/Params-Util-1.07-0/blib/lib
    /home/eserte/.cpan/build/2018021009/PerlIO-utf8_strict-0.007-0/blib/arch
    /home/eserte/.cpan/build/2018021009/PerlIO-utf8_strict-0.007-0/blib/lib
    /opt/perl-5.8.8/lib/5.8.8/x86_64-linux
    /opt/perl-5.8.8/lib/5.8.8
    /opt/perl-5.8.8/lib/site_perl/5.8.8/x86_64-linux
    /opt/perl-5.8.8/lib/site_perl/5.8.8
    /opt/perl-5.8.8/lib/site_perl
    .