Import-Base v1.004 Perl 5 v5.39.9 evbarm-netbsd-thread-multi

Status
Pass
From
Nigel Horne
Dist
Import-Base v1.004
Platform
Perl 5 v5.39.9 evbarm-netbsd-thread-multi
Date
2024-05-29 06:33:48
ID
6840508c-1d85-11ef-8876-d0820b582346
This distribution has been tested as part of the CPAN Testers
project, supporting the Perl programming language.  See
http://wiki.cpantesters.org/ for more information or email
questions to cpan-testers-discuss@perl.org


--
Dear Doug Bell,

This is a computer-generated report for Import-Base-1.004
on perl 5.39.9, created by CPAN-Reporter-1.2019.

Thank you for uploading your work to CPAN.  Congratulations!
All tests were successful.

Sections of this report:

    * Tester comments
    * Program output
    * Prerequisites
    * Environment and other context

------------------------------
TESTER COMMENTS
------------------------------

Additional comments from tester:

this report is from an automated smoke testing program
and was not reviewed by a human for accuracy

------------------------------
PROGRAM OUTPUT
------------------------------

Output from '/usr/bin/make test':

PERL_DL_NONLAZY=1 "/mnt/nas/home/pi2c/njh/perl5/perlbrew/perls/perl-5.39.9-thread/bin/perl5.39.9" "-MExtUtils::Command::MM" "-MTest::Harness" "-e" "undef *Test::Harness::Switches; test_harness(0, 'blib/lib', 'blib/arch')" t/*.t t/use-case/*.t
t/00-compile.t ......... ok
# 
# Versions for all modules listed in MYMETA.json (including optional ones):
# 
# === Configure Requires ===
# 
#     Module              Want Have
#     ------------------- ---- ----
#     ExtUtils::MakeMaker  any 7.70
# 
# === Build Requires ===
# 
#     Module              Want Have
#     ------------------- ---- ----
#     ExtUtils::MakeMaker  any 7.70
# 
# === Test Requires ===
# 
#     Module              Want     Have
#     ------------------- ---- --------
#     Carp                 any     1.54
#     ExtUtils::MakeMaker  any     7.70
#     File::Spec           any     3.90
#     IO::Handle           any     1.55
#     IPC::Open3           any     1.22
#     Test::More           any 1.302199
# 
# === Test Recommends ===
# 
#     Module         Want     Have
#     ---------- -------- --------
#     CPAN::Meta 2.120900 2.150010
# 
# === Runtime Requires ===
# 
#     Module              Want     Have
#     --------------- -------- --------
#     Import::Into    1.002005 1.002005
#     Module::Runtime      any    0.016
#     mro                  any     1.29
#     strict               any     1.13
#     warnings             any     1.68
# 
t/00-report-prereqs.t .. ok
t/base.t ............... ok
t/exclude.t ............ ok
t/export.t ............. ok
t/order.t .............. ok
t/runtime.t ............ ok
t/subrefs.t ............ ok
t/use-case/dancer2.t ... skipped: Test requires Dancer2 >= 0.166001_01
t/use-case/moo.t ....... skipped: Test requires Moo
t/version.t ............ ok
All tests successful.
Files=11, Tests=15, 17 wallclock secs ( 0.47 usr  0.27 sys +  9.63 cusr  4.78 csys = 15.15 CPU)
Result: PASS

------------------------------
PREREQUISITES
------------------------------

Prerequisite modules loaded:

requires:

    Module              Need     Have    
    ------------------- -------- --------
    Import::Into        1.002005 1.002005
    Module::Runtime     0        0.016   
    mro                 0        1.29    
    perl                5.010    5.039009
    strict              0        1.13    
    warnings            0        1.68    

build_requires:

    Module              Need     Have    
    ------------------- -------- --------
    Carp                0        1.54    
    ExtUtils::MakeMaker 0        7.70    
    File::Spec          0        3.90    
    IO::Handle          0        1.55    
    IPC::Open3          0        1.22    
    Test::More          0        1.302199

configure_requires:

    Module              Need     Have    
    ------------------- -------- --------
    ExtUtils::MakeMaker 0        7.70    

opt_build_requires:

    Module              Need     Have    
    ------------------- -------- --------
    CPAN::Meta          2.120900 2.150010


------------------------------
ENVIRONMENT AND OTHER CONTEXT
------------------------------

Environment variables:

    AUTOMATED_TESTING = 1
    PATH = /home/njh/perl5/perlbrew/bin:/home/njh/perl5/perlbrew/perls/perl-5.39.9-thread/bin:/home/njh/perl5/perlbrew/bin:/usr/bin:/bin:/usr/pkg/bin:/usr/local/bin:/home/njh/src/njh/smoker/bin
    PERL5LIB = /var/tmp/build/Import-Into-1.002005-0/blib/arch:/var/tmp/build/Import-Into-1.002005-0/blib/lib:/var/tmp/build/File-Slurp-9999.32-2/blib/arch:/var/tmp/build/File-Slurp-9999.32-2/blib/lib:/var/tmp/build/Feature-Compat-Try-0.05-3/blib/arch:/var/tmp/build/Feature-Compat-Try-0.05-3/blib/lib
    PERL5OPT = 
    PERL5_CPANPLUS_IS_RUNNING = 5359
    PERL5_CPAN_IS_RUNNING = 5359
    PERLBREW_HOME = /home/njh/.perlbrew
    PERLBREW_LIB = 
    PERLBREW_MANPATH = /home/njh/perl5/perlbrew/perls/perl-5.39.9-thread/man
    PERLBREW_PATH = /home/njh/perl5/perlbrew/bin:/home/njh/perl5/perlbrew/perls/perl-5.39.9-thread/bin
    PERLBREW_PERL = perl-5.39.9-thread
    PERLBREW_ROOT = /home/njh/perl5/perlbrew
    PERLBREW_SHELLRC_VERSION = 0.91
    PERLBREW_VERSION = 0.91
    PERL_LOCAL_LIB_ROOT = 
    PERL_MM_USE_DEFAULT = 1
    PERL_USE_UNSAFE_INC = 1
    SHELL = /usr/pkg/bin/bash
    TMPDIR = /tmp/testwrapper.4454

Perl special variables (and OS-specific diagnostics, for MSWin32):

    $^X = /mnt/nas/home/pi2c/njh/perl5/perlbrew/perls/perl-5.39.9-thread/bin/perl5.39.9
    $UID/$EUID = 1000 / 1000
    $GID = 100 100
    $EGID = 100 100

Perl module toolchain versions installed:

    Module              Have    
    ------------------- --------
    CPAN                2.36    
    CPAN::Meta          2.150010
    Cwd                 3.90    
    ExtUtils::CBuilder  0.280240
    ExtUtils::Command   7.70    
    ExtUtils::Install   2.22    
    ExtUtils::MakeMaker 7.70    
    ExtUtils::Manifest  1.75    
    ExtUtils::ParseXS   3.51    
    File::Spec          3.90    
    JSON                n/a     
    JSON::PP            4.16    
    Module::Build       0.4234  
    Module::Signature   n/a     
    Parse::CPAN::Meta   2.150010
    Test2               1.302199
    Test::Harness       3.48    
    Test::More          1.302199
    YAML                1.31    
    YAML::Syck          1.34    
    version             0.9930  


--

Summary of my perl5 (revision 5 version 39 subversion 9) configuration:
   
  Platform:
    osname=netbsd
    osvers=8.0_beta
    archname=evbarm-netbsd-thread-multi
    uname='netbsd pi2c.bandsman.co.uk 8.0_beta netbsd 8.0_beta (rpi2.201710161240z) evbarm '
    config_args='-de -Dprefix=/home/njh/perl5/perlbrew/perls/perl-5.39.9-thread -Dusedevel -Dusethreads -Dusedevel -Accflags=-O2 -W -Wformat=2 -Wswitch -Wshadow -Wwrite-strings -Wuninitialized -Wall -pipe -fomit-frame-pointer -D_FORTIFY_SOURCE=2 -Wpointer-arith -Wstrict-prototypes -fstack-protector -Wstack-protector -Wextra -Wbad-function-cast -Wcast-align -Wcast-qual -Wdisabled-optimization -Wendif-labels -Wfloat-equal -Wformat-nonliteral -Winline -Wmissing-declarations -Wmissing-prototypes -Wnested-externs -Wpointer-arith -Wundef -Wformat-security -mfpu=neon-vfpv4 -mfloat-abi=hard -mtune=cortex-a7 -Aeval:scriptdir=/home/njh/perl5/perlbrew/perls/perl-5.39.9-thread/bin'
    hint=recommended
    useposix=true
    d_sigaction=define
    useithreads=define
    usemultiplicity=define
    use64bitint=undef
    use64bitall=undef
    uselongdouble=undef
    usemymalloc=n
    default_inc_excludes_dot=define
  Compiler:
    cc='cc'
    ccflags ='-O2 -W -Wformat=2 -Wswitch -Wshadow -Wwrite-strings -Wuninitialized -Wall -pipe -fomit-frame-pointer -D_FORTIFY_SOURCE=2 -Wpointer-arith -Wstrict-prototypes -fstack-protector -Wstack-protector -Wextra -Wbad-function-cast -Wcast-align -Wcast-qual -Wdisabled-optimization -Wendif-labels -Wfloat-equal -Wformat-nonliteral -Winline -Wmissing-declarations -Wmissing-prototypes -Wnested-externs -Wpointer-arith -Wundef -Wformat-security -mfpu=neon-vfpv4 -mfloat-abi=hard -mtune=cortex-a7 -fwrapv -fno-strict-aliasing -fstack-protector-strong -I/usr/pkg/include'
    optimize='-O'
    cppflags='-O2 -W -Wformat=2 -Wswitch -Wshadow -Wwrite-strings -Wuninitialized -Wall -pipe -fomit-frame-pointer -D_FORTIFY_SOURCE=2 -Wpointer-arith -Wstrict-prototypes -fstack-protector -Wstack-protector -Wextra -Wbad-function-cast -Wcast-align -Wcast-qual -Wdisabled-optimization -Wendif-labels -Wfloat-equal -Wformat-nonliteral -Winline -Wmissing-declarations -Wmissing-prototypes -Wnested-externs -Wpointer-arith -Wundef -Wformat-security -mfpu=neon-vfpv4 -mfloat-abi=hard -mtune=cortex-a7 -fwrapv -fno-strict-aliasing -fstack-protector-strong -I/usr/pkg/include'
    ccversion=''
    gccversion='7.5.0'
    gccosandvers=''
    intsize=4
    longsize=4
    ptrsize=4
    doublesize=8
    byteorder=1234
    doublekind=3
    d_longlong=define
    longlongsize=8
    d_longdbl=define
    longdblsize=8
    longdblkind=0
    ivtype='long'
    ivsize=4
    nvtype='double'
    nvsize=8
    Off_t='off_t'
    lseeksize=8
    alignbytes=8
    prototype=define
  Linker and Libraries:
    ld='cc'
    ldflags =' -Wl,-rpath,/usr/pkg/lib -Wl,-rpath,/usr/local/lib -fstack-protector-strong -L/usr/pkg/lib'
    libpth=/usr/lib /usr/pkg/lib /lib
    libs=-lpthread -lm -lcrypt -lutil -lc -lposix
    perllibs=-lpthread -lm -lcrypt -lutil -lc -lposix
    libc=/lib/libc.so
    so=so
    useshrplib=false
    libperl=libperl.a
    gnulibc_version=''
  Dynamic Linking:
    dlsrc=dl_dlopen.xs
    dlext=so
    d_dlsymun=undef
    ccdlflags='-Wl,-E '
    cccdlflags='-DPIC -fPIC '
    lddlflags='-shared  -L/usr/pkg/lib -fstack-protector-strong'


Characteristics of this binary (from libperl): 
  Compile-time options:
    HAS_LONG_DOUBLE
    HAS_STRTOLD
    HAS_TIMES
    MULTIPLICITY
    PERLIO_LAYERS
    PERL_COPY_ON_WRITE
    PERL_DONT_CREATE_GVSV
    PERL_HASH_FUNC_ZAPHOD32
    PERL_HASH_USE_SBOX32
    PERL_MALLOC_WRAP
    PERL_OP_PARENT
    PERL_PRESERVE_IVUV
    PERL_USE_DEVEL
    PERL_USE_SAFE_PUTENV
    USE_ITHREADS
    USE_LARGE_FILES
    USE_LOCALE
    USE_LOCALE_COLLATE
    USE_LOCALE_CTYPE
    USE_LOCALE_NUMERIC
    USE_LOCALE_TIME
    USE_PERLIO
    USE_PERL_ATOF
    USE_REENTRANT_API
  Built under netbsd
  Compiled at May  3 2024 12:25:37
  %ENV:
    PERL5LIB="/var/tmp/build/Import-Into-1.002005-0/blib/arch:/var/tmp/build/Import-Into-1.002005-0/blib/lib:/var/tmp/build/File-Slurp-9999.32-2/blib/arch:/var/tmp/build/File-Slurp-9999.32-2/blib/lib:/var/tmp/build/Feature-Compat-Try-0.05-3/blib/arch:/var/tmp/build/Feature-Compat-Try-0.05-3/blib/lib"
    PERL5OPT=""
    PERL5_CPANPLUS_IS_RUNNING="5359"
    PERL5_CPAN_IS_RUNNING="5359"
    PERLBREW_HOME="/home/njh/.perlbrew"
    PERLBREW_LIB=""
    PERLBREW_MANPATH="/home/njh/perl5/perlbrew/perls/perl-5.39.9-thread/man"
    PERLBREW_PATH="/home/njh/perl5/perlbrew/bin:/home/njh/perl5/perlbrew/perls/perl-5.39.9-thread/bin"
    PERLBREW_PERL="perl-5.39.9-thread"
    PERLBREW_ROOT="/home/njh/perl5/perlbrew"
    PERLBREW_SHELLRC_VERSION="0.91"
    PERLBREW_VERSION="0.91"
    PERL_LOCAL_LIB_ROOT=""
    PERL_MM_USE_DEFAULT="1"
    PERL_USE_UNSAFE_INC="1"
  @INC:
    /var/tmp/build/Import-Into-1.002005-0/blib/arch
    /var/tmp/build/Import-Into-1.002005-0/blib/lib
    /var/tmp/build/File-Slurp-9999.32-2/blib/arch
    /var/tmp/build/File-Slurp-9999.32-2/blib/lib
    /var/tmp/build/Feature-Compat-Try-0.05-3/blib/arch
    /var/tmp/build/Feature-Compat-Try-0.05-3/blib/lib
    /home/njh/perl5/perlbrew/perls/perl-5.39.9-thread/lib/site_perl/5.39.9/evbarm-netbsd-thread-multi
    /home/njh/perl5/perlbrew/perls/perl-5.39.9-thread/lib/site_perl/5.39.9
    /home/njh/perl5/perlbrew/perls/perl-5.39.9-thread/lib/5.39.9/evbarm-netbsd-thread-multi
    /home/njh/perl5/perlbrew/perls/perl-5.39.9-thread/lib/5.39.9
    .