Path-Tiny v0.144 Perl 5 v5.36.1 x86_64-cygwin-threads-multi
- Status
- Pass
- From
- Roland van Ipenburg
- Dist
-
Path-Tiny v0.144
- Platform
- Perl 5 v5.36.1 x86_64-cygwin-threads-multi
- Date
- 2023-07-17 09:42:38
- ID
- 6831a9cd-6f22-1014-9721-ce201fe9d234
This distribution has been tested as part of the CPAN Testers
project, supporting the Perl programming language. See
http://wiki.cpantesters.org/ for more information or email
questions to cpan-testers-discuss@perl.org
--
Dear David Golden,
This is a computer-generated report for Path-Tiny-0.144
on perl 5.36.1, created by CPAN-Reporter-1.2019.
Thank you for uploading your work to CPAN. Congratulations!
All tests were successful.
Sections of this report:
* Tester comments
* Program output
* Prerequisites
* Environment and other context
------------------------------
TESTER COMMENTS
------------------------------
Additional comments from tester:
none provided
------------------------------
PROGRAM OUTPUT
------------------------------
Output from 'make test':
PERL_DL_NONLAZY=1 "/usr/bin/perl.exe" "-MExtUtils::Command::MM" "-MTest::Harness" "-e" "undef *Test::Harness::Switches; test_harness(0, 'blib/lib', 'blib/arch')" t/*.t
#
# Versions for all modules listed in MYMETA.json (including optional ones):
#
# === Configure Requires ===
#
# Module Want Have
# ------------------- ---- ----
# ExtUtils::MakeMaker 6.17 7.64
#
# === Configure Suggests ===
#
# Module Want Have
# -------- ------- ----
# JSON::PP 2.27300 4.16
#
# === Build Requires ===
#
# Module Want Have
# ------------------- ---- ----
# ExtUtils::MakeMaker any 7.64
#
# === Test Requires ===
#
# Module Want Have
# --------------------- ---- --------
# Digest::MD5 any 2.58
# ExtUtils::MakeMaker any 7.64
# File::Basename any 2.85
# File::Spec 0.86 3.84
# File::Spec::Functions any 3.84
# File::Spec::Unix any 3.84
# File::Temp 0.19 0.2311
# Test::More 0.96 1.302190
# lib any 0.65
# open any 1.13
#
# === Test Recommends ===
#
# Module Want Have
# ------------------ -------- --------
# CPAN::Meta 2.120900 2.150010
# Test::FailWarnings any missing
# Test::MockRandom any missing
#
# === Runtime Requires ===
#
# Module Want Have
# ------------------ ---- ------
# Carp any 1.52
# Cwd any 3.84
# Digest 1.03 1.20
# Digest::SHA 5.45 6.02
# Encode any 3.17
# Exporter 5.57 5.77
# Fcntl any 1.15
# File::Compare any 1.1007
# File::Copy any 2.39
# File::Glob any 1.37
# File::Path 2.07 2.18
# File::Spec 0.86 3.84
# File::Temp 0.19 0.2311
# File::stat any 1.12
# constant any 1.33
# overload any 1.35
# strict any 1.12
# warnings any 1.58
# warnings::register any 1.04
#
# === Runtime Recommends ===
#
# Module Want Have
# ------------- ---- -------
# Unicode::UTF8 0.58 missing
#
t/00-report-prereqs.t ............. ok
t/basename.t ...................... ok
t/basic.t ......................... ok
t/children.t ...................... ok
t/chmod.t ......................... ok
t/digest.t ........................ ok
t/exception.t ..................... ok
t/exports.t ....................... ok
t/filesystem.t .................... ok
t/has_same_bytes.t ................ ok
t/input_output.t .................. ok
t/input_output_no_PU_UU.t ......... ok
t/input_output_no_UU.t ............ ok
t/locking.t ....................... ok
t/mkdir.t ......................... ok
t/mkpath.t ........................ ok
t/mutable_tree_while_iterating.t .. ok
t/normalize.t ..................... ok
t/overloading.t ................... ok
t/parent.t ........................ ok
t/recurse.t ....................... ok
t/rel-abs.t ....................... ok
t/sig_die.t ....................... ok
t/size.t .......................... ok
t/subsumes.t ...................... ok
t/symlinks.t ...................... ok
t/temp.t .......................... ok
t/visit.t ......................... ok
t/zz-atomic.t ..................... skipped: Test::MockRandom required for atomicity tests
t/zzz-spec.t ...................... ok
All tests successful.
Files=30, Tests=1766, 10 wallclock secs ( 0.01 usr 0.00 sys + 0.52 cusr 0.69 csys = 1.23 CPU)
Result: PASS
------------------------------
PREREQUISITES
------------------------------
Prerequisite modules loaded:
requires:
Module Need Have
--------------------- -------- --------
Carp 0 1.52
constant 0 1.33
Cwd 0 3.84
Digest 1.03 1.20
Digest::SHA 5.45 6.02
Encode 0 3.17
Exporter 5.57 5.77
Fcntl 0 1.15
File::Compare 0 1.1007
File::Copy 0 2.39
File::Glob 0 1.37
File::Path 2.07 2.18
File::Spec 0.86 3.84
File::stat 0 1.12
File::Temp 0.19 0.2311
overload 0 1.35
perl 5.008001 5.036001
strict 0 1.12
warnings 0 1.58
warnings::register 0 1.04
build_requires:
Module Need Have
--------------------- -------- --------
Digest::MD5 0 2.58
ExtUtils::MakeMaker 0 7.64
File::Basename 0 2.85
File::Spec 0.86 3.84
File::Spec::Functions 0 3.84
File::Spec::Unix 0 3.84
File::Temp 0.19 0.2311
lib 0 0.65
open 0 1.13
Test::More 0.96 1.302190
configure_requires:
Module Need Have
--------------------- -------- --------
ExtUtils::MakeMaker 6.17 7.64
perl 5.008001 5.036001
opt_requires:
Module Need Have
--------------------- -------- --------
! Unicode::UTF8 0.58 n/a
opt_build_requires:
Module Need Have
--------------------- -------- --------
CPAN::Meta 2.120900 2.150010
! Test::FailWarnings 0 n/a
! Test::MockRandom 0 n/a
------------------------------
ENVIRONMENT AND OTHER CONTEXT
------------------------------
Environment variables:
COMSPEC = C:\WINDOWS\system32\cmd.exe
LC_CTYPE = en_US.UTF-8
NUMBER_OF_PROCESSORS = 16
PATH = /usr/local/bin:/usr/bin:/cygdrive/c/Program Files (x86)/Common Files/Intel/Shared Libraries/redist/intel64/compiler:/cygdrive/c/Python310/Scripts:/cygdrive/c/Python310:/cygdrive/c/Program Files (x86)/Microsoft SDKs/Azure/CLI2/wbin:/cygdrive/c/Windows/system32:/cygdrive/c/Windows:/cygdrive/c/Windows/System32/Wbem:/cygdrive/c/Windows/System32/WindowsPowerShell/v1.0:/cygdrive/c/Windows/System32/OpenSSH:/cygdrive/c/Program Files/Microsoft SQL Server/150/Tools/Binn:/cygdrive/c/Program Files/Microsoft SQL Server/Client SDK/ODBC/170/Tools/Binn:/cygdrive/c/Program Files/dotnet:/cygdrive/c/Program Files/Git/cmd:/cygdrive/c/Program Files/NVIDIA Corporation/NVIDIA NvDLISR:/cygdrive/c/Program Files (x86)/NVIDIA Corporation/PhysX/Common:/cygdrive/c/Program Files (x86)/Microsoft SQL Server/150/Tools/Binn:/cygdrive/c/Program Files/Microsoft SQL Server/150/DTS/Binn:/cygdrive/c/Program Files (x86)/Microsoft SQL Server/150/DTS/Binn:/cygdrive/c/Program Files/Azure Data Studio/bin:/cygdrive/c/ProgramData/chocolatey/bin:/cygdrive/c/Program Files/nodejs:/cygdrive/c/Program Files (x86)/Vim/vim82:/cygdrive/c/Program Files/PuTTY:/cygdrive/c/Program Files (x86)/GnuPG/bin:/cygdrive/c/WINDOWS/system32:/cygdrive/c/WINDOWS:/cygdrive/c/WINDOWS/System32/Wbem:/cygdrive/c/WINDOWS/System32/WindowsPowerShell/v1.0:/cygdrive/c/WINDOWS/System32/OpenSSH:/cygdrive/c/Program Files/Docker/Docker/resources/bin:/cygdrive/c/Program Files/WireGuard:/cygdrive/c/Program Files/VSCodium/bin:/cygdrive/c/Strawberry/c/bin:/cygdrive/c/Strawberry/perl/site/bin:/cygdrive/c/Strawberry/perl/bin:/cygdrive/c/Program Files/PowerShell/7:/cygdrive/c/Users/roland/AppData/Local/Microsoft/WindowsApps:/cygdrive/c/Users/roland/.dotnet/tools:/cygdrive/c/Users/roland/AppData/Local/Programs/Microsoft VS Code/bin:/cygdrive/c/Program Files/Azure Data Studio/bin:/cygdrive/c/Users/roland/AppData/Roaming/npm:/cygdrive/c/Program Files (x86)/GnuPG/bin:/cygdrive/c/Program Files (x86)/Vim/vim90
PERL5LIB =
PERL5OPT =
PERL5_CPANPLUS_IS_RUNNING = 1751
PERL5_CPAN_IS_RUNNING = 1751
PERL_USE_UNSAFE_INC = 1
PROCESSOR_IDENTIFIER = Intel64 Family 6 Model 141 Stepping 1, GenuineIntel
SHELL = /bin/bash
TEMP = /tmp
TERM = xterm
Perl special variables (and OS-specific diagnostics, for MSWin32):
$^X = /usr/bin/perl
$UID/$EUID = 197609 / 197609
$GID = 197121 197121 197611 545 4 66049 11 15 113 4095 66048 262154 401408
$EGID = 197121 197121 197611 545 4 66049 11 15 113 4095 66048 262154 401408
Perl module toolchain versions installed:
Module Have
------------------- --------
CPAN 2.33
CPAN::Meta 2.150010
Cwd 3.84
ExtUtils::CBuilder 0.280236
ExtUtils::Command 7.64
ExtUtils::Install 2.20
ExtUtils::MakeMaker 7.64
ExtUtils::Manifest 1.73
ExtUtils::ParseXS 3.45
File::Spec 3.84
JSON n/a
JSON::PP 4.16
Module::Build 0.4234
Module::Signature n/a
Parse::CPAN::Meta 2.150010
Test2 1.302190
Test::Harness 3.44
Test::More 1.302190
YAML n/a
YAML::Syck n/a
version 0.9929
--
Summary of my perl5 (revision 5 version 36 subversion 1) configuration:
Platform:
osname=cygwin
osvers=3.4.6-1.x86_64
archname=x86_64-cygwin-threads-multi
uname='cygwin_nt-10.0-22621 walter 3.4.6-1.x86_64 2023-02-14 13:23 utc x86_64 cygwin '
config_args='-des -Dprefix=/usr -Dmksymlinks -Darchname=x86_64-cygwin-threads -Dlibperl=cygperl5_36.dll -Dcc=gcc -Dld=g++ -Accflags=-ggdb -O2 -pipe -Wall -Werror=format-security -D_FORTIFY_SOURCE=2 -fstack-protector-strong --param=ssp-buffer-size=4 -fdebug-prefix-map=/mnt/share/cygpkgs/perl/perl.x86_64/build=/usr/src/debug/perl-5.36.1-1 -fdebug-prefix-map=/mnt/share/cygpkgs/perl/perl.x86_64/src/perl-5.36.1=/usr/src/debug/perl-5.36.1-1 -fwrapv'
hint=recommended
useposix=true
d_sigaction=define
useithreads=define
usemultiplicity=define
use64bitint=define
use64bitall=define
uselongdouble=undef
usemymalloc=n
default_inc_excludes_dot=define
Compiler:
cc='gcc'
ccflags ='-DPERL_USE_SAFE_PUTENV -U__STRICT_ANSI__ -D_GNU_SOURCE -ggdb -O2 -pipe -Wall -Werror=format-security -D_FORTIFY_SOURCE=2 -fstack-protector-strong --param=ssp-buffer-size=4 -fdebug-prefix-map=/mnt/share/cygpkgs/perl/perl.x86_64/build=/usr/src/debug/perl-5.36.1-1 -fdebug-prefix-map=/mnt/share/cygpkgs/perl/perl.x86_64/src/perl-5.36.1=/usr/src/debug/perl-5.36.1-1 -fwrapv -fno-strict-aliasing'
optimize='-O3'
cppflags='-DPERL_USE_SAFE_PUTENV -U__STRICT_ANSI__ -D_GNU_SOURCE -ggdb -O2 -pipe -Wall -Werror=format-security -D_FORTIFY_SOURCE=2 -fstack-protector-strong --param=ssp-buffer-size=4 -fdebug-prefix-map=/mnt/share/cygpkgs/perl/perl.x86_64/build=/usr/src/debug/perl-5.36.1-1 -fdebug-prefix-map=/mnt/share/cygpkgs/perl/perl.x86_64/src/perl-5.36.1=/usr/src/debug/perl-5.36.1-1 -fwrapv -fno-strict-aliasing'
ccversion=''
gccversion='11.3.1 20230310'
gccosandvers=''
intsize=4
longsize=8
ptrsize=8
doublesize=8
byteorder=12345678
doublekind=3
d_longlong=define
longlongsize=8
d_longdbl=define
longdblsize=16
longdblkind=3
ivtype='long'
ivsize=8
nvtype='double'
nvsize=8
Off_t='off_t'
lseeksize=8
alignbytes=8
prototype=define
Linker and Libraries:
ld='g++'
ldflags =' -Wl,--enable-auto-import -Wl,--export-all-symbols -Wl,--enable-auto-image-base -fstack-protector-strong'
libpth=/usr/lib
libs=-lpthread -lnsl -lgdbm -ldb -ldl -lcrypt -lgdbm_compat
perllibs=-lpthread -lnsl -ldl -lcrypt
libc=/usr/lib/libcygwin.a
so=dll
useshrplib=true
libperl=cygperl5_36.dll
gnulibc_version=''
Dynamic Linking:
dlsrc=dl_dlopen.xs
dlext=dll
d_dlsymun=undef
ccdlflags=' '
cccdlflags=' '
lddlflags=' --shared -Wl,--enable-auto-import -Wl,--export-all-symbols -Wl,--enable-auto-image-base -fstack-protector-strong'
Characteristics of this binary (from libperl):
Compile-time options:
HAS_TIMES
MULTIPLICITY
PERLIO_LAYERS
PERL_COPY_ON_WRITE
PERL_DONT_CREATE_GVSV
PERL_OP_PARENT
PERL_PRESERVE_IVUV
PERL_USE_SAFE_PUTENV
USE_64_BIT_ALL
USE_64_BIT_INT
USE_ITHREADS
USE_LARGE_FILES
USE_LOCALE
USE_LOCALE_COLLATE
USE_LOCALE_CTYPE
USE_LOCALE_NUMERIC
USE_LOCALE_TIME
USE_PERLIO
USE_PERL_ATOF
USE_REENTRANT_API
USE_THREAD_SAFE_LOCALE
Locally applied patches:
Cygwin: README
Cygwin: use auto-image-base instead of fixed DLL base address
Cygwin: modify hints
Cygwin: Configure correct libsearch
Cygwin: Configure correct libpth
Cygwin: Win32 correct UTF8 handling
Built under cygwin
Compiled at May 2 2023 20:12:20
%ENV:
PERL5LIB=""
PERL5OPT=""
PERL5_CPANPLUS_IS_RUNNING="1751"
PERL5_CPAN_IS_RUNNING="1751"
PERL_USE_UNSAFE_INC="1"
@INC:
/usr/local/lib/perl5/site_perl/5.36/x86_64-cygwin-threads
/usr/local/share/perl5/site_perl/5.36
/usr/lib/perl5/vendor_perl/5.36/x86_64-cygwin-threads
/usr/share/perl5/vendor_perl/5.36
/usr/lib/perl5/5.36/x86_64-cygwin-threads
/usr/share/perl5/5.36
.