FFI-Platypus v2.08 Perl 5 v5.37.12 darwin-2level

Status
Pass
From
David Cantrell (DCANTRELL)
Dist
FFI-Platypus v2.08
Platform
Perl 5 v5.37.12 darwin-2level
Date
2023-05-24 02:19:24
ID
66aa56e4-f9d9-11ed-9801-b29bcf14400a
This distribution has been tested as part of the CPAN Testers
project, supporting the Perl programming language.  See
http://wiki.cpantesters.org/ for more information or email
questions to cpan-testers-discuss@perl.org


--
Dear Graham Ollis,

This is a computer-generated report for FFI-Platypus-2.08
on perl 5.37.12, created by CPAN-Reporter-1.2019.

Thank you for uploading your work to CPAN.  Congratulations!
All tests were successful.

Sections of this report:

    * Tester comments
    * Program output
    * Prerequisites
    * Environment and other context

------------------------------
TESTER COMMENTS
------------------------------

Additional comments from tester:

this report is from an automated smoke testing program
and was not reviewed by a human for accuracy

------------------------------
PROGRAM OUTPUT
------------------------------

Output from '/usr/bin/make test':

"/Users/cpantesting/cpantesting/perl-blead/bin/perl5.37.12" -MExtUtils::Command::MM -e 'cp_nonempty' -- lib/FFI/Platypus.bs blib/arch/auto/FFI/Platypus/Platypus.bs 644
CC t/ffi/align.c
CC t/ffi/align_array.c
CC t/ffi/align_fixed.c
CC t/ffi/align_string.c
CC t/ffi/basic.c
CC t/ffi/closure.c
CC t/ffi/color.c
CC t/ffi/complex_double.c
CC t/ffi/complex_float.c
CC t/ffi/double.c
CC t/ffi/float.c
CC t/ffi/gh117.c
CC t/ffi/gh174.c
CC t/ffi/longdouble.c
CC t/ffi/memcmp4.c
CC t/ffi/meta.c
CC t/ffi/pointer.c
CC t/ffi/record.c
CC t/ffi/sint16.c
CC t/ffi/sint32.c
CC t/ffi/sint64.c
CC t/ffi/sint8.c
CC t/ffi/string.c
CC t/ffi/string_array.c
CC t/ffi/uint16.c
CC t/ffi/uint32.c
CC t/ffi/uint64.c
CC t/ffi/uint8.c
CC t/ffi/variadic.c
LD t/ffi/libtest.dylib
PERL_DL_NONLAZY=1 "/Users/cpantesting/cpantesting/perl-blead/bin/perl5.37.12" "-MExtUtils::Command::MM" "-MTest::Harness" "-e" "undef *Test::Harness::Switches; test_harness(0, 'blib/lib', 'blib/arch')" t/*.t
# 
# 
# 
# HARNESS_ACTIVE=1
# HARNESS_VERSION=3.44
# PERL="/Users/cpantesting/cpantesting/perl-blead/bin/perl5.37.12"
# PERL5LIB=/Users/cpantesting/cpantesting/perl-blead/.cpan/build/FFI-Platypus-2.08-0/blib/lib:/Users/cpantesting/cpantesting/perl-blead/.cpan/build/FFI-Platypus-2.08-0/blib/arch:
# PERL5OPT=
# PERL5_CPANPLUS_IS_RUNNING=66494
# PERL5_CPAN_IS_RUNNING=66494
# PERLBREW_HOME=/Users/cpantesting/.perlbrew
# PERLBREW_MANPATH=/Users/cpantesting/perl5/perlbrew/perls/perl-5.32.0/man
# PERLBREW_PATH=/Users/cpantesting/perl5/perlbrew/bin:/Users/cpantesting/perl5/perlbrew/perls/perl-5.32.0/bin
# PERLBREW_PERL=perl-5.32.0
# PERLBREW_ROOT=/Users/cpantesting/perl5/perlbrew
# PERLBREW_SHELLRC_VERSION=0.94
# PERLBREW_VERSION=0.94
# PERLVER=blead
# PERL_DL_NONLAZY=1
# PERL_INLINE_DIRECTORY=/Users/cpantesting/.Inline-blead
# PERL_MM_USE_DEFAULT=1
# PERL_USE_UNSAFE_INC=0
# SHELL=/bin/bash
# 
# 
# 
# PERL5LIB path
# /Users/cpantesting/cpantesting/perl-blead/.cpan/build/FFI-Platypus-2.08-0/blib/lib
# /Users/cpantesting/cpantesting/perl-blead/.cpan/build/FFI-Platypus-2.08-0/blib/arch
# 
# 
# 
# perl                  5.037012 darwin darwin-2level
# Alien::Base           2.80
# Alien::FFI            -
# Capture::Tiny         0.48
# Devel::Hide           0.0015
# ExtUtils::CBuilder    0.280238
# ExtUtils::MakeMaker   7.70
# ExtUtils::ParseXS     3.51
# FFI::CheckLib         0.31
# File::Spec::Functions 3.88
# IPC::Cmd              1.04
# JSON::PP              4.16
# List::Util            1.63
# Math::LongDouble      -
# PkgConfig             -
# Test2::API            1.302194
# Test2::V0             0.000155
# autodie               2.36
# constant              1.33
# forks                 -
# parent                0.241
# 
# 
# 
# mode : system
# Alien::FFI::pkgconfig->VERSION      = 
# Alien::FFI::pkgconfig->install_type = system
# Alien::FFI::pkgconfig->cflags       = -I/usr/local/Cellar/libffi/3.4.4/include
# Alien::FFI::pkgconfig->libs         = -L/usr/local/Cellar/libffi/3.4.4/lib -lffi
# Alien::FFI::pkgconfig->version      = 3.4.4
# 
# 
# 
# ffi.platypus.memory.strdup_impl =libc
# ffi.platypus.memory.strndup_impl=libc
# 
# 
# 
# Types:
#   double   : double, float complex
#   float    : float
#   longdouble : double complex, long double, long double complex
#   sint16   : int16_t, short, signed short
#   sint32   : blksize_t, dev_t, int, int32_t, senum, signed int, wchar_t, wint_t
#   sint64   : blkcnt_t, int64_t, intmax_t, intptr_t, long, long long, off_t, ptrdiff_t, signed long, signed long long, ssize_t, time_t
#   sint8    : char, int8_t, signed char
#   uint16   : mode_t, nlink_t, uint16_t, unsigned short, ushort
#   uint32   : enum, gid_t, uid_t, uint, uint32_t, unsigned int
#   uint64   : ino_t, size_t, uint64_t, uintmax_t, uintptr_t, ulong, unsigned long, unsigned long long
#   uint8    : bool, uchar, uint8_t, unsigned char
# 
# 
# 
# ABIs:
#   default_abi          2
#   efi64                3
#   gnuw64               4
#   unix64               2
#   win64                3
# 
# 
# 
# Probes:
#   variadic             1
#   complex              1
#   bigendian64          0
#   alloca               1
#   bigendian            0
#   strnlen              1
#   abi                  1
#   recordvalue          1
#   longdouble           1
# 
# 
# 
# [PLATFORM]
# osname            : darwin
# cc                : cc
# cxx               : c++
# cxxld             : c++
# for               : gfortran
# ld                : cc
# ccflags           : -fno-common -DPERL_DARWIN -mmacosx-version-min=12.6 -DNO_POSIX_2008_LOCALE -fno-strict-aliasing -pipe -fstack-protector-strong -I/usr/local/include -O3 -I/Users/cpantesting/cpantesting/perl-blead/.cpan/build/FFI-Platypus-2.08-0/blib/lib/auto/share/dist/FFI-Platypus/include
# ldflags           : -mmacosx-version-min=12.6 -dynamiclib -undefined dynamic_lookup -L/usr/local/lib -fstack-protector-strong
# object suffix     : .o
# library prefix    : lib
# library suffix    : .dylib,.bundle
# cc mm works       : -MM
# 
# 
# 
t/00_diag.t .............................. ok
t/ffi_build.t ............................ ok
t/ffi_build_file_base.t .................. ok
t/ffi_build_file_c.t ..................... ok
t/ffi_build_file_cxx.t ................... ok
t/ffi_build_file_library.t ............... ok
t/ffi_build_file_object.t ................ ok
t/ffi_build_mm.t ......................... ok
t/ffi_build_platform.t ................... ok
t/ffi_build_plugin.t ..................... ok
t/ffi_build_plugindata.t ................. ok
t/ffi_platypus.t ......................... ok
t/ffi_platypus_api.t ..................... ok
t/ffi_platypus_buffer.t .................. ok
t/ffi_platypus_bundle.t .................. ok
t/ffi_platypus_closure.t ................. ok
t/ffi_platypus_constant.t ................ ok
t/ffi_platypus_dl.t ...................... ok
t/ffi_platypus_function.t ................ ok
t/ffi_platypus_function_wrapper.t ........ ok
t/ffi_platypus_internal.t ................ ok
t/ffi_platypus_lang.t .................... ok
t/ffi_platypus_lang_asm.t ................ ok
t/ffi_platypus_lang_c.t .................. ok
t/ffi_platypus_lang_win32.t .............. ok
t/ffi_platypus_legacy.t .................. ok
t/ffi_platypus_memory.t .................. ok
t/ffi_platypus_record.t .................. ok
t/ffi_platypus_record_meta.t ............. ok
t/ffi_platypus_record_tiearray.t ......... ok
t/ffi_platypus_shareconfig.t ............. ok
t/ffi_platypus_type.t .................... ok
t/ffi_platypus_type_pointersizebuffer.t .. ok
t/ffi_platypus_type_stringarray.t ........ ok
t/ffi_platypus_type_stringpointer.t ...... ok
t/ffi_platypus_type_widestring.t ......... ok
t/ffi_platypus_typeparser.t .............. ok
t/ffi_platypus_typeparser_version0.t ..... ok
t/ffi_platypus_typeparser_version1.t ..... ok
t/ffi_platypus_typeparser_version2.t ..... ok
t/ffi_probe.t ............................ ok
t/ffi_probe_runner.t ..................... ok
t/ffi_probe_runner_builder.t ............. ok
t/ffi_probe_runner_result.t .............. ok
t/ffi_temp.t ............................. ok
t/forks.t ................................ skipped: Test requires forks
t/gh117.t ................................ ok
t/gh129.t ................................ ok
t/gh323.t ................................ ok
t/memory.t ............................... skipped: tested only in CI
t/threads.t .............................. skipped: Test requires a threading Perl
t/type_complex_double.t .................. ok
t/type_complex_float.t ................... ok
t/type_custom.t .......................... ok
t/type_double.t .......................... ok
t/type_float.t ........................... ok
t/type_longdouble.t ...................... ok
t/type_longdouble__array.t ............... ok
t/type_longdouble__hide.t ................ ok
t/type_longdouble__ptr.t ................. ok
t/type_opaque.t .......................... ok
t/type_record.t .......................... ok
t/type_record_value.t .................... ok
t/type_sint16.t .......................... ok
t/type_sint32.t .......................... ok
t/type_sint64.t .......................... ok
t/type_sint8.t ........................... ok
t/type_string.t .......................... ok
t/type_uint16.t .......................... ok
t/type_uint32.t .......................... ok
t/type_uint64.t .......................... ok
t/type_uint8.t ........................... ok
All tests successful.
Files=72, Tests=319, 61 wallclock secs ( 0.81 usr  0.36 sys + 41.48 cusr 11.81 csys = 54.46 CPU)
Result: PASS

------------------------------
PREREQUISITES
------------------------------

Prerequisite modules loaded:

requires:

    Module                Need     Have    
    --------------------- -------- --------
    autodie               0        2.36    
    Capture::Tiny         0        0.48    
    constant              1.32     1.33    
    ExtUtils::MakeMaker   7.12     7.70    
    FFI::CheckLib         0.05     0.31    
    File::Spec::Functions 0        3.88    
    IPC::Cmd              0        1.04    
    JSON::PP              0        4.16    
    List::Util            1.45     1.63    
    parent                0        0.241   
    perl                  5.008004 5.037012

build_requires:

    Module                Need     Have    
    --------------------- -------- --------
    Capture::Tiny         0        0.48    
    ExtUtils::CBuilder    0        0.280238
    Test2::API            1.302015 1.302194
    Test2::V0             0.000121 0.000155

configure_requires:

    Module                Need     Have    
    --------------------- -------- --------
    Capture::Tiny         0        0.48    
    ExtUtils::MakeMaker   7.12     7.70    
    ExtUtils::ParseXS     3.30     3.51    
    IPC::Cmd              0        1.04    
    JSON::PP              0        4.16    
    parent                0        0.241   
    perl                  5.006    5.037012


------------------------------
ENVIRONMENT AND OTHER CONTEXT
------------------------------

Environment variables:

    AUTOMATED_TESTING = 1
    NONINTERACTIVE_TESTING = 1
    PATH = /Users/cpantesting/perl5/perlbrew/bin:/Users/cpantesting/perl5/perlbrew/perls/perl-5.32.0/bin:/usr/local/bin:/usr/bin:/bin:/usr/sbin:/sbin:/Library/Apple/usr/bin:/Users/cpantesting/.cargo/bin
    PERL = blead
    PERL5LIB = 
    PERL5OPT = 
    PERL5_CPANPLUS_IS_RUNNING = 66494
    PERL5_CPAN_IS_RUNNING = 66494
    PERLBREW_HOME = /Users/cpantesting/.perlbrew
    PERLBREW_MANPATH = /Users/cpantesting/perl5/perlbrew/perls/perl-5.32.0/man
    PERLBREW_PATH = /Users/cpantesting/perl5/perlbrew/bin:/Users/cpantesting/perl5/perlbrew/perls/perl-5.32.0/bin
    PERLBREW_PERL = perl-5.32.0
    PERLBREW_ROOT = /Users/cpantesting/perl5/perlbrew
    PERLBREW_SHELLRC_VERSION = 0.94
    PERLBREW_VERSION = 0.94
    PERLVER = blead
    PERL_INLINE_DIRECTORY = /Users/cpantesting/.Inline-blead
    PERL_MM_USE_DEFAULT = 1
    PERL_USE_UNSAFE_INC = 0
    SHELL = /bin/bash
    TERM = screen

Perl special variables (and OS-specific diagnostics, for MSWin32):

    $^X = /Users/cpantesting/cpantesting/perl-blead/bin/perl5.37.12
    $UID/$EUID = 503 / 503
    $GID = 20 20 12 61 703 702 701 100
    $EGID = 20 20 12 61 703 702 701 100

Perl module toolchain versions installed:

    Module              Have    
    ------------------- --------
    CPAN                2.36    
    CPAN::Meta          2.150010
    Cwd                 3.89    
    ExtUtils::CBuilder  0.280238
    ExtUtils::Command   7.70    
    ExtUtils::Install   2.22    
    ExtUtils::MakeMaker 7.70    
    ExtUtils::Manifest  1.73    
    ExtUtils::ParseXS   3.51    
    File::Spec          3.88    
    JSON                4.10    
    JSON::PP            4.16    
    Module::Build       0.4234  
    Module::Signature   n/a     
    Parse::CPAN::Meta   2.150010
    Test2               1.302194
    Test::Harness       3.44    
    Test::More          1.302194
    YAML                1.30    
    YAML::Syck          n/a     
    version             0.9929  


--

Summary of my perl5 (revision 5 version 37 subversion 12) configuration:
  Commit id: 5a3ae03cdc4653168e2551b9e9cb185e73d35aee
  Platform:
    osname=darwin
    osvers=21.6.0
    archname=darwin-2level
    uname='darwin harrow.local 21.6.0 darwin kernel version 21.6.0: mon aug 22 20:17:10 pdt 2022; root:xnu-8020.140.49~2release_x86_64 x86_64 '
    config_args='-de -Dprefix=/Users/cpantesting/cpantesting/perl-blead -Dusedevel'
    hint=recommended
    useposix=true
    d_sigaction=define
    useithreads=undef
    usemultiplicity=undef
    use64bitint=define
    use64bitall=define
    uselongdouble=undef
    usemymalloc=n
    default_inc_excludes_dot=define
  Compiler:
    cc='cc'
    ccflags ='-fno-common -DPERL_DARWIN -mmacosx-version-min=12.6 -DNO_POSIX_2008_LOCALE -fno-strict-aliasing -pipe -fstack-protector-strong -I/usr/local/include'
    optimize='-O3'
    cppflags='-fno-common -DPERL_DARWIN -mmacosx-version-min=12.6 -DNO_POSIX_2008_LOCALE -fno-strict-aliasing -pipe -fstack-protector-strong -I/usr/local/include'
    ccversion=''
    gccversion='Apple LLVM 14.0.0 (clang-1400.0.29.202)'
    gccosandvers=''
    intsize=4
    longsize=8
    ptrsize=8
    doublesize=8
    byteorder=12345678
    doublekind=3
    d_longlong=define
    longlongsize=8
    d_longdbl=define
    longdblsize=16
    longdblkind=3
    ivtype='long'
    ivsize=8
    nvtype='double'
    nvsize=8
    Off_t='off_t'
    lseeksize=8
    alignbytes=8
    prototype=define
  Linker and Libraries:
    ld='cc'
    ldflags =' -mmacosx-version-min=12.6 -fstack-protector-strong -L/usr/local/lib'
    libpth=/usr/local/lib /Applications/Xcode.app/Contents/Developer/Toolchains/XcodeDefault.xctoolchain/usr/lib/clang/14.0.0/lib /Applications/Xcode.app/Contents/Developer/Platforms/MacOSX.platform/Developer/SDKs/MacOSX.sdk/usr/lib /Applications/Xcode.app/Contents/Developer/Toolchains/XcodeDefault.xctoolchain/usr/lib /usr/lib
    libs=-lgdbm
    perllibs=
    libc=
    so=dylib
    useshrplib=false
    libperl=libperl.a
    gnulibc_version=''
  Dynamic Linking:
    dlsrc=dl_dlopen.xs
    dlext=bundle
    d_dlsymun=undef
    ccdlflags=' '
    cccdlflags=' '
    lddlflags=' -mmacosx-version-min=12.6 -bundle -undefined dynamic_lookup -L/usr/local/lib -fstack-protector-strong'


Characteristics of this binary (from libperl): 
  Compile-time options:
    HAS_LONG_DOUBLE
    HAS_STRTOLD
    HAS_TIMES
    PERLIO_LAYERS
    PERL_COPY_ON_WRITE
    PERL_DONT_CREATE_GVSV
    PERL_HASH_FUNC_SIPHASH13
    PERL_HASH_USE_SBOX32
    PERL_MALLOC_WRAP
    PERL_OP_PARENT
    PERL_PRESERVE_IVUV
    PERL_USE_DEVEL
    PERL_USE_SAFE_PUTENV
    USE_64_BIT_ALL
    USE_64_BIT_INT
    USE_LARGE_FILES
    USE_LOCALE
    USE_LOCALE_COLLATE
    USE_LOCALE_CTYPE
    USE_LOCALE_NUMERIC
    USE_LOCALE_TIME
    USE_PERLIO
    USE_PERL_ATOF
  Built under darwin
  Compiled at May 20 2023 15:00:28
  %ENV:
    PERL="blead"
    PERL5LIB=""
    PERL5OPT=""
    PERL5_CPANPLUS_IS_RUNNING="66494"
    PERL5_CPAN_IS_RUNNING="66494"
    PERLBREW_HOME="/Users/cpantesting/.perlbrew"
    PERLBREW_MANPATH="/Users/cpantesting/perl5/perlbrew/perls/perl-5.32.0/man"
    PERLBREW_PATH="/Users/cpantesting/perl5/perlbrew/bin:/Users/cpantesting/perl5/perlbrew/perls/perl-5.32.0/bin"
    PERLBREW_PERL="perl-5.32.0"
    PERLBREW_ROOT="/Users/cpantesting/perl5/perlbrew"
    PERLBREW_SHELLRC_VERSION="0.94"
    PERLBREW_VERSION="0.94"
    PERLVER="blead"
    PERL_INLINE_DIRECTORY="/Users/cpantesting/.Inline-blead"
    PERL_MM_USE_DEFAULT="1"
    PERL_USE_UNSAFE_INC="0"
  @INC:
    /Users/cpantesting/cpantesting/perl-blead/lib/site_perl/5.37.12/darwin-2level
    /Users/cpantesting/cpantesting/perl-blead/lib/site_perl/5.37.12
    /Users/cpantesting/cpantesting/perl-blead/lib/5.37.12/darwin-2level
    /Users/cpantesting/cpantesting/perl-blead/lib/5.37.12