CHI v0.61 Perl 5 v5.39.9 MSWin32-x64-multi-thread
- Status
- Pass
- From
- twata
- Dist
-
CHI v0.61
- Platform
- Perl 5 v5.39.9 MSWin32-x64-multi-thread
- Date
- 2024-06-29 15:14:21
- ID
- 63dbf4cc-72be-1014-adc6-b7723c202505
This distribution has been tested as part of the CPAN Testers
project, supporting the Perl programming language. See
http://wiki.cpantesters.org/ for more information or email
questions to cpan-testers-discuss@perl.org
--
Dear Alexander Becker,
This is a computer-generated report for CHI-0.61
on perl 5.39.9, created by CPAN-Reporter-1.2019.
Thank you for uploading your work to CPAN. Congratulations!
All tests were successful.
Sections of this report:
* Tester comments
* Program output
* Prerequisites
* Environment and other context
------------------------------
TESTER COMMENTS
------------------------------
Additional comments from tester:
none provided
------------------------------
PROGRAM OUTPUT
------------------------------
Output from 'C:\winlibs-x86_64-posix-seh-gcc-13.2.0-llvm-17.0.4-mingw-w64msvcrt-11.0.1-r2\mingw64\bin\gmake.EXE test':
"C:\WinLibs\Perl-5.39.9\bin\perl.exe" "-MExtUtils::Command::MM" "-MTest::Harness" "-e" "undef *Test::Harness::Switches; test_harness(0, 'blib\lib', 'blib\arch')" t/*.t
# Testing CHI 0.61, Perl 5.039009, C:\WinLibs\Perl-5.39.9\bin\perl.exe
t/00-load.t ............................. ok
t/author-03-pod.t ....................... skipped: these tests are for testing by the author
t/author-file-driver.t .................. skipped: these tests are for testing by the author
t/author-no-data-serializer.t ........... skipped: these tests are for testing by the author
t/author-RequiredModules.t .............. skipped: these tests are for testing by the author
t/Bugs.t ................................ ok
t/Config.t .............................. ok
t/Constants.t ........................... ok
t/Driver-Memory.t ....................... ok
t/Driver-RawMemory.t .................... ok
t/GetError.t ............................ ok
t/Initialize.t .......................... ok
t/release-dependent.t ................... skipped: these tests are for release candidate testing
t/Sanity.t .............................. ok
t/SetError.t ............................ ok
t/smoke-Driver-CacheCache.t ............. skipped: these tests are for "smoke bot" testing
t/smoke-Driver-FastMmap.t ............... skipped: these tests are for "smoke bot" testing
t/smoke-Driver-File-DepthZero.t ......... skipped: these tests are for "smoke bot" testing
t/smoke-Driver-File.t ................... skipped: these tests are for "smoke bot" testing
t/smoke-Driver-NonMoose.t ............... skipped: these tests are for "smoke bot" testing
t/smoke-Driver-Subcache-l1_cache.t ...... skipped: these tests are for "smoke bot" testing
t/smoke-Driver-Subcache-mirror_cache.t .. skipped: these tests are for "smoke bot" testing
t/smoke-Null.t .......................... skipped: these tests are for "smoke bot" testing
t/Subcache.t ............................ ok
t/Subclass.t ............................ ok
t/Util.t ................................ ok
All tests successful.
Files=26, Tests=1787, 12 wallclock secs ( 0.28 usr + 0.09 sys = 0.38 CPU)
Result: PASS
------------------------------
PREREQUISITES
------------------------------
Prerequisite modules loaded:
requires:
Module Need Have
------------------------------- -------- --------
Carp::Assert 0.20 0.22
Class::Load 0 0.25
Data::UUID 0 1.227
Digest::JHash 0 0.10
Digest::MD5 0 2.58_01
File::Spec 0.80 3.90
Hash::MoreUtils 0 0.06
JSON::MaybeXS 1.003003 1.004005
List::MoreUtils 0.13 0.430
Log::Any 0.08 1.716
Moo 1.003 2.005005
MooX::Types::MooseLike 0.23 0.29
MooX::Types::MooseLike::Base 0 0.29
MooX::Types::MooseLike::Numeric 0 1.03
Storable 0 3.32
String::RewritePrefix 0 0.009
Task::Weaken 0 1.06
Time::Duration 1.06 1.21
Time::Duration::Parse 0.03 0.16
Time::HiRes 1.30 1.9777
Try::Tiny 0.05 0.31
build_requires:
Module Need Have
------------------------------- -------- --------
Cache::FileCache 0 0
Date::Parse 0 2.33
ExtUtils::MakeMaker 0 7.70
Module::Mask 0 0.06
Test::Builder 0 1.302199
Test::Class 0 0.52
Test::Deep 0 1.204
Test::Exception 0 0.43
Test::More 0 1.302199
Test::Warn 0 0.37
configure_requires:
Module Need Have
------------------------------- -------- --------
ExtUtils::MakeMaker 0 7.70
------------------------------
ENVIRONMENT AND OTHER CONTEXT
------------------------------
Environment variables:
COMSPEC = C:\WINDOWS\system32\cmd.exe
LC_ALL = C
NONINTERACTIVE_TESTING = 1
NUMBER_OF_PROCESSORS = 4
PATH = C:\home\acorn5399\perl5\bin;C:\WinLibs\ext\bin;C:\WinLibs\Perl-5.39.9\bin;C:\winlibs-x86_64-posix-seh-gcc-13.2.0-llvm-17.0.4-mingw-w64msvcrt-11.0.1-r2\mingw64\bin;C:\WinLibs\ext\openssl\bin;C:\WINDOWS\system32;C:\WINDOWS;C:\WINDOWS\System32\Wbem;C:\WINDOWS\System32\WindowsPowerShell\v1.0
PERL5LIB = C:\home\acorn5399\perl5\lib\perl5
PERL5OPT =
PERL5_CPANPLUS_IS_RUNNING = 3376
PERL5_CPAN_IS_RUNNING = 3376
PERL_LOCAL_LIB_ROOT = C:\home\acorn5399\perl5
PERL_MB_OPT = --install_base "C:\\home\\acorn5399\\perl5"
PERL_MM_OPT = INSTALL_BASE=C:\\home\\acorn5399\\perl5
PERL_MM_USE_DEFAULT = 1
PERL_USE_UNSAFE_INC = 1
PROCESSOR_IDENTIFIER = Intel64 Family 6 Model 58 Stepping 9, GenuineIntel
TEMP = C:\Users\USER\AppData\Local\Temp
TERM = dumb
Perl special variables (and OS-specific diagnostics, for MSWin32):
$^X = C:\WinLibs\Perl-5.39.9\bin\perl.exe
$UID/$EUID = 0 / 0
$GID = 0
$EGID = 0
Win32::GetOSName = Win8.1
Win32::GetOSVersion = , 6, 3, 9600, 2, 0, 0, 256, 1
Win32::FsType = NTFS
Win32::IsAdminUser = 0
Perl module toolchain versions installed:
Module Have
------------------- --------
CPAN 2.36
CPAN::Meta 2.150010
Cwd 3.90
ExtUtils::CBuilder 0.280240
ExtUtils::Command 7.70
ExtUtils::Install 2.22
ExtUtils::MakeMaker 7.70
ExtUtils::Manifest 1.75
ExtUtils::ParseXS 3.51
File::Spec 3.90
JSON 4.10
JSON::PP 4.16
Module::Build 0.4234
Module::Signature n/a
Parse::CPAN::Meta 2.150010
Test2 1.302199
Test::Harness 3.49_02
Test::More 1.302199
YAML 1.31
YAML::Syck 1.34
version 0.9932
--
Summary of my perl5 (revision 5 version 39 subversion 9) configuration:
Platform:
osname=MSWin32
osvers=6.3.9600
archname=MSWin32-x64-multi-thread
uname=''
config_args='undef'
hint=recommended
useposix=true
d_sigaction=undef
useithreads=define
usemultiplicity=define
use64bitint=define
use64bitall=undef
uselongdouble=undef
usemymalloc=n
default_inc_excludes_dot=define
Compiler:
cc='gcc'
ccflags ='-std=c99 -DWIN32 -DWIN64 -DPERL_TEXTMODE_SCRIPTS -DMULTIPLICITY -DPERL_IMPLICIT_SYS -DUSE_PERLIO -D__USE_MINGW_ANSI_STDIO -fwrapv -fno-strict-aliasing -mms-bitfields'
optimize='-Os'
cppflags='-DWIN32'
ccversion=''
gccversion='13.2.0'
gccosandvers=''
intsize=4
longsize=4
ptrsize=8
doublesize=8
byteorder=12345678
doublekind=3
d_longlong=define
longlongsize=8
d_longdbl=define
longdblsize=16
longdblkind=3
ivtype='long long'
ivsize=8
nvtype='double'
nvsize=8
Off_t='long long'
lseeksize=8
alignbytes=8
prototype=define
Linker and Libraries:
ld='g++'
ldflags ='-s -L"C:\WinLibs\Perl-5.39.9\lib\CORE" -L"C:\winlibs-x86_64-posix-seh-gcc-13.2.0-llvm-17.0.4-mingw-w64msvcrt-11.0.1-r2\mingw64\lib" -L"C:\winlibs-x86_64-posix-seh-gcc-13.2.0-llvm-17.0.4-mingw-w64msvcrt-11.0.1-r2\mingw64\x86_64-w64-mingw32\lib" -L"C:\winlibs-x86_64-posix-seh-gcc-13.2.0-llvm-17.0.4-mingw-w64msvcrt-11.0.1-r2\mingw64\lib\gcc\x86_64-w64-mingw32\13.2.0"'
libpth=C:\winlibs-x86_64-posix-seh-gcc-13.2.0-llvm-17.0.4-mingw-w64msvcrt-11.0.1-r2\mingw64\lib C:\winlibs-x86_64-posix-seh-gcc-13.2.0-llvm-17.0.4-mingw-w64msvcrt-11.0.1-r2\mingw64\x86_64-w64-mingw32\lib C:\winlibs-x86_64-posix-seh-gcc-13.2.0-llvm-17.0.4-mingw-w64msvcrt-11.0.1-r2\mingw64\lib\gcc\x86_64-w64-mingw32\13.2.0
libs= -lmoldname -lkernel32 -luser32 -lgdi32 -lwinspool -lcomdlg32 -ladvapi32 -lshell32 -lole32 -loleaut32 -lnetapi32 -luuid -lws2_32 -lmpr -lwinmm -lversion -lodbc32 -lodbccp32 -lcomctl32
perllibs= -lmoldname -lkernel32 -luser32 -lgdi32 -lwinspool -lcomdlg32 -ladvapi32 -lshell32 -lole32 -loleaut32 -lnetapi32 -luuid -lws2_32 -lmpr -lwinmm -lversion -lodbc32 -lodbccp32 -lcomctl32
libc=-lmsvcrt
so=dll
useshrplib=true
libperl=libperl539.a
gnulibc_version=''
Dynamic Linking:
dlsrc=dl_win32.xs
dlext=dll
d_dlsymun=undef
ccdlflags=' '
cccdlflags=' '
lddlflags='-shared -s -L"C:\WinLibs\Perl-5.39.9\lib\CORE" -L"C:\winlibs-x86_64-posix-seh-gcc-13.2.0-llvm-17.0.4-mingw-w64msvcrt-11.0.1-r2\mingw64\lib" -L"C:\winlibs-x86_64-posix-seh-gcc-13.2.0-llvm-17.0.4-mingw-w64msvcrt-11.0.1-r2\mingw64\x86_64-w64-mingw32\lib" -L"C:\winlibs-x86_64-posix-seh-gcc-13.2.0-llvm-17.0.4-mingw-w64msvcrt-11.0.1-r2\mingw64\lib\gcc\x86_64-w64-mingw32\13.2.0"'
Characteristics of this binary (from libperl):
Compile-time options:
HAS_LONG_DOUBLE
HAS_TIMES
HAVE_INTERP_INTERN
MULTIPLICITY
PERLIO_LAYERS
PERL_COPY_ON_WRITE
PERL_DONT_CREATE_GVSV
PERL_HASH_FUNC_SIPHASH13
PERL_HASH_USE_SBOX32
PERL_IMPLICIT_SYS
PERL_MALLOC_WRAP
PERL_OP_PARENT
PERL_PRESERVE_IVUV
PERL_USE_SAFE_PUTENV
USE_64_BIT_INT
USE_ITHREADS
USE_LARGE_FILES
USE_LOCALE
USE_LOCALE_COLLATE
USE_LOCALE_CTYPE
USE_LOCALE_NUMERIC
USE_LOCALE_TIME
USE_PERLIO
USE_PERL_ATOF
Built under MSWin32
Compiled at Mar 23 2024 13:57:21
%ENV:
PERL5LIB="C:\home\acorn5399\perl5\lib\perl5"
PERL5_CPANPLUS_IS_RUNNING="3376"
PERL5_CPAN_IS_RUNNING="3376"
PERL_LOCAL_LIB_ROOT="C:\home\acorn5399\perl5"
PERL_MB_OPT="--install_base "C:\\home\\acorn5399\\perl5""
PERL_MM_OPT="INSTALL_BASE=C:\\home\\acorn5399\\perl5"
PERL_MM_USE_DEFAULT="1"
PERL_USE_UNSAFE_INC="1"
@INC:
C:\home\acorn5399\perl5\lib\perl5/MSWin32-x64-multi-thread
C:\home\acorn5399\perl5\lib\perl5
C:/WinLibs/Perl-5.39.9/site/lib
C:/WinLibs/Perl-5.39.9/lib
.