Path-Tiny v0.144 Perl 5 v5.26.3 x86_64-linux-thread-multi
- Status
- Pass
- From
- Scott Baker
- Dist
-
Path-Tiny v0.144
- Platform
- Perl 5 v5.26.3 x86_64-linux-thread-multi
- Date
- 2023-02-01 16:56:36
- ID
- 63c9b54e-a251-11ed-830a-403497dcc824
This distribution has been tested as part of the CPAN Testers
project, supporting the Perl programming language. See
http://wiki.cpantesters.org/ for more information or email
questions to cpan-testers-discuss@perl.org
--
Dear DAGOLDEN,
This is a computer-generated report for Path-Tiny-0.144
on perl 5.26.3, created by App::cpanminus::reporter 0.18 (1.7044).
Thank you for uploading your work to CPAN. Congratulations!
All tests were successful.
Sections of this report:
* Tester comments
* Program output
* Prerequisites
* Environment and other context
------------------------------
TESTER COMMENTS
------------------------------
Additional comments from tester:
none provided
------------------------------
PROGRAM OUTPUT
------------------------------
Output from '':
Building and testing Path-Tiny-0.144
cp lib/Path/Tiny.pm blib/lib/Path/Tiny.pm
Manifying 1 pod document
PERL_DL_NONLAZY=1 "/usr/bin/perl" "-MExtUtils::Command::MM" "-MTest::Harness" "-e" "undef *Test::Harness::Switches; test_harness(0, 'blib/lib', 'blib/arch')" t/*.t
#
# Versions for all modules listed in MYMETA.json (including optional ones):
#
# === Configure Requires ===
#
# Module Want Have
# ------------------- ---- ----
# ExtUtils::MakeMaker 6.17 7.34
#
# === Configure Suggests ===
#
# Module Want Have
# -------- ------- -------
# JSON::PP 2.27300 2.97001
#
# === Build Requires ===
#
# Module Want Have
# ------------------- ---- ----
# ExtUtils::MakeMaker any 7.34
#
# === Test Requires ===
#
# Module Want Have
# --------------------- ---- --------
# Digest::MD5 any 2.55
# ExtUtils::MakeMaker any 7.34
# File::Basename any 2.85
# File::Spec 0.86 3.74
# File::Spec::Functions any 3.74
# File::Spec::Unix any 3.74
# File::Temp 0.19 0.2306
# Test::More 0.96 1.302135
# lib any 0.64
# open any 1.11
#
# === Test Recommends ===
#
# Module Want Have
# ------------------ -------- --------
# CPAN::Meta 2.120900 2.150010
# Test::FailWarnings any missing
# Test::MockRandom any missing
#
# === Runtime Requires ===
#
# Module Want Have
# ------------------ ---- ------
# Carp any 1.42
# Cwd any 3.74
# Digest 1.03 1.17
# Digest::SHA 5.45 6.02
# Encode any 2.97
# Exporter 5.57 5.72
# Fcntl any 1.13
# File::Compare any 1.1006
# File::Copy any 2.32
# File::Glob any 1.28
# File::Path 2.07 2.15
# File::Spec 0.86 3.74
# File::Temp 0.19 0.2306
# File::stat any 1.07
# constant any 1.33
# overload any 1.28
# strict any 1.11
# warnings any 1.37
# warnings::register any 1.04
#
# === Runtime Recommends ===
#
# Module Want Have
# ------------- ---- -------
# Unicode::UTF8 0.58 missing
#
t/00-report-prereqs.t ............. ok
t/basename.t ...................... ok
t/basic.t ......................... ok
t/children.t ...................... ok
t/chmod.t ......................... ok
t/digest.t ........................ ok
t/exception.t ..................... ok
t/exports.t ....................... ok
t/filesystem.t .................... ok
t/has_same_bytes.t ................ ok
t/input_output.t .................. ok
t/input_output_no_PU_UU.t ......... ok
t/input_output_no_UU.t ............ ok
t/locking.t ....................... ok
t/mkdir.t ......................... ok
t/mkpath.t ........................ ok
t/mutable_tree_while_iterating.t .. ok
t/normalize.t ..................... ok
t/overloading.t ................... ok
t/parent.t ........................ ok
t/recurse.t ....................... ok
t/rel-abs.t ....................... ok
t/sig_die.t ....................... ok
t/size.t .......................... ok
t/subsumes.t ...................... ok
t/symlinks.t ...................... ok
t/temp.t .......................... ok
t/visit.t ......................... ok
t/zz-atomic.t ..................... skipped: Test::MockRandom required for atomicity tests
t/zzz-spec.t ...................... ok
All tests successful.
Files=30, Tests=1769, 4 wallclock secs ( 0.21 usr 0.06 sys + 3.31 cusr 0.49 csys = 4.07 CPU)
Result: PASS
------------------------------
PREREQUISITES
------------------------------
Prerequisite modules loaded:
runtime:
Module Need Have
------------------- -------- --------
Carp 0 1.42
constant 0 1.33
Cwd 0 3.74
Digest 1.03 1.17
Digest::SHA 5.45 6.02
Encode 0 2.97
Exporter 5.57 5.72
Fcntl 0 1.13
File::Compare 0 1.1006
File::Copy 0 2.32
File::Glob 0 1.28
File::Path 2.07 2.15
File::Spec 0.86 3.74
File::stat 0 1.07
File::Temp 0.19 0.2306
overload 0 1.28
perl 5.008001 5.026003
strict 0 1.11
warnings 0 1.37
warnings::register 0 1.04
build:
Module Need Have
------------------- -------- --------
ExtUtils::MakeMaker 0 7.34
configure:
Module Need Have
------------------- -------- --------
ExtUtils::MakeMaker 6.17 7.34
------------------------------
ENVIRONMENT AND OTHER CONTEXT
------------------------------
Environment variables:
LANG = en_US.UTF-8
PATH = /home/bakers/perl5/bin:/home/bakers/.local/bin:/home/bakers/bin:/usr/local/bin:/usr/bin:/usr/local/sbin:/usr/sbin
PERL5LIB = /home/bakers/perl5/lib/perl5
PERL_LOCAL_LIB_ROOT = /home/bakers/perl5
PERL_MB_OPT = --install_base "/home/bakers/perl5"
PERL_MM_OPT = INSTALL_BASE=/home/bakers/perl5
SHELL = /bin/bash
TERM = xterm-256color
Perl special variables (and OS-specific diagnostics, for MSWin32):
EGID = 1003 1003
EUID = 1003
EXECUTABLE_NAME = /usr/bin/perl
GID = 1003 1003
UID = 1003
Perl module toolchain versions installed:
Module Have
------------------- --------
CPAN 2.18
CPAN::Meta 2.150010
Cwd 3.74
ExtUtils::CBuilder 0.280230
ExtUtils::Command 7.34
ExtUtils::Install 2.14
ExtUtils::MakeMaker 7.34
ExtUtils::Manifest 1.70
ExtUtils::ParseXS 3.35
File::Spec 3.74
JSON 2.97001
JSON::PP 2.97001
Module::Build 0.4224
Module::Signature n/a
Parse::CPAN::Meta 2.150010
Test::Harness 3.42
Test::More 1.302135
YAML 1.24
YAML::Syck n/a
version 0.9924
--
Summary of my perl5 (revision 5 version 26 subversion 3) configuration:
Platform:
osname=linux
osvers=4.19.34-300.el7.x86_64
archname=x86_64-linux-thread-multi
uname='linux x86-01.mbox.centos.org 4.19.34-300.el7.x86_64 #1 smp mon apr 15 18:04:36 utc 2019 x86_64 x86_64 x86_64 gnulinux '
config_args='-des -Doptimize=none -Dccflags=-O2 -g -pipe -Wall -Werror=format-security -Wp,-D_FORTIFY_SOURCE=2 -Wp,-D_GLIBCXX_ASSERTIONS -fexceptions -fstack-protector-strong -grecord-gcc-switches -specs=/usr/lib/rpm/redhat/redhat-hardened-cc1 -specs=/usr/lib/rpm/redhat/redhat-annobin-cc1 -m64 -mtune=generic -fasynchronous-unwind-tables -fstack-clash-protection -fcf-protection -Dldflags=-Wl,-z,relro -Wl,-z,now -specs=/usr/lib/rpm/redhat/redhat-hardened-ld -Dccdlflags=-Wl,--enable-new-dtags -Wl,-z,relro -Wl,-z,now -specs=/usr/lib/rpm/redhat/redhat-hardened-ld -Dlddlflags=-shared -Wl,-z,relro -Wl,-z,now -specs=/usr/lib/rpm/redhat/redhat-hardened-ld -Dshrpdir=/usr/lib64 -DDEBUGGING=-g -Dversion=5.26.3 -Dmyhostname=localhost -Dperladmin=root@localhost -Dcc=gcc -Dcf_by=Red Hat, Inc. -Dprefix=/usr -Dvendorprefix=/usr -Dsiteprefix=/usr/local -Dsitelib=/usr/local/share/perl5 -Dsitearch=/usr/local/lib64/perl5 -Dprivlib=/usr/share/perl5 -Dvendorlib=/usr/share/perl5/vendor_perl -Darchlib=/usr/lib64/perl5 -Dvendorarch=/usr/lib64/perl5/vendor_perl -Darchname=x86_64-linux-thread-multi -Dlibpth=/usr/local/lib64 /lib64 /usr/lib64 -Duseshrplib -Dusethreads -Duseithreads -Dusedtrace=/usr/bin/dtrace -Duselargefiles -Dd_semctl_semun -Di_db -Ui_ndbm -Di_gdbm -Di_shadow -Di_syslog -Dman3ext=3pm -Duseperlio -Dinstallusrbinperl=n -Ubincompat5005 -Uversiononly -Dpager=/usr/bin/less -isr -Dd_gethostent_r_proto -Ud_endhostent_r_proto -Ud_sethostent_r_proto -Ud_endprotoent_r_proto -Ud_setprotoent_r_proto -Ud_endservent_r_proto -Ud_setservent_r_proto -Dscriptdir=/usr/bin -Dusesitecustomize -Duse64bitint'
hint=recommended
useposix=true
d_sigaction=define
useithreads=define
usemultiplicity=define
use64bitint=define
use64bitall=define
uselongdouble=undef
usemymalloc=n
default_inc_excludes_dot=define
bincompat5005=undef
Compiler:
cc='gcc'
ccflags ='-D_REENTRANT -D_GNU_SOURCE -O2 -g -pipe -Wall -Werror=format-security -Wp,-D_FORTIFY_SOURCE=2 -Wp,-D_GLIBCXX_ASSERTIONS -fexceptions -fstack-protector-strong -grecord-gcc-switches -specs=/usr/lib/rpm/redhat/redhat-hardened-cc1 -specs=/usr/lib/rpm/redhat/redhat-annobin-cc1 -m64 -mtune=generic -fasynchronous-unwind-tables -fstack-clash-protection -fcf-protection -fwrapv -fno-strict-aliasing -I/usr/local/include -D_LARGEFILE_SOURCE -D_FILE_OFFSET_BITS=64'
optimize=' -g'
cppflags='-D_REENTRANT -D_GNU_SOURCE -O2 -g -pipe -Wall -Werror=format-security -Wp,-D_FORTIFY_SOURCE=2 -Wp,-D_GLIBCXX_ASSERTIONS -fexceptions -fstack-protector-strong -grecord-gcc-switches -specs=/usr/lib/rpm/redhat/redhat-hardened-cc1 -specs=/usr/lib/rpm/redhat/redhat-annobin-cc1 -m64 -mtune=generic -fasynchronous-unwind-tables -fstack-clash-protection -fcf-protection -fwrapv -fno-strict-aliasing -I/usr/local/include'
ccversion=''
gccversion='8.5.0 20210514 (Red Hat 8.5.0-3)'
gccosandvers=''
intsize=4
longsize=8
ptrsize=8
doublesize=8
byteorder=12345678
doublekind=3
d_longlong=define
longlongsize=8
d_longdbl=define
longdblsize=16
longdblkind=3
ivtype='long'
ivsize=8
nvtype='double'
nvsize=8
Off_t='off_t'
lseeksize=8
alignbytes=8
prototype=define
Linker and Libraries:
ld='gcc'
ldflags ='-Wl,-z,relro -Wl,-z,now -specs=/usr/lib/rpm/redhat/redhat-hardened-ld -fstack-protector-strong -L/usr/local/lib'
libpth=/usr/local/lib64 /lib64 /usr/lib64 /usr/local/lib /usr/lib /lib/../lib64 /usr/lib/../lib64 /lib
libs=-lpthread -lresolv -lgdbm -ldb -ldl -lm -lcrypt -lutil -lc -lgdbm_compat
perllibs=-lpthread -lresolv -ldl -lm -lcrypt -lutil -lc
libc=libc-2.28.so
so=so
useshrplib=true
libperl=libperl.so
gnulibc_version='2.28'
Dynamic Linking:
dlsrc=dl_dlopen.xs
dlext=so
d_dlsymun=undef
ccdlflags='-Wl,--enable-new-dtags -Wl,-z,relro -Wl,-z,now -specs=/usr/lib/rpm/redhat/redhat-hardened-ld'
cccdlflags='-fPIC'
lddlflags='-lpthread -shared -Wl,-z,relro -Wl,-z,now -specs=/usr/lib/rpm/redhat/redhat-hardened-ld -L/usr/local/lib -fstack-protector-strong'
Characteristics of this binary (from libperl):
Compile-time options:
HAS_TIMES
MULTIPLICITY
PERLIO_LAYERS
PERL_COPY_ON_WRITE
PERL_DONT_CREATE_GVSV
PERL_IMPLICIT_CONTEXT
PERL_MALLOC_WRAP
PERL_OP_PARENT
PERL_PRESERVE_IVUV
USE_64_BIT_ALL
USE_64_BIT_INT
USE_ITHREADS
USE_LARGE_FILES
USE_LOCALE
USE_LOCALE_COLLATE
USE_LOCALE_CTYPE
USE_LOCALE_NUMERIC
USE_LOCALE_TIME
USE_PERLIO
USE_PERL_ATOF
USE_REENTRANT_API
USE_SITECUSTOMIZE
Locally applied patches:
Fedora Patch1: Removes date check, Fedora/RHEL specific
Fedora Patch3: support for libdir64
Fedora Patch4: use libresolv instead of libbind
Fedora Patch5: USE_MM_LD_RUN_PATH
Fedora Patch6: Provide MM::maybe_command independently (bug #1129443)
Fedora Patch7: Dont run one io test due to random builder failures
Fedora Patch15: Define SONAME for libperl.so
Fedora Patch16: Install libperl.so to -Dshrpdir value
Fedora Patch22: Document Math::BigInt::CalcEmu requires Math::BigInt (CPAN RT#85015)
Fedora Patch26: Make *DBM_File desctructors thread-safe (RT#61912)
Fedora Patch27: Make PadlistNAMES() lvalue again (CPAN RT#101063)
Fedora Patch30: Replace EU::MakeMaker dependency with EU::MM::Utils in IPC::Cmd (bug #1129443)
Fedora Patch31: Make File::Glob more resistant against degenerative matching (RT#131211)
Fedora Patch36: Fix glob UTF-8 flag on a glob reassignment (RT#131263)
Fedora Patch38: Fix handling backslashes in PATH environment variable when executing "perl -S" (RT#129183)
Fedora Patch45: Fix File::Glob rt131211.t test random failures
Fedora Patch46: Fix t/op/hash.t test random failures
Fedora Patch47: Parse caret variables with subscripts as normal variables inside ${...} escaping (RT#131664)
Fedora Patch49: Do not display too many bytes when reporting malformed UTF-8 character
Fedora Patch51: Fix error message for "our sub foo::bar" (RT#131679)
Fedora Patch52: Fix executing arybase::_tie_it() in Safe compartement (RT#131588)
Fedora Patch54: Fix splitting non-ASCII strings if unicode_strings feature is enabled (RT#130907)
Fedora Patch55: Fix compiler warnings in code generated by ExtUtils::Constant (CPAN RT#63832)
Fedora Patch56: Fix compiler warnings in code generated by ExtUtils::Constant (CPAN RT#101487)
Fedora Patch58: Fix unreliable Time-HiRes tests (CPAN RT#122819)
Fedora Patch61: Fix Term::ReadLine not to create spurious &STDERR files (RT#132008)
Fedora Patch64: Fix an overflow when parsing a character range with no preceding character (RT#132245)
Fedora Patch65: Fix walking symbol table for ISA in Carp
Fedora Patch66: Fix handling file names with null bytes in stat and lstat functions (RT#131895)
Fedora Patch67: Fix a crash when untying an object witout a stash
Fedora Patch68: Fix deparsing of transliterations with unprintable characters (RT#132405)
Fedora Patch69: Fix error reporting on do() on a directory (RT#125774)
Fedora Patch70: Fix stack manipulation when a lexical subroutine is defined in a do block in a member of an iteration list (RT#132442)
Fedora Patch71: Fix setting $! when statting a closed filehandle (RT#108288)
Fedora Patch72: Fix tainting of s/// with overloaded replacement (RT#115266)
Fedora Patch73: Expand system() arguments before a fork (RT#121105)
Fedora Patch76: Avoid undefined behavior when copying memory in Glob and pp_caller (RT#131746)
Fedora Patch78: Fix compatibility with libxcrypt (RT#133184)
Fedora Patch79: Link XS modules to pthread library to fix linking with -z defs
Fedora Patch80: Fix parsing braced subscript after parentheses (RT#8045)
Fedora Patch81: Do not clobber file bytes in :encoding layer (RT#132833)
Fedora Patch82: Fix line numbers in multi-line s/// (RT#131930)
Fedora Patch83: Fix parsing extended bracketed character classes (RT#132167)
Fedora Patch84: Fix a possibly unitialized memory read in the Perl parser (RT#133074)
Fedora Patch85: Fix an infinite loop in the regular expression compiler (RT#133185)
Fedora Patch86: Adjust tests to gdbm-1.15 (RT#133295)
Fedora Patch88: Fix printing a warning about a wide character when matching a regular expression while ISO-8859-1 locale is in effect
Fedora Patch89: Fix invoking a check for wide characters while ISO-8859-1 locale is in effect
Fedora Patch90: Pass the correct CFLAGS to dtrace
RHEL Patch91: Fix Time-Local tests to pass after year 2019 (bug #1807120)
RHEL Patch92: Fix CVE-2020-12723 (GH#16947)
RHEL Patch93: Fix CVE-2020-10543
RHEL Patch94: Fix CVE-2020-10878
RHEL Patch95: Fix Net-Ping _resolv return value on failing DNS name lookup (bug #1973030)
RHEL Patch97: Fix a memory leak when compiling a regular expression with a non-word class (GH#17218)
Fedora Patch200: Link XS modules to libperl.so with EU::CBuilder on Linux
Fedora Patch201: Link XS modules to libperl.so with EU::MM on Linux
Built under linux
Compiled at Nov 4 2021 17:06:58
%ENV:
PERL5LIB="/home/bakers/perl5/lib/perl5"
PERL_LOCAL_LIB_ROOT="/home/bakers/perl5"
PERL_MB_OPT="--install_base "/home/bakers/perl5""
PERL_MM_OPT="INSTALL_BASE=/home/bakers/perl5"
@INC:
/home/bakers/perl5/lib/perl5/5.26.3/x86_64-linux-thread-multi
/home/bakers/perl5/lib/perl5/5.26.3
/home/bakers/perl5/lib/perl5/x86_64-linux-thread-multi
/home/bakers/perl5/lib/perl5
/usr/local/lib64/perl5
/usr/local/share/perl5
/usr/lib64/perl5/vendor_perl
/usr/share/perl5/vendor_perl
/usr/lib64/perl5
/usr/share/perl5