Dancer2-Plugin-DBIx-Class v1.04 Perl 5 v5.34.0 amd64-freebsd
- Status
- Pass
- From
- Slaven Rezić
- Dist
-
Dancer2-Plugin-DBIx-Class v1.04
- Platform
- Perl 5 v5.34.0 amd64-freebsd
- Date
- 2021-10-14 01:38:10
- ID
- 63875a16-2c8f-11ec-9959-90471f24ea8f
This distribution has been tested as part of the CPAN Testers
project, supporting the Perl programming language. See
http://wiki.cpantesters.org/ for more information or email
questions to cpan-testers-discuss@perl.org
--
Dear D Ruth Holloway,
This is a computer-generated report for Dancer2-Plugin-DBIx-Class-1.04
on perl 5.34.0, created by CPAN-Reporter-1.2018.
Thank you for uploading your work to CPAN. Congratulations!
All tests were successful.
Sections of this report:
* Tester comments
* Program output
* Prerequisites
* Environment and other context
------------------------------
TESTER COMMENTS
------------------------------
Additional comments from tester:
none provided
------------------------------
PROGRAM OUTPUT
------------------------------
Output from '/usr/bin/make test':
PERL_DL_NONLAZY=1 "/usr/perl5.34.0p/bin/perl" "-MExtUtils::Command::MM" "-MTest::Harness" "-e" "undef *Test::Harness::Switches; test_harness(0, 'blib/lib', 'blib/arch')" t/*.t
t/00-compile.t ................ ok
#
# Versions for all modules listed in MYMETA.json (including optional ones):
#
# === Configure Requires ===
#
# Module Want Have
# ------------------- ---- ----
# ExtUtils::MakeMaker any 7.62
#
# === Build Requires ===
#
# Module Want Have
# ------------------- ---- ----
# ExtUtils::MakeMaker any 7.62
#
# === Test Requires ===
#
# Module Want Have
# ----------------------------------- ---- --------
# DBIx::Class::Core any undef
# DBIx::Class::Schema any undef
# DBIx::Class::Schema::ResultSetNames any 1.02
# Dancer2 any 0.301004
# ExtUtils::MakeMaker any 7.62
# File::Spec any 3.80
# HTTP::Request::Common any 6.33
# IO::Handle any 1.46
# IPC::Open3 any 1.21
# JSON::MaybeXS any 1.004003
# Plack::Test any undef
# Test2::V0 any 0.000141
# Test::More any 1.302188
#
# === Test Recommends ===
#
# Module Want Have
# ---------- -------- --------
# CPAN::Meta 2.120900 2.150010
#
# === Runtime Requires ===
#
# Module Want Have
# ------------------------ ---- ----------
# Carp any 1.52
# Class::C3::Componentised any 1.001002
# Dancer2::Plugin any 0.301004
# Modern::Perl any 1.20200211
# Moo any 2.005004
# curry any 1.001000
#
t/00-report-prereqs.t ......... ok
t/00_core_keywords.t .......... ok
t/01_both_using_rsnames.t ..... ok
t/02_first_using_rsnames.t .... ok
t/03_second_using_rsnames.t ... ok
t/04_neither_using_rsnames.t .. ok
t/author-critic.t ............. skipped: these tests are for testing by the author
t/author-distmeta.t ........... skipped: these tests are for testing by the author
t/author-no-tabs.t ............ skipped: these tests are for testing by the author
t/author-pod-syntax.t ......... skipped: these tests are for testing by the author
t/release-unused-vars.t ....... skipped: these tests are for release candidate testing
All tests successful.
Files=12, Tests=8, 4 wallclock secs ( 0.05 usr 0.02 sys + 3.32 cusr 0.46 csys = 3.85 CPU)
Result: PASS
------------------------------
PREREQUISITES
------------------------------
Prerequisite modules loaded:
requires:
Module Need Have
----------------------------------- ----- ----------
Carp 0 1.52
Class::C3::Componentised 0 1.001002
curry 0 1.001000
Dancer2::Plugin 0 0.301004
Modern::Perl 0 1.20200211
Moo 0 2.005004
perl 5.012 5.034000
build_requires:
Module Need Have
----------------------------------- ----- ----------
Dancer2 0 0.301004
DBIx::Class::Core 0 0
DBIx::Class::Schema 0 0
DBIx::Class::Schema::ResultSetNames 0 1.02
ExtUtils::MakeMaker 0 7.62
File::Spec 0 3.80
HTTP::Request::Common 0 6.33
IO::Handle 0 1.46
IPC::Open3 0 1.21
JSON::MaybeXS 0 1.004003
Plack::Test 0 0
Test2::V0 0 0.000141
Test::More 0 1.302188
configure_requires:
Module Need Have
----------------------------------- ----- ----------
ExtUtils::MakeMaker 0 7.62
------------------------------
ENVIRONMENT AND OTHER CONTEXT
------------------------------
Environment variables:
LANG = C.UTF-8
PATH = /usr/local/bin:/usr/bin:/bin:/usr/local/sbin:/usr/sbin:/sbin:/home/cpansand/bin/sh:/home/cpansand/bin:/usr/games:/home/cpansand/devel:/usr/home/eserte/src/srezic-misc/scripts
PERL5LIB = /home/cpansand/.cpan/build/2021101401/Dancer2-0.301004-0/blib/arch:/home/cpansand/.cpan/build/2021101401/Dancer2-0.301004-0/blib/lib:/home/cpansand/.cpan/build/2021101401/Template-Tiny-1.14-0/blib/arch:/home/cpansand/.cpan/build/2021101401/Template-Tiny-1.14-0/blib/lib:/home/cpansand/.cpan/build/2021101401/Plack-Middleware-RemoveRedundantBody-0.09-0/blib/arch:/home/cpansand/.cpan/build/2021101401/Plack-Middleware-RemoveRedundantBody-0.09-0/blib/lib:/home/cpansand/.cpan/build/2021101401/Plack-Middleware-FixMissingBodyInRedirect-0.12-0/blib/arch:/home/cpansand/.cpan/build/2021101401/Plack-Middleware-FixMissingBodyInRedirect-0.12-0/blib/lib:/home/cpansand/.cpan/build/2021101401/CLI-Osprey-0.08-0/blib/arch:/home/cpansand/.cpan/build/2021101401/CLI-Osprey-0.08-0/blib/lib:/home/cpansand/.cpan/build/2021101401/DBIx-Class-Schema-ResultSetNames-1.02-0/blib/arch:/home/cpansand/.cpan/build/2021101401/DBIx-Class-Schema-ResultSetNames-1.02-0/blib/lib
PERL5OPT =
PERL5_CPANPLUS_IS_RUNNING = 55798
PERL5_CPAN_IS_RUNNING = 55798
PERL5_CPAN_IS_RUNNING_IN_RECURSION = 55757,55798
PERL_BATCH = yes
PERL_CANARY_STABILITY_NOPROMPT = 1
PERL_CPAN_REPORTER_CONFIG = /var/tmp/cpansmoker-1023/2021101401/cpanreporter_000_config.ini
PERL_EXTUTILS_AUTOINSTALL = --defaultdeps
PERL_USE_UNSAFE_INC = 1
SHELL = /bin/sh
TMPDIR = /var/tmp/cpansmoker-1023/2021101401
Perl special variables (and OS-specific diagnostics, for MSWin32):
$^X = /usr/perl5.34.0p/bin/perl
$UID/$EUID = 1023 / 1023
$GID = 1023 1023
$EGID = 1023 1023
Perl module toolchain versions installed:
Module Have
------------------- --------
CPAN 2.28
CPAN::Meta 2.150010
Cwd 3.80
ExtUtils::CBuilder 0.280236
ExtUtils::Command 7.62
ExtUtils::Install 2.20
ExtUtils::MakeMaker 7.62
ExtUtils::Manifest 1.73
ExtUtils::ParseXS 3.43
File::Spec 3.80
JSON 4.03
JSON::PP 4.06
Module::Build 0.4231
Module::Signature n/a
Parse::CPAN::Meta 2.150010
Test::Harness 3.43
Test::More 1.302188
YAML 1.30
YAML::Syck 1.34
version 0.9928
--
Summary of my perl5 (revision 5 version 34 subversion 0) configuration:
Platform:
osname=freebsd
osvers=14.0-current
archname=amd64-freebsd
uname='freebsd cloud2.bbbike.org 14.0-current freebsd 14.0-current #1 main-n249154-312f5f8a4fb9: sat sep 4 21:10:11 utc 2021 root@cloud2.bbbike.org:usrobjusrhomeprojectsfreebsdamd64.amd64sysgeneric amd64 '
config_args='-ds -e -Dprefix=/usr/perl5.34.0p -Dcf_email=srezic@cpan.org -Doptimize=-O2 -pipe'
hint=recommended
useposix=true
d_sigaction=define
useithreads=undef
usemultiplicity=undef
use64bitint=define
use64bitall=define
uselongdouble=undef
usemymalloc=n
default_inc_excludes_dot=define
Compiler:
cc='cc'
ccflags ='-DHAS_FPSETMASK -DHAS_FLOATINGPOINT_H -fno-strict-aliasing -pipe -fstack-protector-strong -I/usr/local/include'
optimize='-O2 -pipe'
cppflags='-DHAS_FPSETMASK -DHAS_FLOATINGPOINT_H -fno-strict-aliasing -pipe -fstack-protector-strong -I/usr/local/include'
ccversion=''
gccversion='FreeBSD Clang 12.0.1 (git@github.com:llvm/llvm-project.git llvmorg-12.0.1-0-gfed41342a82f)'
gccosandvers=''
intsize=4
longsize=8
ptrsize=8
doublesize=8
byteorder=12345678
doublekind=3
d_longlong=define
longlongsize=8
d_longdbl=define
longdblsize=16
longdblkind=3
ivtype='long'
ivsize=8
nvtype='double'
nvsize=8
Off_t='off_t'
lseeksize=8
alignbytes=8
prototype=define
Linker and Libraries:
ld='cc'
ldflags ='-pthread -Wl,-E -fstack-protector-strong -L/usr/local/lib'
libpth=/usr/lib /usr/local/lib /usr/lib/clang/12.0.1/lib
libs=-lpthread -ldl -lm -lcrypt -lutil -lc
perllibs=-lpthread -ldl -lm -lcrypt -lutil -lc
libc=
so=so
useshrplib=false
libperl=libperl.a
gnulibc_version=''
Dynamic Linking:
dlsrc=dl_dlopen.xs
dlext=so
d_dlsymun=undef
ccdlflags=' '
cccdlflags='-DPIC -fPIC'
lddlflags='-shared -L/usr/local/lib -fstack-protector-strong'
Characteristics of this binary (from libperl):
Compile-time options:
HAS_TIMES
PERLIO_LAYERS
PERL_COPY_ON_WRITE
PERL_DONT_CREATE_GVSV
PERL_MALLOC_WRAP
PERL_OP_PARENT
PERL_PRESERVE_IVUV
USE_64_BIT_ALL
USE_64_BIT_INT
USE_LARGE_FILES
USE_LOCALE
USE_LOCALE_COLLATE
USE_LOCALE_CTYPE
USE_LOCALE_NUMERIC
USE_LOCALE_TIME
USE_PERLIO
USE_PERL_ATOF
Built under freebsd
Compiled at Sep 8 2021 18:37:00
%ENV:
PERL5LIB="/home/cpansand/.cpan/build/2021101401/Dancer2-0.301004-0/blib/arch:/home/cpansand/.cpan/build/2021101401/Dancer2-0.301004-0/blib/lib:/home/cpansand/.cpan/build/2021101401/Template-Tiny-1.14-0/blib/arch:/home/cpansand/.cpan/build/2021101401/Template-Tiny-1.14-0/blib/lib:/home/cpansand/.cpan/build/2021101401/Plack-Middleware-RemoveRedundantBody-0.09-0/blib/arch:/home/cpansand/.cpan/build/2021101401/Plack-Middleware-RemoveRedundantBody-0.09-0/blib/lib:/home/cpansand/.cpan/build/2021101401/Plack-Middleware-FixMissingBodyInRedirect-0.12-0/blib/arch:/home/cpansand/.cpan/build/2021101401/Plack-Middleware-FixMissingBodyInRedirect-0.12-0/blib/lib:/home/cpansand/.cpan/build/2021101401/CLI-Osprey-0.08-0/blib/arch:/home/cpansand/.cpan/build/2021101401/CLI-Osprey-0.08-0/blib/lib:/home/cpansand/.cpan/build/2021101401/DBIx-Class-Schema-ResultSetNames-1.02-0/blib/arch:/home/cpansand/.cpan/build/2021101401/DBIx-Class-Schema-ResultSetNames-1.02-0/blib/lib"
PERL5OPT=""
PERL5_CPANPLUS_IS_RUNNING="55798"
PERL5_CPAN_IS_RUNNING="55798"
PERL5_CPAN_IS_RUNNING_IN_RECURSION="55757,55798"
PERL_BATCH="yes"
PERL_CANARY_STABILITY_NOPROMPT="1"
PERL_CPAN_REPORTER_CONFIG="/var/tmp/cpansmoker-1023/2021101401/cpanreporter_000_config.ini"
PERL_EXTUTILS_AUTOINSTALL="--defaultdeps"
PERL_USE_UNSAFE_INC="1"
@INC:
/home/cpansand/.cpan/build/2021101401/Dancer2-0.301004-0/blib/arch
/home/cpansand/.cpan/build/2021101401/Dancer2-0.301004-0/blib/lib
/home/cpansand/.cpan/build/2021101401/Template-Tiny-1.14-0/blib/arch
/home/cpansand/.cpan/build/2021101401/Template-Tiny-1.14-0/blib/lib
/home/cpansand/.cpan/build/2021101401/Plack-Middleware-RemoveRedundantBody-0.09-0/blib/arch
/home/cpansand/.cpan/build/2021101401/Plack-Middleware-RemoveRedundantBody-0.09-0/blib/lib
/home/cpansand/.cpan/build/2021101401/Plack-Middleware-FixMissingBodyInRedirect-0.12-0/blib/arch
/home/cpansand/.cpan/build/2021101401/Plack-Middleware-FixMissingBodyInRedirect-0.12-0/blib/lib
/home/cpansand/.cpan/build/2021101401/CLI-Osprey-0.08-0/blib/arch
/home/cpansand/.cpan/build/2021101401/CLI-Osprey-0.08-0/blib/lib
/home/cpansand/.cpan/build/2021101401/DBIx-Class-Schema-ResultSetNames-1.02-0/blib/arch
/home/cpansand/.cpan/build/2021101401/DBIx-Class-Schema-ResultSetNames-1.02-0/blib/lib
/usr/perl5.34.0p/lib/site_perl/5.34.0/amd64-freebsd
/usr/perl5.34.0p/lib/site_perl/5.34.0
/usr/perl5.34.0p/lib/5.34.0/amd64-freebsd
/usr/perl5.34.0p/lib/5.34.0
.