Dancer2-Plugin-DBIx-Class v1.1001 Perl 5 v5.38.2 amd64-freebsd
- Status
- Pass
- From
- Slaven Rezić
- Dist
-
Dancer2-Plugin-DBIx-Class v1.1001
- Platform
- Perl 5 v5.38.2 amd64-freebsd
- Date
- 2023-12-17 21:15:20
- ID
- 629b2b82-9d21-11ee-9b9e-eaee6d8775ea
This distribution has been tested as part of the CPAN Testers
project, supporting the Perl programming language. See
http://wiki.cpantesters.org/ for more information or email
questions to cpan-testers-discuss@perl.org
--
Dear D Ruth Holloway,
This is a computer-generated report for Dancer2-Plugin-DBIx-Class-1.1001
on perl 5.38.2, created by CPAN-Reporter-1.2019.
Thank you for uploading your work to CPAN. Congratulations!
All tests were successful.
Sections of this report:
* Tester comments
* Program output
* Prerequisites
* Environment and other context
------------------------------
TESTER COMMENTS
------------------------------
Additional comments from tester:
none provided
------------------------------
PROGRAM OUTPUT
------------------------------
Output from '/usr/bin/make test':
PERL_DL_NONLAZY=1 "/usr/perl5.38.2/bin/perl5.38.2" "-MExtUtils::Command::MM" "-MTest::Harness" "-e" "undef *Test::Harness::Switches; test_harness(0, 'blib/lib', 'blib/arch')" t/*.t
t/00-compile.t ................ ok
#
# Versions for all modules listed in MYMETA.json (including optional ones):
#
# === Configure Requires ===
#
# Module Want Have
# ------------------- ---- ----
# ExtUtils::MakeMaker any 7.70
#
# === Build Requires ===
#
# Module Want Have
# ------------------- ---- ----
# ExtUtils::MakeMaker any 7.70
#
# === Test Requires ===
#
# Module Want Have
# ----------------------------------- ---- --------
# DBIx::Class::Core any undef
# DBIx::Class::Schema any undef
# DBIx::Class::Schema::ResultSetNames any 1.0301
# Dancer2 any 1.1.0
# ExtUtils::MakeMaker any 7.70
# File::Spec any 3.88
# HTTP::Request::Common any 6.45
# IO::Handle any 1.52
# IPC::Open3 any 1.22
# JSON::MaybeXS any 1.004005
# Plack::Test any undef
# Test2::V0 any 0.000159
# Test::More any 1.302198
# base any 2.27
# lib any 0.65
# strict any 1.12
# warnings any 1.65
#
# === Test Recommends ===
#
# Module Want Have
# ---------- -------- --------
# CPAN::Meta 2.120900 2.150010
#
# === Runtime Requires ===
#
# Module Want Have
# ------------------------ -------- ----------
# Carp any 1.54
# Class::C3::Componentised any 1.001002
# Dancer2::Plugin 0.154000 1.1.0
# Modern::Perl any 1.20230106
# Moo any 2.005005
# curry 2.000001 2.000001
#
t/00-report-prereqs.t ......... ok
t/00_core_keywords.t .......... ok
t/01_both_using_rsnames.t ..... ok
t/02_first_using_rsnames.t .... ok
t/03_second_using_rsnames.t ... ok
t/04_neither_using_rsnames.t .. ok
All tests successful.
Files=7, Tests=8, 5 wallclock secs ( 0.05 usr 0.01 sys + 4.33 cusr 0.66 csys = 5.04 CPU)
Result: PASS
------------------------------
PREREQUISITES
------------------------------
Prerequisite modules loaded:
requires:
Module Need Have
----------------------------------- -------- ----------
Carp 0 1.54
Class::C3::Componentised 0 1.001002
curry 2.000001 2.000001
Dancer2::Plugin 0.154000 1.1.0
Modern::Perl 0 1.20230106
Moo 0 2.005005
perl 5.006 5.038002
build_requires:
Module Need Have
----------------------------------- -------- ----------
base 0 2.27
Dancer2 0 1.1.0
DBIx::Class::Core 0 0
DBIx::Class::Schema 0 0
DBIx::Class::Schema::ResultSetNames 0 1.0301
ExtUtils::MakeMaker 0 7.70
File::Spec 0 3.88
HTTP::Request::Common 0 6.45
IO::Handle 0 1.52
IPC::Open3 0 1.22
JSON::MaybeXS 0 1.004005
lib 0 0.65
Plack::Test 0 0
strict 0 1.12
Test2::V0 0 0.000159
Test::More 0 1.302198
warnings 0 1.65
configure_requires:
Module Need Have
----------------------------------- -------- ----------
ExtUtils::MakeMaker 0 7.70
perl 5.006 5.038002
------------------------------
ENVIRONMENT AND OTHER CONTEXT
------------------------------
Environment variables:
LANG = C.UTF-8
PATH = /usr/local/bin:/usr/bin:/bin:/usr/local/sbin:/usr/sbin:/sbin:/home/cpansand/bin/freebsd14.0:/home/cpansand/bin/sh:/home/cpansand/bin:/usr/games:/home/cpansand/devel:/home/eserte/src/srezic-misc/scripts
PERL5LIB =
PERL5OPT =
PERL5_CPANPLUS_IS_RUNNING = 32033
PERL5_CPAN_IS_RUNNING = 32033
PERL5_CPAN_IS_RUNNING_IN_RECURSION = 31781,32033
PERLDOC = -MPod::Perldoc::ToTextOverstrike
PERL_BATCH = yes
PERL_CANARY_STABILITY_NOPROMPT = 1
PERL_CPAN_REPORTER_CONFIG = /var/tmp/cpansmoker-1023/2023121717/cpanreporter_000_config.ini
PERL_EXTUTILS_AUTOINSTALL = --defaultdeps
PERL_USE_UNSAFE_INC = 1
SHELL = /usr/local/bin/zsh
TERM = screen
TMPDIR = /var/tmp/cpansmoker-1023/2023121717
Perl special variables (and OS-specific diagnostics, for MSWin32):
$^X = /usr/perl5.38.2/bin/perl5.38.2
$UID/$EUID = 1023 / 1023
$GID = 1023 1023
$EGID = 1023 1023
Perl module toolchain versions installed:
Module Have
------------------- --------
CPAN 2.36
CPAN::Meta 2.150010
Cwd 3.89
ExtUtils::CBuilder 0.280238
ExtUtils::Command 7.70
ExtUtils::Install 2.22
ExtUtils::MakeMaker 7.70
ExtUtils::Manifest 1.75
ExtUtils::ParseXS 3.51
File::Spec 3.88
JSON 4.10
JSON::PP 4.16
Module::Build 0.4234
Module::Signature 0.88
Parse::CPAN::Meta 2.150010
Test2 1.302198
Test::Harness 3.48
Test::More 1.302198
YAML 1.30
YAML::Syck 1.34
version 0.9930
--
Summary of my perl5 (revision 5 version 38 subversion 2) configuration:
Platform:
osname=freebsd
osvers=14.0-stable
archname=amd64-freebsd
uname='freebsd cloud11.bbbike.org 14.0-stable freebsd 14.0-stable #0 stable14-8d42f85d9: wed dec 13 14:10:27 utc 2023 root@cloud11.bbbike.org:usrobjhomeprojectsfreebsd-srcamd64.amd64sysgeneric amd64 '
config_args='-ds -e -Dprefix=/usr/perl5.38.2 -Dcf_email=srezic@cpan.org -Doptimize=-O2 -pipe'
hint=recommended
useposix=true
d_sigaction=define
useithreads=undef
usemultiplicity=undef
use64bitint=define
use64bitall=define
uselongdouble=undef
usemymalloc=n
default_inc_excludes_dot=define
Compiler:
cc='cc'
ccflags ='-DHAS_FPSETMASK -DHAS_FLOATINGPOINT_H -fno-strict-aliasing -pipe -fstack-protector-strong -I/usr/local/include'
optimize='-O2 -pipe'
cppflags='-DHAS_FPSETMASK -DHAS_FLOATINGPOINT_H -fno-strict-aliasing -pipe -fstack-protector-strong -I/usr/local/include'
ccversion=''
gccversion='FreeBSD Clang 16.0.6 (https://github.com/llvm/llvm-project.git llvmorg-16.0.6-0-g7cbf1a259152)'
gccosandvers=''
intsize=4
longsize=8
ptrsize=8
doublesize=8
byteorder=12345678
doublekind=3
d_longlong=define
longlongsize=8
d_longdbl=define
longdblsize=16
longdblkind=3
ivtype='long'
ivsize=8
nvtype='double'
nvsize=8
Off_t='off_t'
lseeksize=8
alignbytes=8
prototype=define
Linker and Libraries:
ld='cc'
ldflags ='-Wl,-E -fstack-protector-strong -L/usr/local/lib'
libpth=/usr/lib /usr/local/lib /usr/lib/clang/16/lib
libs=-lpthread -lgdbm -ldl -lm -lcrypt -lutil -lc
perllibs=-lpthread -ldl -lm -lcrypt -lutil -lc
libc=
so=so
useshrplib=false
libperl=libperl.a
gnulibc_version=''
Dynamic Linking:
dlsrc=dl_dlopen.xs
dlext=so
d_dlsymun=undef
ccdlflags=' '
cccdlflags='-DPIC -fPIC'
lddlflags='-shared -L/usr/local/lib -fstack-protector-strong'
Characteristics of this binary (from libperl):
Compile-time options:
HAS_LONG_DOUBLE
HAS_STRTOLD
HAS_TIMES
PERLIO_LAYERS
PERL_COPY_ON_WRITE
PERL_DONT_CREATE_GVSV
PERL_HASH_FUNC_SIPHASH13
PERL_HASH_USE_SBOX32
PERL_MALLOC_WRAP
PERL_OP_PARENT
PERL_PRESERVE_IVUV
PERL_USE_SAFE_PUTENV
USE_64_BIT_ALL
USE_64_BIT_INT
USE_LARGE_FILES
USE_LOCALE
USE_LOCALE_COLLATE
USE_LOCALE_CTYPE
USE_LOCALE_NUMERIC
USE_LOCALE_TIME
USE_PERLIO
USE_PERL_ATOF
Built under freebsd
Compiled at Dec 13 2023 17:28:52
%ENV:
PERL5LIB=""
PERL5OPT=""
PERL5_CPANPLUS_IS_RUNNING="32033"
PERL5_CPAN_IS_RUNNING="32033"
PERL5_CPAN_IS_RUNNING_IN_RECURSION="31781,32033"
PERLDOC="-MPod::Perldoc::ToTextOverstrike"
PERL_BATCH="yes"
PERL_CANARY_STABILITY_NOPROMPT="1"
PERL_CPAN_REPORTER_CONFIG="/var/tmp/cpansmoker-1023/2023121717/cpanreporter_000_config.ini"
PERL_EXTUTILS_AUTOINSTALL="--defaultdeps"
PERL_USE_UNSAFE_INC="1"
@INC:
/usr/perl5.38.2/lib/site_perl/5.38.2/amd64-freebsd
/usr/perl5.38.2/lib/site_perl/5.38.2
/usr/perl5.38.2/lib/5.38.2/amd64-freebsd
/usr/perl5.38.2/lib/5.38.2
.