Task-BeLike-GEEKRUTH v1.0301 Perl 5 v5.41.11 amd64-netbsd
- Status
- Pass
- From
- Carlos Guevara
- Dist
-
Task-BeLike-GEEKRUTH v1.0301
- Platform
- Perl 5 v5.41.11 amd64-netbsd
- Date
- 2025-03-30 05:18:16
- ID
- 628daae0-0d26-11f0-8dee-a8577d42c95b
This distribution has been tested as part of the CPAN Testers
project, supporting the Perl programming language. See
http://wiki.cpantesters.org/ for more information or email
questions to cpan-testers-discuss@perl.org
--
Dear D Ruth Holloway,
This is a computer-generated report for Task-BeLike-GEEKRUTH-1.0301
on perl 5.41.11, created by CPAN-Reporter-1.2020.
Thank you for uploading your work to CPAN. Congratulations!
All tests were successful.
Sections of this report:
* Tester comments
* Program output
* Prerequisites
* Environment and other context
------------------------------
TESTER COMMENTS
------------------------------
Additional comments from tester:
this report is from an automated smoke testing program
and was not reviewed by a human for accuracy
------------------------------
PROGRAM OUTPUT
------------------------------
Output from '/usr/bin/make test':
PERL_DL_NONLAZY=1 "/home/cpan/bin/perl/bin/perl5.41.11" "-MExtUtils::Command::MM" "-MTest::Harness" "-e" "undef *Test::Harness::Switches; test_harness(0, 'blib/lib', 'blib/arch')" t/*.t
t/00-compile.t ......... ok
t/00-placeholder.t ..... ok
#
# Versions for all modules listed in MYMETA.json (including optional ones):
#
# === Configure Requires ===
#
# Module Want Have
# ------------------- ---- ----
# ExtUtils::MakeMaker any 7.72
#
# === Build Requires ===
#
# Module Want Have
# ------------------- ---- ----
# ExtUtils::MakeMaker any 7.72
#
# === Test Requires ===
#
# Module Want Have
# ------------------- ---- --------
# ExtUtils::MakeMaker any 7.72
# File::Spec any 3.93
# IO::Handle any 1.55
# IPC::Open3 any 1.24
# Test2::V0 any 1.302209
# Test::More any 1.302209
# strict any 1.13
# warnings any 1.74
#
# === Test Recommends ===
#
# Module Want Have
# ---------- -------- --------
# CPAN::Meta 2.120900 2.150010
#
# === Runtime Requires ===
#
# Module Want Have
# ------------------------------------------------------ ---- ----------
# App::cpanminus any 1.7048
# App::perlbrew any missing
# Carp any 1.54
# Code::TidyAll any missing
# Code::TidyAll::Plugin::Test::Vars any missing
# Cpanel::JSON::XS any 4.39
# DBD::Pg any missing
# DBIx::Class any 0.082844
# DBIx::Class::Helpers any 2.037000
# DBIx::Class::Schema::Loader any 0.07053
# DBIx::Class::Schema::ResultSetNames any 1.0301
# DBIx::Class::TemporalRelations any 0.9000
# Dancer2 any 1.1.2
# Dancer2::Plugin::Ajax any 0.400000
# Dancer2::Plugin::Auth::Extensible any 0.711
# Dancer2::Plugin::Auth::Extensible::Provider::DBIxClass any 0.0902
# Dancer2::Plugin::Cache::CHI any 2.0.1
# Dancer2::Plugin::DBIx::Class any 1.1001
# Dancer2::Plugin::Growler any 0.03
# Dancer2::Plugin::Minify any 0.002
# Dancer2::Plugin::REST any 1.02
# Dancer2::Session::DBIC any 0.120
# Dancer2::Template::Handlebars any 1.00
# Devel::Local any 0.22
# Dist::Zilla any 6.032
# Dist::Zilla::App::Command::cover any missing
# Dist::Zilla::App::Command::critic any 0.001011
# Dist::Zilla::App::Command::dumpphases any 1.000009
# Dist::Zilla::App::Command::lsplugins any 0.003001
# Dist::Zilla::Plugin::Git::PushInitial any 0.02
# Dist::Zilla::Plugin::INI::Baked any 0.002002
# Dist::Zilla::Plugin::MetaData::BuiltWith any 1.004005
# Dist::Zilla::Plugin::TaskWeaver any 0.101629
# Dist::Zilla::PluginBundle::GEEKRUTH any missing
# Dist::Zilla::PluginBundle::GitLab any 1.0002
# File::Path any 2.18
# Modern::Perl any 1.20241001
# Moo any 2.005005
# OrePAN2 any 0.52
# Perl::Critic any 1.156
# Perl::Critic::Bangs any 1.14
# Perl::Critic::Community any v1.0.4
# Perl::Critic::StricterSubs any 0.08
# Perl::Critic::TooMuchCode any 0.19
# Perl::Tidy any 20250311
# Plack::Handler::Starman any undef
# Pod::Coverage::TrustPod any 0.100006
# Template::Plugin::JSON::Escape any 0.02
# Try::Tiny any 0.32
# YAML::Tiny any 1.76
# autodie any 2.37
#
#
# *** WARNING WARNING WARNING WARNING WARNING WARNING WARNING WARNING ***
#
# The following REQUIRED prerequisites were not satisfied:
#
# App::perlbrew is not installed (any version required)
# Code::TidyAll is not installed (any version required)
# Code::TidyAll::Plugin::Test::Vars is not installed (any version required)
# DBD::Pg is not installed (any version required)
# Dist::Zilla::App::Command::cover is not installed (any version required)
# Dist::Zilla::PluginBundle::GEEKRUTH is not installed (any version required)
#
t/00-report-prereqs.t .. ok
t/placeholder.t ........ ok
All tests successful.
Files=4, Tests=4, 0 wallclock secs ( 0.02 usr 0.01 sys + 0.29 cusr 0.08 csys = 0.40 CPU)
Result: PASS
------------------------------
PREREQUISITES
------------------------------
Prerequisite modules loaded:
requires:
Module Need Have
------------------------------------------------------ ----- ----------
App::cpanminus 0 1.7048
! App::perlbrew 0 n/a
autodie 0 2.37
Carp 0 1.54
! Code::TidyAll 0 n/a
! Code::TidyAll::Plugin::Test::Vars 0 n/a
Cpanel::JSON::XS 0 4.39
Dancer2 0 1.1.2
Dancer2::Plugin::Ajax 0 0.400000
Dancer2::Plugin::Auth::Extensible 0 0.711
Dancer2::Plugin::Auth::Extensible::Provider::DBIxClass 0 0.0902
Dancer2::Plugin::Cache::CHI 0 2.0.1
Dancer2::Plugin::DBIx::Class 0 1.1001
Dancer2::Plugin::Growler 0 0.03
Dancer2::Plugin::Minify 0 0.002
Dancer2::Plugin::REST 0 1.02
Dancer2::Session::DBIC 0 0.120
Dancer2::Template::Handlebars 0 1.00
! DBD::Pg 0 n/a
DBIx::Class 0 0.082844
DBIx::Class::Helpers 0 2.037000
DBIx::Class::Schema::Loader 0 0.07053
DBIx::Class::Schema::ResultSetNames 0 1.0301
DBIx::Class::TemporalRelations 0 0.9000
Devel::Local 0 0.22
Dist::Zilla 0 6.032
! Dist::Zilla::App::Command::cover 0 n/a
Dist::Zilla::App::Command::critic 0 0.001011
Dist::Zilla::App::Command::dumpphases 0 1.000009
Dist::Zilla::App::Command::lsplugins 0 0.003001
Dist::Zilla::Plugin::Git::PushInitial 0 0.02
Dist::Zilla::Plugin::INI::Baked 0 0.002002
Dist::Zilla::Plugin::MetaData::BuiltWith 0 1.004005
Dist::Zilla::Plugin::TaskWeaver 0 0.101629
! Dist::Zilla::PluginBundle::GEEKRUTH 0 n/a
Dist::Zilla::PluginBundle::GitLab 0 1.0002
File::Path 0 2.18
Modern::Perl 0 1.20241001
Moo 0 2.005005
OrePAN2 0 0.52
perl 5.006 5.041011
Perl::Critic 0 1.156
Perl::Critic::Bangs 0 1.14
Perl::Critic::Community 0 v1.0.4
Perl::Critic::StricterSubs 0 0.08
Perl::Critic::TooMuchCode 0 0.19
Perl::Tidy 0 20250311
Plack::Handler::Starman 0 0
Pod::Coverage::TrustPod 0 0.100006
Template::Plugin::JSON::Escape 0 0.02
Try::Tiny 0 0.32
YAML::Tiny 0 1.76
build_requires:
Module Need Have
------------------------------------------------------ ----- ----------
ExtUtils::MakeMaker 0 7.72
File::Spec 0 3.93
IO::Handle 0 1.55
IPC::Open3 0 1.24
strict 0 1.13
Test2::V0 0 1.302209
Test::More 0 1.302209
warnings 0 1.74
configure_requires:
Module Need Have
------------------------------------------------------ ----- ----------
ExtUtils::MakeMaker 0 7.72
perl 5.006 5.041011
------------------------------
ENVIRONMENT AND OTHER CONTEXT
------------------------------
Environment variables:
AUTOMATED_TESTING = 1
DATE_MANIP_TEST_DM5 = 1
LC_ALL = C
NONINTERACTIVE_TESTING = 1
NO_NETWORK_TESTING = 1
PATH = /home/cpan/bin/perl/bin:/home/cpan/bin:/home/cpan/bin:/bin:/sbin:/usr/bin:/usr/sbin:/usr/X11R7/bin:/usr/pkg/bin:/usr/pkg/sbin:/usr/games:/usr/local/bin:/usr/local/sbin
PERL5LIB =
PERL5OPT =
PERL5_CPANPLUS_IS_RUNNING = 21331
PERL5_CPAN_IS_RUNNING = 21331
PERL_MM_USE_DEFAULT = 1
PERL_USE_UNSAFE_INC = 1
SHELL = /usr/pkg/bin/bash
TERM = screen
TMPDIR = /home/cpan/tmp
Perl special variables (and OS-specific diagnostics, for MSWin32):
$^X = /home/cpan/bin/perl/bin/perl5.41.11
$UID/$EUID = 1001 / 1001
$GID = 100 100
$EGID = 100 100
Perl module toolchain versions installed:
Module Have
------------------- --------
CPAN 2.38
CPAN::Meta 2.150010
Cwd 3.92
ExtUtils::CBuilder 0.280240
ExtUtils::Command 7.72
ExtUtils::Install 2.22
ExtUtils::MakeMaker 7.72
ExtUtils::Manifest 1.75
ExtUtils::ParseXS 3.57
File::Spec 3.93
JSON 4.10
JSON::PP 4.16
Module::Build 0.4234
Module::Signature 0.89
Parse::CPAN::Meta 2.150010
Test2 1.302209
Test::Harness 3.50
Test::More 1.302209
YAML 1.31
YAML::Syck 1.34
version 0.9933
--
Summary of my perl5 (revision 5 version 41 subversion 11) configuration:
Commit id: 654993734bba564be7013d78ecc24a4d2330c0bb
Platform:
osname=netbsd
osvers=10.0
archname=amd64-netbsd
uname='netbsd cjg-netbsd10 10.0 netbsd 10.0 (generic) #0: thu mar 28 08:33:33 utc 2024 mkrepro@mkrepro.netbsd.org:usrsrcsysarchamd64compilegeneric amd64 '
config_args='-des -Dprefix=/home/cpan/bin/perl -Dscriptdir=/home/cpan/bin/perl/bin -Dusedevel -Duse64bitall'
hint=recommended
useposix=true
d_sigaction=define
useithreads=undef
usemultiplicity=undef
use64bitint=define
use64bitall=define
uselongdouble=undef
usemymalloc=n
default_inc_excludes_dot=define
Compiler:
cc='cc'
ccflags ='-fwrapv -fno-strict-aliasing -pipe -fstack-protector-strong -I/usr/pkg/include -D_FORTIFY_SOURCE=2'
optimize='-O'
cppflags='-fwrapv -fno-strict-aliasing -pipe -fstack-protector-strong -I/usr/pkg/include'
ccversion=''
gccversion='10.5.0'
gccosandvers=''
intsize=4
longsize=8
ptrsize=8
doublesize=8
byteorder=12345678
doublekind=3
d_longlong=define
longlongsize=8
d_longdbl=define
longdblsize=16
longdblkind=3
ivtype='long'
ivsize=8
nvtype='double'
nvsize=8
Off_t='off_t'
lseeksize=8
alignbytes=8
prototype=define
Linker and Libraries:
ld='cc'
ldflags =' -Wl,-rpath,/usr/pkg/lib -Wl,-rpath,/usr/local/lib -fstack-protector-strong -L/usr/pkg/lib'
libpth=/usr/lib /usr/pkg/lib /lib
libs=-lpthread -lm -lcrypt -lutil -lc -lposix
perllibs=-lpthread -lm -lcrypt -lutil -lc -lposix
libc=/lib/libc.so
so=so
useshrplib=false
libperl=libperl.a
gnulibc_version=''
Dynamic Linking:
dlsrc=dl_dlopen.xs
dlext=so
d_dlsymun=undef
ccdlflags='-Wl,-E '
cccdlflags='-DPIC -fPIC '
lddlflags='-shared -L/usr/pkg/lib -fstack-protector-strong'
Characteristics of this binary (from libperl):
Compile-time options:
HAS_LONG_DOUBLE
HAS_STRTOLD
HAS_TIMES
PERLIO_LAYERS
PERL_COPY_ON_WRITE
PERL_DONT_CREATE_GVSV
PERL_HASH_FUNC_SIPHASH13
PERL_HASH_USE_SBOX32
PERL_MALLOC_WRAP
PERL_OP_PARENT
PERL_PRESERVE_IVUV
PERL_USE_DEVEL
PERL_USE_SAFE_PUTENV
USE_64_BIT_ALL
USE_64_BIT_INT
USE_LARGE_FILES
USE_LOCALE
USE_LOCALE_COLLATE
USE_LOCALE_CTYPE
USE_LOCALE_NUMERIC
USE_LOCALE_TIME
USE_PERLIO
USE_PERL_ATOF
Built under netbsd
Compiled at Mar 29 2025 16:40:33
%ENV:
PERL5LIB=""
PERL5OPT=""
PERL5_CPANPLUS_IS_RUNNING="21331"
PERL5_CPAN_IS_RUNNING="21331"
PERL_MM_USE_DEFAULT="1"
PERL_USE_UNSAFE_INC="1"
@INC:
/home/cpan/bin/perl/lib/site_perl/5.41.11/amd64-netbsd
/home/cpan/bin/perl/lib/site_perl/5.41.11
/home/cpan/bin/perl/lib/5.41.11/amd64-netbsd
/home/cpan/bin/perl/lib/5.41.11
.