Org-Parser v0.557 Perl 5 v5.35.11 amd64-freebsd-ld
- Status
- Pass
- From
- Slaven Rezić
- Dist
-
Org-Parser v0.557
- Platform
- Perl 5 v5.35.11 amd64-freebsd-ld
- Date
- 2022-04-28 00:23:10
- ID
- 6230fbb0-c689-11ec-a7d7-30111f24ea8f
This distribution has been tested as part of the CPAN Testers
project, supporting the Perl programming language. See
http://wiki.cpantesters.org/ for more information or email
questions to cpan-testers-discuss@perl.org
--
Dear perlancar,
This is a computer-generated report for Org-Parser-0.557
on perl 5.35.11, created by CPAN-Reporter-1.2018.
Thank you for uploading your work to CPAN. Congratulations!
All tests were successful.
Sections of this report:
* Tester comments
* Program output
* Prerequisites
* Environment and other context
------------------------------
TESTER COMMENTS
------------------------------
Additional comments from tester:
none provided
------------------------------
PROGRAM OUTPUT
------------------------------
Output from '/usr/bin/make test':
PERL_DL_NONLAZY=1 "/usr/perl5.35.11Dp/bin/perl5.35.11" "-MExtUtils::Command::MM" "-MTest::Harness" "-e" "undef *Test::Harness::Switches; test_harness(0, 'blib/lib', 'blib/arch')" t/*.t
t/00-compile.t ............... ok
t/01-basics.t ................ ok
t/author-critic.t ............ skipped: these tests are for testing by the author
t/author-pod-coverage.t ...... skipped: these tests are for testing by the author
t/author-pod-syntax.t ........ skipped: these tests are for testing by the author
t/base_element-field_name.t .. ok
t/base_element.t ............. ok
t/block.t .................... ok
t/comment.t .................. ok
t/document.t ................. ok
t/drawer.t ................... ok
t/fixed_width_section.t ...... ok
t/footnote.t ................. ok
t/headline-get_property.t .... ok
t/headline.t ................. ok
t/link_and_target.t .......... ok
t/list.t ..................... ok
t/radio_target.t ............. ok
t/regression-rt68443.t ....... ok
t/rt98375.t .................. ok
t/setting-todo.t ............. ok
t/setting.t .................. ok
t/table.t .................... ok
t/text.t ..................... ok
t/timerange.t ................ ok
t/timestamp.t ................ ok
t/unicode.t .................. ok
t/various.t .................. ok
All tests successful.
Files=28, Tests=120, 9 wallclock secs ( 0.14 usr 0.02 sys + 4.09 cusr 0.49 csys = 4.73 CPU)
Result: PASS
------------------------------
PREREQUISITES
------------------------------
Prerequisite modules loaded:
requires:
Module Need Have
--------------------------- ------ --------
Cwd 0 3.84
DateTime 0 1.58
DateTime::Event::Recurrence 0 0.19
Digest::MD5 0 2.58
experimental 0 0.028
File::Slurper 0 0.013
if 0 0.0610
List::MoreUtils 0 0.430
locale 0 1.10
Log::ger 0.038 0.038
Module::List 0 0.004
Module::Load 0 0.36
Moo 0 2.005004
Moo::Role 0 2.005004
perl 5.014 5.035011
Scalar::Util 0 1.62
Storable 3.08 3.26
Time::HiRes 0 1.9770
utf8 0 1.24
warnings 0 1.58
build_requires:
Module Need Have
--------------------------- ------ --------
ExtUtils::MakeMaker 0 7.64
File::Spec 0 3.84
File::Temp 0.2307 0.2311
FindBin 0 1.53
IO::Handle 0 1.48
IPC::Open3 0 1.22
lib 0 0.65
Module::Loaded 0 0.08
Org::Dump 0.551 0.552
strict 0 1.12
Test::Exception 0 0.43
Test::More 0.98 1.302190
configure_requires:
Module Need Have
--------------------------- ------ --------
ExtUtils::MakeMaker 0 7.64
------------------------------
ENVIRONMENT AND OTHER CONTEXT
------------------------------
Environment variables:
PATH = /usr/local/bin:/usr/bin:/bin:/usr/local/sbin:/usr/sbin:/sbin:/home/cpansand/bin/sh:/home/cpansand/bin:/usr/games:/home/cpansand/devel:/usr/home/eserte/src/srezic-misc/scripts
PERL5LIB = /home/cpansand/.cpan/build/2022042800/Org-Dump-0.552-1/blib/arch:/home/cpansand/.cpan/build/2022042800/Org-Dump-0.552-1/blib/lib:/home/cpansand/.cpan/build/2022042800/String-Escape-2010.002-1/blib/arch:/home/cpansand/.cpan/build/2022042800/String-Escape-2010.002-1/blib/lib:/home/cpansand/.cpan/build/2022042800/Module-List-0.004-0/blib/arch:/home/cpansand/.cpan/build/2022042800/Module-List-0.004-0/blib/lib:/home/cpansand/.cpan/build/2022042800/DateTime-Event-Recurrence-0.19-1/blib/arch:/home/cpansand/.cpan/build/2022042800/DateTime-Event-Recurrence-0.19-1/blib/lib
PERL5OPT =
PERL5_CPANPLUS_IS_RUNNING = 22408
PERL5_CPAN_IS_RUNNING = 22408
PERL5_CPAN_IS_RUNNING_IN_RECURSION = 21770,22408
PERL_BATCH = yes
PERL_CANARY_STABILITY_NOPROMPT = 1
PERL_CPAN_REPORTER_CONFIG = /var/tmp/cpansmoker-1023/2022042800/cpanreporter_000_config.ini
PERL_EXTUTILS_AUTOINSTALL = --defaultdeps
PERL_USE_UNSAFE_INC = 1
SHELL = /bin/sh
TMPDIR = /var/tmp/cpansmoker-1023/2022042800
Perl special variables (and OS-specific diagnostics, for MSWin32):
$^X = /usr/perl5.35.11Dp/bin/perl5.35.11
$UID/$EUID = 1023 / 1023
$GID = 1023 1023
$EGID = 1023 1023
Perl module toolchain versions installed:
Module Have
------------------- --------
CPAN 2.33
CPAN::Meta 2.150010
Cwd 3.84
ExtUtils::CBuilder 0.280236
ExtUtils::Command 7.64
ExtUtils::Install 2.20
ExtUtils::MakeMaker 7.64
ExtUtils::Manifest 1.73
ExtUtils::ParseXS 3.45
File::Spec 3.84
JSON 4.05
JSON::PP 4.07
Module::Build 0.4231
Module::Signature n/a
Parse::CPAN::Meta 2.150010
Test::Harness 3.44
Test::More 1.302190
YAML 1.30
YAML::Syck 1.34
version 0.9929
--
Summary of my perl5 (revision 5 version 35 subversion 11) configuration:
Platform:
osname=freebsd
osvers=13.1-stable
archname=amd64-freebsd-ld
uname='freebsd cloud10.bbbike.org 13.1-stable freebsd 13.1-stable #3 stable13-d7365cc80: thu apr 14 19:03:30 utc 2022 root@cloud10.bbbike.org:usrobjusrhomeprojectsfreebsd-srcamd64.amd64sysgeneric amd64 '
config_args='-ds -e -Dprefix=/usr/perl5.35.11Dp -Dusedevel -Dusemallocwrap=no -Duselongdouble -Dcf_email=srezic@cpan.org -Doptimize=-O2 -pipe'
hint=previous
useposix=true
d_sigaction=define
useithreads=undef
usemultiplicity=undef
use64bitint=define
use64bitall=define
uselongdouble=define
usemymalloc=n
default_inc_excludes_dot=define
Compiler:
cc='cc'
ccflags ='-DHAS_FPSETMASK -DHAS_FLOATINGPOINT_H -fno-strict-aliasing -pipe -fstack-protector-strong -I/usr/local/include'
optimize='-O2 -pipe'
cppflags='-DHAS_FPSETMASK -DHAS_FLOATINGPOINT_H -fno-strict-aliasing -pipe -fstack-protector-strong -I/usr/local/include'
ccversion=''
gccversion='FreeBSD Clang 13.0.0 (git@github.com:llvm/llvm-project.git llvmorg-13.0.0-0-gd7b669b3a303)'
gccosandvers=''
intsize=4
longsize=8
ptrsize=8
doublesize=8
byteorder=12345678
doublekind=3
d_longlong=define
longlongsize=8
d_longdbl=define
longdblsize=16
longdblkind=3
ivtype='long'
ivsize=8
nvtype='long double'
nvsize=16
Off_t='off_t'
lseeksize=8
alignbytes=16
prototype=define
Linker and Libraries:
ld='cc'
ldflags ='-pthread -Wl,-E -fstack-protector-strong -L/usr/local/lib'
libpth=/usr/lib /usr/local/lib /usr/lib/clang/13.0.0/lib
libs=-lpthread -lgdbm -ldl -lm -lcrypt -lutil -lc
perllibs=-lpthread -ldl -lm -lcrypt -lutil -lc
libc=
so=so
useshrplib=false
libperl=libperl.a
gnulibc_version=''
Dynamic Linking:
dlsrc=dl_dlopen.xs
dlext=so
d_dlsymun=undef
ccdlflags=' '
cccdlflags='-DPIC -fPIC'
lddlflags='-shared -L/usr/local/lib -fstack-protector-strong'
Characteristics of this binary (from libperl):
Compile-time options:
HAS_TIMES
PERLIO_LAYERS
PERL_COPY_ON_WRITE
PERL_DONT_CREATE_GVSV
PERL_OP_PARENT
PERL_PRESERVE_IVUV
PERL_USE_DEVEL
USE_64_BIT_ALL
USE_64_BIT_INT
USE_LARGE_FILES
USE_LOCALE
USE_LOCALE_COLLATE
USE_LOCALE_CTYPE
USE_LOCALE_NUMERIC
USE_LOCALE_TIME
USE_LONG_DOUBLE
USE_PERLIO
USE_PERL_ATOF
Built under freebsd
Compiled at Apr 21 2022 20:42:56
%ENV:
PERL5LIB="/home/cpansand/.cpan/build/2022042800/Org-Dump-0.552-1/blib/arch:/home/cpansand/.cpan/build/2022042800/Org-Dump-0.552-1/blib/lib:/home/cpansand/.cpan/build/2022042800/String-Escape-2010.002-1/blib/arch:/home/cpansand/.cpan/build/2022042800/String-Escape-2010.002-1/blib/lib:/home/cpansand/.cpan/build/2022042800/Module-List-0.004-0/blib/arch:/home/cpansand/.cpan/build/2022042800/Module-List-0.004-0/blib/lib:/home/cpansand/.cpan/build/2022042800/DateTime-Event-Recurrence-0.19-1/blib/arch:/home/cpansand/.cpan/build/2022042800/DateTime-Event-Recurrence-0.19-1/blib/lib"
PERL5OPT=""
PERL5_CPANPLUS_IS_RUNNING="22408"
PERL5_CPAN_IS_RUNNING="22408"
PERL5_CPAN_IS_RUNNING_IN_RECURSION="21770,22408"
PERL_BATCH="yes"
PERL_CANARY_STABILITY_NOPROMPT="1"
PERL_CPAN_REPORTER_CONFIG="/var/tmp/cpansmoker-1023/2022042800/cpanreporter_000_config.ini"
PERL_EXTUTILS_AUTOINSTALL="--defaultdeps"
PERL_USE_UNSAFE_INC="1"
@INC:
/home/cpansand/.cpan/build/2022042800/Org-Dump-0.552-1/blib/arch
/home/cpansand/.cpan/build/2022042800/Org-Dump-0.552-1/blib/lib
/home/cpansand/.cpan/build/2022042800/String-Escape-2010.002-1/blib/arch
/home/cpansand/.cpan/build/2022042800/String-Escape-2010.002-1/blib/lib
/home/cpansand/.cpan/build/2022042800/Module-List-0.004-0/blib/arch
/home/cpansand/.cpan/build/2022042800/Module-List-0.004-0/blib/lib
/home/cpansand/.cpan/build/2022042800/DateTime-Event-Recurrence-0.19-1/blib/arch
/home/cpansand/.cpan/build/2022042800/DateTime-Event-Recurrence-0.19-1/blib/lib
/usr/perl5.35.11Dp/lib/site_perl/5.35.11/amd64-freebsd-ld
/usr/perl5.35.11Dp/lib/site_perl/5.35.11
/usr/perl5.35.11Dp/lib/5.35.11/amd64-freebsd-ld
/usr/perl5.35.11Dp/lib/5.35.11
.