Catmandu-FedoraCommons v0.5 Perl 5 v5.26.1 amd64-freebsd
- Status
- Pass
- From
- Slaven Rezić (SREZIC)
- Dist
-
Catmandu-FedoraCommons v0.5
- Platform
- Perl 5 v5.26.1 amd64-freebsd
- Date
- 2018-11-21 13:57:27
- ID
- 616bf9bc-ed95-11e8-98b9-d85427b9638d
This distribution has been tested as part of the CPAN Testers
project, supporting the Perl programming language. See
http://wiki.cpantesters.org/ for more information or email
questions to cpan-testers-discuss@perl.org
--
Dear Patrick Hochstenbach,
This is a computer-generated report for Catmandu-FedoraCommons-0.5
on perl 5.26.1, created by CPAN-Reporter-1.2018.
Thank you for uploading your work to CPAN. Congratulations!
All tests were successful.
Sections of this report:
* Tester comments
* Program output
* Prerequisites
* Environment and other context
------------------------------
TESTER COMMENTS
------------------------------
Additional comments from tester:
none provided
------------------------------
PROGRAM OUTPUT
------------------------------
Output from './Build test':
t/01_load.t .................................................. ok
t/02_access.t ................................................ ok
t/03_modify.t ................................................ ok
t/04_store.t ................................................. ok
t/Catmandu-FedoraCommons-Model-addRelationship.t ............. ok
t/Catmandu-FedoraCommons-Model-datastreamHistory.t ........... ok
t/Catmandu-FedoraCommons-Model-datastreamProfile.t ........... ok
t/Catmandu-FedoraCommons-Model-describeRepository.t .......... ok
t/Catmandu-FedoraCommons-Model-export.t ...................... ok
t/Catmandu-FedoraCommons-Model-findObjects.t ................. ok
t/Catmandu-FedoraCommons-Model-getDatastreamDissemination.t .. ok
t/Catmandu-FedoraCommons-Model-getObjectHistory.t ............ ok
t/Catmandu-FedoraCommons-Model-getObjectProfile.t ............ ok
t/Catmandu-FedoraCommons-Model-getRelationships.t ............ ok
t/Catmandu-FedoraCommons-Model-ingest.t ...................... ok
t/Catmandu-FedoraCommons-Model-listDatastreams.t ............. ok
t/Catmandu-FedoraCommons-Model-listMethods.t ................. ok
t/Catmandu-FedoraCommons-Model-modifyObject.t ................ ok
t/Catmandu-FedoraCommons-Model-pidList.t ..................... ok
t/Catmandu-FedoraCommons-Model-purgeDatastream.t ............. ok
t/Catmandu-FedoraCommons-Model-purgeObject.t ................. ok
t/Catmandu-FedoraCommons-Model-purgeRelationship.t ........... ok
t/Catmandu-FedoraCommons-Model-upload.t ...................... ok
t/Catmandu-FedoraCommons-Model-validate.t .................... ok
t/Catmandu-FedoraCommons-Response.t .......................... ok
t/Catmandu-FedoraCommons.t ................................... ok
t/Catmandu-Store-FedoraCommons-DC.t .......................... ok
t/Catmandu-Store-FedoraCommons.t ............................. ok
t/Catmandu-Store-File-FedoraCommons-Bag.t .................... ok
t/Catmandu-Store-File-FedoraCommons-Index.t .................. ok
t/Catmandu-Store-File-FedoraCommons.t ........................ ok
t/author-pod-syntax.t ........................................ skipped: these tests are for testing by the author
All tests successful.
Files=32, Tests=481, 14 wallclock secs ( 0.18 usr 0.04 sys + 12.04 cusr 2.03 csys = 14.29 CPU)
Result: PASS
------------------------------
PREREQUISITES
------------------------------
Prerequisite modules loaded:
requires:
Module Need Have
---------------------- -------- --------
Catmandu 1.06 1.08
Catmandu::FileStore 1.13 1.13
Data::Validate::Type v1.5.1 1.6.0
Data::Validate::URI 0.06 0.07
Date::Parse 0 2.30
HTTP::Request::Common 6.04 6.13
IO::File::WithFilename 0.01 0.01
IO::Socket::SSL 2.015 2.059
perl v5.14.0 5.026001
RDF::Trine 1.014 1.019
Test::JSON 0.11 0.11
XML::LibXML 2.0121 2.0132
build_requires:
Module Need Have
---------------------- -------- --------
Test::Exception 0.32 0.43
Test::More 1.001003 1.302136
Test::Pod 1.49 1.52
Test::Simple 1.001003 1.302136
configure_requires:
Module Need Have
---------------------- -------- --------
Module::Build::Tiny 0.034 0.039
------------------------------
ENVIRONMENT AND OTHER CONTEXT
------------------------------
Environment variables:
PATH = /usr/local/bin:/usr/bin:/bin:/usr/local/sbin:/usr/sbin:/sbin:/home/cpansand/bin/sh:/home/cpansand/bin:/usr/games:/home/cpansand/devel:/home/eserte/src/srezic-misc/scripts
PERL5LIB = /home/cpansand/.cpan/build/2018112121/IO-File-WithFilename-0.01-1/blib/arch:/home/cpansand/.cpan/build/2018112121/IO-File-WithFilename-0.01-1/blib/lib:/home/cpansand/.cpan/build/2018112121/Data-Validate-Type-v1.6.0-1/blib/arch:/home/cpansand/.cpan/build/2018112121/Data-Validate-Type-v1.6.0-1/blib/lib:/home/cpansand/.cpan/build/2018112121/Catmandu-FileStore-1.13-2/blib/arch:/home/cpansand/.cpan/build/2018112121/Catmandu-FileStore-1.13-2/blib/lib:/home/cpansand/.cpan/build/2018112121/REST-Client-CrossRef-0.001-2/blib/arch:/home/cpansand/.cpan/build/2018112121/REST-Client-CrossRef-0.001-2/blib/lib
PERL5OPT =
PERL5_CPANPLUS_IS_RUNNING = 92434
PERL5_CPAN_IS_RUNNING = 92434
PERL5_CPAN_IS_RUNNING_IN_RECURSION = 91009,92434
PERL_BATCH = yes
PERL_CANARY_STABILITY_NOPROMPT = 1
PERL_CPAN_REPORTER_CONFIG = /var/tmp/cpansmoker-1023/2018112121/cpanreporter_000_config.ini
PERL_EXTUTILS_AUTOINSTALL = --defaultdeps
PERL_USE_UNSAFE_INC = 1
SHELL = /bin/sh
TMPDIR = /var/tmp/cpansmoker-1023/2018112121
Perl special variables (and OS-specific diagnostics, for MSWin32):
$^X = /usr/perl5.26.1p/bin/perl
$UID/$EUID = 1023 / 1023
$GID = 1023 1023
$EGID = 1023 1023
Perl module toolchain versions installed:
Module Have
------------------- --------
CPAN 2.18
CPAN::Meta 2.150010
Cwd 3.74
ExtUtils::CBuilder 0.280230
ExtUtils::Command 7.34
ExtUtils::Install 2.06
ExtUtils::MakeMaker 7.34
ExtUtils::Manifest 1.70
ExtUtils::ParseXS 3.34
File::Spec 3.74
JSON 2.97001
JSON::PP 2.94
Module::Build 0.4224
Module::Signature 0.81
Parse::CPAN::Meta 2.150010
Test::Harness 3.42
Test::More 1.302136
YAML 1.26
YAML::Syck 1.30
version 0.9917
--
Summary of my perl5 (revision 5 version 26 subversion 1) configuration:
Platform:
osname=freebsd
osvers=11.1-stable
archname=amd64-freebsd
uname='freebsd ali3.bbbike.org 11.1-stable freebsd 11.1-stable #1 21e3b2eb0af(stable11): thu oct 19 19:30:51 utc 2017 root@ali3.bbbike.org:usrobjhomeprojectsfreebsdsysgeneric amd64 '
config_args='-ds -e -Dprefix=/usr/perl5.26.1p -Dcf_email=srezic@cpan.org -Doptimize=-O2 -pipe'
hint=recommended
useposix=true
d_sigaction=define
useithreads=undef
usemultiplicity=undef
use64bitint=define
use64bitall=define
uselongdouble=undef
usemymalloc=n
default_inc_excludes_dot=define
bincompat5005=undef
Compiler:
cc='cc'
ccflags ='-DHAS_FPSETMASK -DHAS_FLOATINGPOINT_H -fno-strict-aliasing -pipe -fstack-protector-strong -I/usr/local/include -D_FORTIFY_SOURCE=2'
optimize='-O2 -pipe'
cppflags='-DHAS_FPSETMASK -DHAS_FLOATINGPOINT_H -fno-strict-aliasing -pipe -fstack-protector-strong -I/usr/local/include'
ccversion=''
gccversion='4.2.1 Compatible FreeBSD Clang 5.0.0 (tags/RELEASE_500/final 312559)'
gccosandvers=''
intsize=4
longsize=8
ptrsize=8
doublesize=8
byteorder=12345678
doublekind=3
d_longlong=define
longlongsize=8
d_longdbl=define
longdblsize=16
longdblkind=3
ivtype='long'
ivsize=8
nvtype='double'
nvsize=8
Off_t='off_t'
lseeksize=8
alignbytes=8
prototype=define
Linker and Libraries:
ld='cc'
ldflags ='-pthread -Wl,-E -fstack-protector-strong -L/usr/local/lib'
libpth=/usr/lib /usr/local/lib /usr/lib/clang/5.0.0/lib /usr/lib
libs=-lpthread -lgdbm -lm -lcrypt -lutil -lc
perllibs=-lpthread -lm -lcrypt -lutil -lc
libc=
so=so
useshrplib=false
libperl=libperl.a
gnulibc_version=''
Dynamic Linking:
dlsrc=dl_dlopen.xs
dlext=so
d_dlsymun=undef
ccdlflags=' '
cccdlflags='-DPIC -fPIC'
lddlflags='-shared -L/usr/local/lib -fstack-protector-strong'
Characteristics of this binary (from libperl):
Compile-time options:
HAS_TIMES
PERLIO_LAYERS
PERL_COPY_ON_WRITE
PERL_DONT_CREATE_GVSV
PERL_MALLOC_WRAP
PERL_OP_PARENT
PERL_PRESERVE_IVUV
USE_64_BIT_ALL
USE_64_BIT_INT
USE_LARGE_FILES
USE_LOCALE
USE_LOCALE_COLLATE
USE_LOCALE_CTYPE
USE_LOCALE_NUMERIC
USE_LOCALE_TIME
USE_PERLIO
USE_PERL_ATOF
Built under freebsd
Compiled at Oct 31 2017 01:02:57
%ENV:
PERL5LIB="/home/cpansand/.cpan/build/2018112121/IO-File-WithFilename-0.01-1/blib/arch:/home/cpansand/.cpan/build/2018112121/IO-File-WithFilename-0.01-1/blib/lib:/home/cpansand/.cpan/build/2018112121/Data-Validate-Type-v1.6.0-1/blib/arch:/home/cpansand/.cpan/build/2018112121/Data-Validate-Type-v1.6.0-1/blib/lib:/home/cpansand/.cpan/build/2018112121/Catmandu-FileStore-1.13-2/blib/arch:/home/cpansand/.cpan/build/2018112121/Catmandu-FileStore-1.13-2/blib/lib:/home/cpansand/.cpan/build/2018112121/REST-Client-CrossRef-0.001-2/blib/arch:/home/cpansand/.cpan/build/2018112121/REST-Client-CrossRef-0.001-2/blib/lib"
PERL5OPT=""
PERL5_CPANPLUS_IS_RUNNING="92434"
PERL5_CPAN_IS_RUNNING="92434"
PERL5_CPAN_IS_RUNNING_IN_RECURSION="91009,92434"
PERL_BATCH="yes"
PERL_CANARY_STABILITY_NOPROMPT="1"
PERL_CPAN_REPORTER_CONFIG="/var/tmp/cpansmoker-1023/2018112121/cpanreporter_000_config.ini"
PERL_EXTUTILS_AUTOINSTALL="--defaultdeps"
PERL_USE_UNSAFE_INC="1"
@INC:
/home/cpansand/.cpan/build/2018112121/IO-File-WithFilename-0.01-1/blib/arch
/home/cpansand/.cpan/build/2018112121/IO-File-WithFilename-0.01-1/blib/lib
/home/cpansand/.cpan/build/2018112121/Data-Validate-Type-v1.6.0-1/blib/arch
/home/cpansand/.cpan/build/2018112121/Data-Validate-Type-v1.6.0-1/blib/lib
/home/cpansand/.cpan/build/2018112121/Catmandu-FileStore-1.13-2/blib/arch
/home/cpansand/.cpan/build/2018112121/Catmandu-FileStore-1.13-2/blib/lib
/home/cpansand/.cpan/build/2018112121/REST-Client-CrossRef-0.001-2/blib/arch
/home/cpansand/.cpan/build/2018112121/REST-Client-CrossRef-0.001-2/blib/lib
/usr/perl5.26.1p/lib/site_perl/5.26.1/amd64-freebsd
/usr/perl5.26.1p/lib/site_perl/5.26.1
/usr/perl5.26.1p/lib/5.26.1/amd64-freebsd
/usr/perl5.26.1p/lib/5.26.1
.