Crypt-JWT v0.035 Perl 5 v5.38.0 x86_64-linux

Status
Pass
From
Ioan Rogers
Dist
Crypt-JWT v0.035
Platform
Perl 5 v5.38.0 x86_64-linux
Date
2024-02-09 23:53:10
ID
610f5522-c7a6-11ee-9d2c-b50331233155
This distribution has been tested as part of the CPAN Testers
project, supporting the Perl programming language.  See
http://wiki.cpantesters.org/ for more information or email
questions to cpan-testers-discuss@perl.org


--
Dear MIK,

This is a computer-generated report for Crypt-JWT-0.035
on perl 5.38.0, created by App::cpanminus::reporter 0.21 (1.7047).

Thank you for uploading your work to CPAN.  Congratulations!
All tests were successful.

Sections of this report:

    * Tester comments
    * Program output
    * Prerequisites
    * Environment and other context

------------------------------
TESTER COMMENTS
------------------------------

Additional comments from tester:

none provided

------------------------------
PROGRAM OUTPUT
------------------------------

Output from '':

Building and testing Crypt-JWT-0.035
cp lib/Crypt/KeyWrap.pm blib/lib/Crypt/KeyWrap.pm
cp lib/Crypt/JWT.pm blib/lib/Crypt/JWT.pm
PERL_DL_NONLAZY=1 "/home/irogers/.plenv/versions/5.38.0/bin/perl5.38.0" "-MExtUtils::Command::MM" "-MTest::Harness" "-e" "undef *Test::Harness::Switches; test_harness(0, 'blib/lib', 'blib/arch')" t/*.t
t/flattened.t .......... ok
t/compile.t ............ ok
t/jws_empty_payload.t .. ok
t/jws_no_key.t ......... ok
t/kw_rsa.t ............. ok
t/kw_gcm.t ............. ok
t/kw_pbes2.t ........... ok
t/kw_ecdhaes.t ......... ok
t/kw_ecdh.t ............ ok
t/kw_aes.t ............. ok
t/jwt_decode_tv.t ...... ok
t/jwt_params.t ......... ok
t/jwt_encode_decode.t .. ok
All tests successful.
Files=13, Tests=600,  1 wallclock secs ( 0.05 usr  0.00 sys +  1.81 cusr  0.15 csys =  2.01 CPU)
Result: PASS

------------------------------
PREREQUISITES
------------------------------

Prerequisite modules loaded:

runtime:

    Module              Need  Have    
    ------------------- ----- --------
    Compress::Raw::Zlib 0     2.206   
    CryptX              0.067 0.078   
    Exporter            5.57  5.77    
    JSON                0     4.10    
    perl                5.006 5.038000
    Scalar::Util        0     1.63    
    Test::More          0.88  1.302195

build:

    Module              Need  Have    
    ------------------- ----- --------
    ExtUtils::MakeMaker 0     7.70    

configure:

    Module              Need  Have    
    ------------------- ----- --------
    ExtUtils::MakeMaker 0     7.70    


------------------------------
ENVIRONMENT AND OTHER CONTEXT
------------------------------

Environment variables:

    HARNESS_OPTIONS = j16
    LANG = en_GB.UTF-8
    LANGUAGE = en_GB:en_CA:en
    LC_ADDRESS = en_CA.UTF-8
    LC_IDENTIFICATION = en_CA.UTF-8
    LC_MEASUREMENT = en_CA.UTF-8
    LC_MONETARY = en_CA.UTF-8
    LC_NAME = en_CA.UTF-8
    LC_NUMERIC = en_CA.UTF-8
    LC_PAPER = en_CA.UTF-8
    LC_TELEPHONE = en_CA.UTF-8
    LC_TIME = en_CA.UTF-8
    PATH = /home/irogers/.plenv/versions/5.38.0/bin:/home/irogers/.plenv/libexec:/home/irogers/.plenv/plugins/perl-build/bin:/home/irogers/Projects/github.maxmind.com/maxmind/mm_website/dev/bin/general:/home/irogers/Projects/github.maxmind.com/maxmind/mm_website/bin:/usr/local/go/bin:/home/irogers/.krew/bin:/home/irogers/.raku/bin:/opt/rakudo-pkg/bin:/home/irogers/.plenv/shims:~/.plenv/bin:/home/irogers/go/bin:/home/irogers/.local/bin:/home/irogers/bin:/usr/local/sbin:/usr/local/bin:/usr/sbin:/usr/bin:/sbin:/bin:/usr/games:/usr/local/games:/snap/bin:/snap/bin:/opt/rakudo-pkg/bin:/opt/rakudo-pkg/share/perl6/site/bin
    PERL5LIB = /home/irogers/Projects/github.maxmind.com/maxmind/mm_website/lib
    PERL_CPANM_OPT = --prompt --no-man-pages --verify --mirror https://cpan.metacpan.org
    SHELL = /bin/bash
    TERM = xterm-256color

Perl special variables (and OS-specific diagnostics, for MSWin32):

    EGID = 1000 4 24 27 30 46 113 122 134 135 138 1000
    EUID = 1000
    EXECUTABLE_NAME = /home/irogers/.plenv/versions/5.38.0/bin/perl5.38.0
    GID = 1000 4 24 27 30 46 113 122 134 135 138 1000
    UID = 1000

Perl module toolchain versions installed:

    Module              Have    
    ------------------- --------
    CPAN                2.36    
    CPAN::Meta          2.150010
    Cwd                 3.89    
    ExtUtils::CBuilder  0.280238
    ExtUtils::Command   7.70    
    ExtUtils::Install   2.22    
    ExtUtils::MakeMaker 7.70    
    ExtUtils::Manifest  1.73    
    ExtUtils::ParseXS   3.51    
    File::Spec          3.88    
    JSON                4.10    
    JSON::PP            4.16    
    Module::Build       0.4234  
    Module::Signature   0.88    
    Parse::CPAN::Meta   2.150010
    Test::Harness       3.44    
    Test::More          1.302195
    YAML                1.30    
    YAML::Syck          1.34    
    version             0.9929  


--

Summary of my perl5 (revision 5 version 38 subversion 0) configuration:
   
  Platform:
    osname=linux
    osvers=6.2.0-27-generic
    archname=x86_64-linux
    uname='linux mm-starbook 6.2.0-27-generic #28-ubuntu smp preempt_dynamic wed jul 12 22:39:51 utc 2023 x86_64 x86_64 x86_64 gnulinux '
    config_args='-Dprefix=/home/irogers/.plenv/versions/5.38.0 -de -Dversiononly -Dcc=clang -Doptimize=-O3 -Dccflags-march=native  -Dman1dir=none -Dman3dir=none -A'eval:scriptdir=/home/irogers/.plenv/versions/5.38.0/bin''
    hint=recommended
    useposix=true
    d_sigaction=define
    useithreads=undef
    usemultiplicity=undef
    use64bitint=define
    use64bitall=define
    uselongdouble=undef
    usemymalloc=n
    default_inc_excludes_dot=define
  Compiler:
    cc='clang'
    ccflags ='-fno-strict-aliasing -pipe -fstack-protector-strong -I/usr/local/include -D_LARGEFILE_SOURCE -D_FILE_OFFSET_BITS=64'
    optimize='-O3'
    cppflags='-fno-strict-aliasing -pipe -fstack-protector-strong -I/usr/local/include'
    ccversion=''
    gccversion='Ubuntu Clang 15.0.7'
    gccosandvers=''
    intsize=4
    longsize=8
    ptrsize=8
    doublesize=8
    byteorder=12345678
    doublekind=3
    d_longlong=define
    longlongsize=8
    d_longdbl=define
    longdblsize=16
    longdblkind=3
    ivtype='long'
    ivsize=8
    nvtype='double'
    nvsize=8
    Off_t='off_t'
    lseeksize=8
    alignbytes=8
    prototype=define
  Linker and Libraries:
    ld='clang'
    ldflags =' -fstack-protector-strong -L/usr/local/lib'
    libpth=/usr/lib/llvm-15/lib/clang/15.0.7/lib /usr/local/lib /usr/lib/x86_64-linux-gnu /usr/lib /usr/lib64
    libs=-lpthread -ldb -ldl -lm -lcrypt -lutil -lc
    perllibs=-lpthread -ldl -lm -lcrypt -lutil -lc
    libc=/lib/x86_64-linux-gnu/libc.so.6
    so=so
    useshrplib=false
    libperl=libperl.a
    gnulibc_version='2.37'
  Dynamic Linking:
    dlsrc=dl_dlopen.xs
    dlext=so
    d_dlsymun=undef
    ccdlflags='-Wl,-E'
    cccdlflags='-fPIC'
    lddlflags='-shared -O3 -L/usr/local/lib -fstack-protector-strong'


Characteristics of this binary (from libperl): 
  Compile-time options:
    HAS_LONG_DOUBLE
    HAS_STRTOLD
    HAS_TIMES
    PERLIO_LAYERS
    PERL_COPY_ON_WRITE
    PERL_DONT_CREATE_GVSV
    PERL_HASH_FUNC_SIPHASH13
    PERL_HASH_USE_SBOX32
    PERL_MALLOC_WRAP
    PERL_OP_PARENT
    PERL_PRESERVE_IVUV
    PERL_USE_SAFE_PUTENV
    USE_64_BIT_ALL
    USE_64_BIT_INT
    USE_LARGE_FILES
    USE_LOCALE
    USE_LOCALE_COLLATE
    USE_LOCALE_CTYPE
    USE_LOCALE_NUMERIC
    USE_LOCALE_TIME
    USE_PERLIO
    USE_PERL_ATOF
  Built under linux
  Compiled at Aug 24 2023 11:18:09
  %ENV:
    PERL5LIB="/home/irogers/Projects/github.maxmind.com/maxmind/mm_website/lib"
    PERL_CPANM_OPT="--prompt --no-man-pages --verify --mirror https://cpan.metacpan.org"
  @INC:
    /home/irogers/Projects/github.maxmind.com/maxmind/mm_website/lib
    /home/irogers/.plenv/versions/5.38.0/lib/perl5/site_perl/5.38.0/x86_64-linux
    /home/irogers/.plenv/versions/5.38.0/lib/perl5/site_perl/5.38.0
    /home/irogers/.plenv/versions/5.38.0/lib/perl5/5.38.0/x86_64-linux
    /home/irogers/.plenv/versions/5.38.0/lib/perl5/5.38.0