FFI-Platypus v2.08 Perl 5 v5.38.2 x86_64-cygwin-thread-multi-ld

Status
Pass
From
Peter John Acklam (PJACKLAM)
Dist
FFI-Platypus v2.08
Platform
Perl 5 v5.38.2 x86_64-cygwin-thread-multi-ld
Date
2024-06-07 06:52:06
ID
60d60628-6c70-1014-9b33-d11b5972d493
This distribution has been tested as part of the CPAN Testers
project, supporting the Perl programming language.  See
http://wiki.cpantesters.org/ for more information or email
questions to cpan-testers-discuss@perl.org


--
Dear Graham Ollis,

This is a computer-generated report for FFI-Platypus-2.08
on perl 5.38.2, created by CPAN-Reporter-1.2019.

Thank you for uploading your work to CPAN.  Congratulations!
All tests were successful.

Sections of this report:

    * Tester comments
    * Program output
    * Prerequisites
    * Environment and other context

------------------------------
TESTER COMMENTS
------------------------------

Additional comments from tester:

this report is from an automated smoke testing program
and was not reviewed by a human for accuracy

------------------------------
PROGRAM OUTPUT
------------------------------

Output from '/usr/bin/make test':

"/cygdrive/d/opt/perl5/cygwin_nt-10.0/3.4.5/x86_64/perl/5.38.2/x86_64-cygwin-thread-multi-ld/bin/perl5.38.2.exe" -MExtUtils::Command::MM -e 'cp_nonempty' -- lib/FFI/Platypus.bs blib/arch/auto/FFI/Platypus/Platypus.bs 644
CC t/ffi/align.c
CC t/ffi/align_array.c
CC t/ffi/align_fixed.c
CC t/ffi/align_string.c
CC t/ffi/basic.c
CC t/ffi/closure.c
CC t/ffi/color.c
CC t/ffi/complex_double.c
CC t/ffi/complex_float.c
CC t/ffi/double.c
CC t/ffi/float.c
CC t/ffi/gh117.c
CC t/ffi/gh174.c
CC t/ffi/longdouble.c
CC t/ffi/memcmp4.c
CC t/ffi/meta.c
CC t/ffi/pointer.c
CC t/ffi/record.c
CC t/ffi/sint16.c
CC t/ffi/sint32.c
CC t/ffi/sint64.c
CC t/ffi/sint8.c
CC t/ffi/string.c
CC t/ffi/string_array.c
CC t/ffi/uint16.c
CC t/ffi/uint32.c
CC t/ffi/uint64.c
CC t/ffi/uint8.c
CC t/ffi/variadic.c
LD t/ffi/cygtest.dll
PERL_DL_NONLAZY=1 "/cygdrive/d/opt/perl5/cygwin_nt-10.0/3.4.5/x86_64/perl/5.38.2/x86_64-cygwin-thread-multi-ld/bin/perl5.38.2.exe" "-MExtUtils::Command::MM" "-MTest::Harness" "-e" "undef *Test::Harness::Switches; test_harness(0, 'blib/lib', 'blib/arch')" t/*.t
# 
# 
# 
# HARNESS_ACTIVE=1
# HARNESS_VERSION=3.44
# PERL5LIB=/cygdrive/d/opt/perl5/cygwin_nt-10.0/3.4.5/x86_64/cpan/5.38.2/x86_64-cygwin-thread-multi-ld/build/FFI-Platypus-2.08-0/blib/lib:/cygdrive/d/opt/perl5/cygwin_nt-10.0/3.4.5/x86_64/cpan/5.38.2/x86_64-cygwin-thread-multi-ld/build/FFI-Platypus-2.08-0/blib/arch:/opt/perl5/cygwin_nt-10.0/3.4.5/x86_64/perl/5.38.2/x86_64-cygwin-thread-multi-ld/local/lib/perl5/x86_64-cygwin-thread-multi-ld:/opt/perl5/cygwin_nt-10.0/3.4.5/x86_64/perl/5.38.2/x86_64-cygwin-thread-multi-ld/local/lib/perl5:/opt/perl5/cygwin_nt-10.0/3.4.5/x86_64/perl/5.38.2/x86_64-cygwin-thread-multi-ld/local/lib/site_perl:/opt/perl5/cygwin_nt-10.0/3.4.5/x86_64/perl/5.38.2/x86_64-cygwin-thread-multi-ld/local/lib:/opt/perl5/cygwin_nt-10.0/3.4.5/x86_64/perl/5.38.2/x86_64-cygwin-thread-multi-ld/local/lib/perl5:/opt/perl5/cygwin_nt-10.0/3.4.5/x86_64/perl/5.38.2/x86_64-cygwin-thread-multi-ld/local/lib/site_perl:/opt/perl5/cygwin_nt-10.0/3.4.5/x86_64/perl/5.38.2/x86_64-cygwin-thread-multi-ld/local/lib
# PERL5OPT=
# PERL5_CPANPLUS_IS_RUNNING=32873
# PERL5_CPAN_IS_RUNNING=32873
# PERL_CANARY_STABILITY_NOPROMPT=1
# PERL_CPAN_REPORTER_CONFIG=/cygdrive/d/home/peter/.cpanreporter/config-cygwin-rigel.ini
# PERL_DL_NONLAZY=1
# PERL_EXTUTILS_AUTOINSTALL=1
# PERL_MB_OPT=--install_base /opt/perl5/cygwin_nt-10.0/3.4.5/x86_64/perl/5.38.2/x86_64-cygwin-thread-multi-ld/local
# PERL_MM_OPT=INSTALL_BASE=/opt/perl5/cygwin_nt-10.0/3.4.5/x86_64/perl/5.38.2/x86_64-cygwin-thread-multi-ld/local
# PERL_MM_USE_DEFAULT=1
# PERL_TEST_CRITIC=1
# PERL_TEST_POD=1
# PERL_USE_UNSAFE_INC=1
# SHELL=/bin/bash
# 
# 
# 
# PERL5LIB path
# /cygdrive/d/opt/perl5/cygwin_nt-10.0/3.4.5/x86_64/cpan/5.38.2/x86_64-cygwin-thread-multi-ld/build/FFI-Platypus-2.08-0/blib/lib
# /cygdrive/d/opt/perl5/cygwin_nt-10.0/3.4.5/x86_64/cpan/5.38.2/x86_64-cygwin-thread-multi-ld/build/FFI-Platypus-2.08-0/blib/arch
# /opt/perl5/cygwin_nt-10.0/3.4.5/x86_64/perl/5.38.2/x86_64-cygwin-thread-multi-ld/local/lib/perl5/x86_64-cygwin-thread-multi-ld
# /opt/perl5/cygwin_nt-10.0/3.4.5/x86_64/perl/5.38.2/x86_64-cygwin-thread-multi-ld/local/lib/perl5
# /opt/perl5/cygwin_nt-10.0/3.4.5/x86_64/perl/5.38.2/x86_64-cygwin-thread-multi-ld/local/lib/site_perl
# /opt/perl5/cygwin_nt-10.0/3.4.5/x86_64/perl/5.38.2/x86_64-cygwin-thread-multi-ld/local/lib
# /opt/perl5/cygwin_nt-10.0/3.4.5/x86_64/perl/5.38.2/x86_64-cygwin-thread-multi-ld/local/lib/perl5
# /opt/perl5/cygwin_nt-10.0/3.4.5/x86_64/perl/5.38.2/x86_64-cygwin-thread-multi-ld/local/lib/site_perl
# /opt/perl5/cygwin_nt-10.0/3.4.5/x86_64/perl/5.38.2/x86_64-cygwin-thread-multi-ld/local/lib
# 
# 
# 
# perl                  5.038002 cygwin x86_64-cygwin-thread-multi-ld
# Alien::Base           2.80
# Alien::FFI            -
# Capture::Tiny         0.48
# Devel::Hide           0.0015
# ExtUtils::CBuilder    0.280238
# ExtUtils::MakeMaker   7.70
# ExtUtils::ParseXS     3.51
# FFI::CheckLib         0.31
# File::Spec::Functions 3.88
# IPC::Cmd              1.04
# JSON::PP              4.16
# List::Util            1.63
# Math::LongDouble      -
# PkgConfig             -
# Test2::API            1.302194
# Test2::V0             0.000162
# autodie               2.36
# constant              1.33
# forks                 -
# parent                0.241
# 
# 
# 
# mode : system
# Alien::FFI::pkgconfig->VERSION      = 
# Alien::FFI::pkgconfig->install_type = system
# Alien::FFI::pkgconfig->cflags       = 
# Alien::FFI::pkgconfig->libs         = -L/usr/lib/../lib -lffi 
# Alien::FFI::pkgconfig->version      = 3.4.3
# 
# 
# 
# ffi.platypus.memory.strdup_impl =libc
# ffi.platypus.memory.strndup_impl=libc
# 
# 
# 
# Types:
#   double   : double, float complex
#   float    : float
#   longdouble : double complex, long double, long double complex
#   sint16   : int16_t, short, signed short
#   sint32   : blksize_t, int, int32_t, senum, signed int
#   sint64   : blkcnt_t, int64_t, intmax_t, intptr_t, long, long long, off_t, ptrdiff_t, signed long, signed long long, ssize_t, time_t
#   sint8    : char, int8_t, signed char
#   uint16   : nlink_t, uint16_t, unsigned short, ushort, wchar_t
#   uint32   : dev_t, enum, gid_t, mode_t, uid_t, uint, uint32_t, unsigned int, wint_t
#   uint64   : ino_t, size_t, uint64_t, uintmax_t, uintptr_t, ulong, unsigned long, unsigned long long
#   uint8    : bool, uchar, uint8_t, unsigned char
# 
# 
# 
# ABIs:
#   default_abi          2
#   gnuw64               2
#   win64                1
# 
# 
# 
# Probes:
#   recordvalue          1
#   variadic             1
#   bigendian64          0
#   bigendian            0
#   longdouble           1
#   alloca               1
#   complex              1
#   abi                  1
#   strnlen              1
# 
# 
# 
# CPU Info:
#   model name	: Intel(R) Core(TM) i7-2600K CPU @ 3.40GHz
#   flags		: fpu vme de pse tsc msr pae mce cx8 apic sep mtrr pge mca cmov pat pse36 clflush dts acpi mmx fxsr sse sse2 ss ht tm pbe constant_tsc arch_perfmon rep_good nopl xtopology cpuid aperfmperf pni pclmuldq dtes64 monitor ds_cpl vmx est tm2 ssse3 cx16 xtpr pdcm pcid sse4_1 sse4_2 popcnt tsc_deadline_timer aes xsave avx lahf_lm epb xsaveopt dtherm ida arat pln pts md_clear flush_l1d
#   address sizes	: 36 bits physical, 48 bits virtual
# 
# 
# 
# [PLATFORM]
# osname            : cygwin
# cc                : gcc
# cxx               : g++
# cxxld             : g++
# for               : gfortran
# ld                : g++
# ccflags           : -U__STRICT_ANSI__ -D_GNU_SOURCE -fwrapv -fno-strict-aliasing -pipe -fstack-protector-strong -D_FORTIFY_SOURCE=2 -O3 -I/cygdrive/d/opt/perl5/cygwin_nt-10.0/3.4.5/x86_64/cpan/5.38.2/x86_64-cygwin-thread-multi-ld/build/FFI-Platypus-2.08-0/blib/lib/auto/share/dist/FFI-Platypus/include
# ldflags           : --shared -Wl,--enable-auto-import -Wl,--export-all-symbols -Wl,--enable-auto-image-base -L/usr/local/lib -fstack-protector-strong
# object suffix     : .o
# library prefix    : cyg
# library suffix    : .dll
# cc mm works       : -MM
# 
# 
# 
t/00_diag.t .............................. ok
t/ffi_build.t ............................ ok
t/ffi_build_file_base.t .................. ok
t/ffi_build_file_c.t ..................... ok
t/ffi_build_file_cxx.t ................... ok
t/ffi_build_file_library.t ............... ok
t/ffi_build_file_object.t ................ ok
t/ffi_build_mm.t ......................... ok
t/ffi_build_platform.t ................... ok
t/ffi_build_plugin.t ..................... ok
t/ffi_build_plugindata.t ................. ok
t/ffi_platypus.t ......................... ok
t/ffi_platypus_api.t ..................... ok
t/ffi_platypus_buffer.t .................. ok
t/ffi_platypus_bundle.t .................. ok
t/ffi_platypus_closure.t ................. ok
t/ffi_platypus_constant.t ................ ok
t/ffi_platypus_dl.t ...................... ok
t/ffi_platypus_function.t ................ ok
t/ffi_platypus_function_wrapper.t ........ ok
t/ffi_platypus_internal.t ................ ok
t/ffi_platypus_lang.t .................... ok
t/ffi_platypus_lang_asm.t ................ ok
t/ffi_platypus_lang_c.t .................. ok
t/ffi_platypus_lang_win32.t .............. ok
t/ffi_platypus_legacy.t .................. ok
t/ffi_platypus_memory.t .................. ok
t/ffi_platypus_record.t .................. ok
t/ffi_platypus_record_meta.t ............. ok
t/ffi_platypus_record_tiearray.t ......... ok
t/ffi_platypus_shareconfig.t ............. ok
t/ffi_platypus_type.t .................... ok
t/ffi_platypus_type_pointersizebuffer.t .. ok
t/ffi_platypus_type_stringarray.t ........ ok
t/ffi_platypus_type_stringpointer.t ...... ok
t/ffi_platypus_type_widestring.t ......... ok
t/ffi_platypus_typeparser.t .............. ok
t/ffi_platypus_typeparser_version0.t ..... ok
t/ffi_platypus_typeparser_version1.t ..... ok
t/ffi_platypus_typeparser_version2.t ..... ok
t/ffi_probe.t ............................ ok
t/ffi_probe_runner.t ..................... ok
t/ffi_probe_runner_builder.t ............. ok
t/ffi_probe_runner_result.t .............. ok
t/ffi_temp.t ............................. ok
t/forks.t ................................ skipped: Test requires forks
t/gh117.t ................................ ok
t/gh129.t ................................ ok
t/gh323.t ................................ ok
t/memory.t ............................... skipped: tested only in CI
t/threads.t .............................. ok
t/type_complex_double.t .................. ok
t/type_complex_float.t ................... ok
t/type_custom.t .......................... ok
t/type_double.t .......................... ok
t/type_float.t ........................... ok
t/type_longdouble.t ...................... ok
t/type_longdouble__array.t ............... ok
t/type_longdouble__hide.t ................ ok
t/type_longdouble__ptr.t ................. ok
t/type_opaque.t .......................... ok
t/type_record.t .......................... ok
t/type_record_value.t .................... ok
t/type_sint16.t .......................... ok
t/type_sint32.t .......................... ok
t/type_sint64.t .......................... ok
t/type_sint8.t ........................... ok
t/type_string.t .......................... ok
t/type_uint16.t .......................... ok
t/type_uint32.t .......................... ok
t/type_uint64.t .......................... ok
t/type_uint8.t ........................... ok
All tests successful.
Files=72, Tests=322, 403 wallclock secs ( 0.97 usr  1.22 sys + 72.90 cusr 312.96 csys = 388.05 CPU)
Result: PASS

------------------------------
PREREQUISITES
------------------------------

Prerequisite modules loaded:

requires:

    Module                Need     Have    
    --------------------- -------- --------
    autodie               0        2.36    
    Capture::Tiny         0        0.48    
    constant              1.32     1.33    
    ExtUtils::MakeMaker   7.12     7.70    
    FFI::CheckLib         0.05     0.31    
    File::Spec::Functions 0        3.88    
    IPC::Cmd              0        1.04    
    JSON::PP              0        4.16    
    List::Util            1.45     1.63    
    parent                0        0.241   
    perl                  5.008004 5.038002

build_requires:

    Module                Need     Have    
    --------------------- -------- --------
    Capture::Tiny         0        0.48    
    ExtUtils::CBuilder    0        0.280238
    Test2::API            1.302015 1.302194
    Test2::V0             0.000121 0.000162

configure_requires:

    Module                Need     Have    
    --------------------- -------- --------
    Capture::Tiny         0        0.48    
    ExtUtils::MakeMaker   7.12     7.70    
    ExtUtils::ParseXS     3.30     3.51    
    IPC::Cmd              0        1.04    
    JSON::PP              0        4.16    
    parent                0        0.241   
    perl                  5.006    5.038002


------------------------------
ENVIRONMENT AND OTHER CONTEXT
------------------------------

Environment variables:

    AUTOMATED_TESTING = 1
    COMSPEC = C:\WINDOWS\system32\cmd.exe
    NUMBER_OF_PROCESSORS = 8
    PATH = /opt/perl5/cygwin_nt-10.0/3.4.5/x86_64/perl/5.38.2/x86_64-cygwin-thread-multi-ld/bin:/opt/perl5/cygwin_nt-10.0/3.4.5/x86_64/perl/5.38.2/x86_64-cygwin-thread-multi-ld/local/bin:/usr/lib/lapack:/usr/local/bin:/usr/bin:/bin
    PERL5LIB = /opt/perl5/cygwin_nt-10.0/3.4.5/x86_64/perl/5.38.2/x86_64-cygwin-thread-multi-ld/local/lib/perl5:/opt/perl5/cygwin_nt-10.0/3.4.5/x86_64/perl/5.38.2/x86_64-cygwin-thread-multi-ld/local/lib/site_perl:/opt/perl5/cygwin_nt-10.0/3.4.5/x86_64/perl/5.38.2/x86_64-cygwin-thread-multi-ld/local/lib
    PERL5OPT = 
    PERL5_CPANPLUS_IS_RUNNING = 32873
    PERL5_CPAN_IS_RUNNING = 32873
    PERL_CANARY_STABILITY_NOPROMPT = 1
    PERL_CPAN_REPORTER_CONFIG = /cygdrive/d/home/peter/.cpanreporter/config-cygwin-rigel.ini
    PERL_EXTUTILS_AUTOINSTALL = 1
    PERL_MB_OPT = --install_base /opt/perl5/cygwin_nt-10.0/3.4.5/x86_64/perl/5.38.2/x86_64-cygwin-thread-multi-ld/local
    PERL_MM_OPT = INSTALL_BASE=/opt/perl5/cygwin_nt-10.0/3.4.5/x86_64/perl/5.38.2/x86_64-cygwin-thread-multi-ld/local
    PERL_MM_USE_DEFAULT = 1
    PERL_TEST_CRITIC = 1
    PERL_TEST_CRITIC = 1
    PERL_TEST_POD = 1
    PERL_TEST_POD = 1
    PERL_USE_UNSAFE_INC = 1
    POD_TESTING = 1
    POD_TESTS = 1
    PROCESSOR_IDENTIFIER = Intel64 Family 6 Model 42 Stepping 7, GenuineIntel
    SHELL = /bin/bash
    TEMP = /tmp
    TERM = xterm

Perl special variables (and OS-specific diagnostics, for MSWin32):

    $^X = /cygdrive/d/opt/perl5/cygwin_nt-10.0/3.4.5/x86_64/perl/5.38.2/x86_64-cygwin-thread-multi-ld/bin/perl5.38.2
    $UID/$EUID = 197609 / 197609
    $GID = 197609 401408 545 4 66049 11 15 68380 113 4095 66048 262180
    $EGID = 197609 401408 545 4 66049 11 15 68380 113 4095 66048 262180

Perl module toolchain versions installed:

    Module              Have    
    ------------------- --------
    CPAN                2.36    
    CPAN::Meta          2.150010
    Cwd                 3.89    
    ExtUtils::CBuilder  0.280238
    ExtUtils::Command   7.70    
    ExtUtils::Install   2.22    
    ExtUtils::MakeMaker 7.70    
    ExtUtils::Manifest  1.73    
    ExtUtils::ParseXS   3.51    
    File::Spec          3.88    
    JSON                n/a     
    JSON::PP            4.16    
    Module::Build       0.4234  
    Module::Signature   n/a     
    Parse::CPAN::Meta   2.150010
    Test2               1.302194
    Test::Harness       3.44    
    Test::More          1.302194
    YAML                1.31    
    YAML::Syck          n/a     
    version             0.9929  


--

Summary of my perl5 (revision 5 version 38 subversion 2) configuration:
   
  Platform:
    osname=cygwin
    osvers=3.4.5-1.x86_64
    archname=x86_64-cygwin-thread-multi-ld
    uname='cygwin_nt-10.0-19045 rigel 3.4.5-1.x86_64 2023-01-19 19:09 utc x86_64 cygwin '
    config_args='-de -Dmksymlinks -Uinc_version_list -Uinstallusrbinperl -Dusethreads -Dusemultiplicity -Duselongdouble -Dprefix=/opt/perl5/cygwin_nt-10.0/3.4.5/x86_64/perl/5.38.2/x86_64-cygwin-thread-multi-ld -Darchname=x86_64-cygwin-thread-multi-ld'
    hint=recommended
    useposix=true
    d_sigaction=define
    useithreads=define
    usemultiplicity=define
    use64bitint=define
    use64bitall=define
    uselongdouble=define
    usemymalloc=n
    default_inc_excludes_dot=define
  Compiler:
    cc='gcc'
    ccflags ='-U__STRICT_ANSI__ -D_GNU_SOURCE -fwrapv -fno-strict-aliasing -pipe -fstack-protector-strong -D_FORTIFY_SOURCE=2'
    optimize='-O3'
    cppflags='-U__STRICT_ANSI__ -D_GNU_SOURCE -fwrapv -fno-strict-aliasing -pipe -fstack-protector-strong'
    ccversion=''
    gccversion='11.3.0'
    gccosandvers=''
    intsize=4
    longsize=8
    ptrsize=8
    doublesize=8
    byteorder=12345678
    doublekind=3
    d_longlong=define
    longlongsize=8
    d_longdbl=define
    longdblsize=16
    longdblkind=3
    ivtype='long'
    ivsize=8
    nvtype='long double'
    nvsize=16
    Off_t='off_t'
    lseeksize=8
    alignbytes=16
    prototype=define
  Linker and Libraries:
    ld='g++'
    ldflags =' -Wl,--enable-auto-import -Wl,--export-all-symbols -Wl,--enable-auto-image-base -fstack-protector-strong -L/usr/local/lib'
    libpth=/usr/lib /usr/lib/w32api /usr/local/lib /lib
    libs=-lpthread -lgdbm -ldb -ldl -lcrypt -lgdbm_compat
    perllibs=-lpthread -ldl -lcrypt
    libc=/usr/lib/libcygwin.a
    so=dll
    useshrplib=true
    libperl=cygperl5_38_2.dll
    gnulibc_version=''
  Dynamic Linking:
    dlsrc=dl_dlopen.xs
    dlext=dll
    d_dlsymun=undef
    ccdlflags=' '
    cccdlflags=' '
    lddlflags=' --shared  -Wl,--enable-auto-import -Wl,--export-all-symbols -Wl,--enable-auto-image-base -L/usr/local/lib -fstack-protector-strong'


Characteristics of this binary (from libperl): 
  Compile-time options:
    HAS_LONG_DOUBLE
    HAS_STRTOLD
    HAS_TIMES
    MULTIPLICITY
    PERLIO_LAYERS
    PERL_COPY_ON_WRITE
    PERL_DONT_CREATE_GVSV
    PERL_HASH_FUNC_SIPHASH13
    PERL_HASH_USE_SBOX32
    PERL_OP_PARENT
    PERL_PRESERVE_IVUV
    PERL_USE_SAFE_PUTENV
    USE_64_BIT_ALL
    USE_64_BIT_INT
    USE_ITHREADS
    USE_LARGE_FILES
    USE_LOCALE
    USE_LOCALE_COLLATE
    USE_LOCALE_CTYPE
    USE_LOCALE_NUMERIC
    USE_LOCALE_TIME
    USE_LONG_DOUBLE
    USE_PERLIO
    USE_PERL_ATOF
    USE_REENTRANT_API
  Built under cygwin
  Compiled at May 12 2024 08:03:39
  %ENV:
    PERL5LIB="/opt/perl5/cygwin_nt-10.0/3.4.5/x86_64/perl/5.38.2/x86_64-cygwin-thread-multi-ld/local/lib/perl5:/opt/perl5/cygwin_nt-10.0/3.4.5/x86_64/perl/5.38.2/x86_64-cygwin-thread-multi-ld/local/lib/site_perl:/opt/perl5/cygwin_nt-10.0/3.4.5/x86_64/perl/5.38.2/x86_64-cygwin-thread-multi-ld/local/lib"
    PERL5OPT=""
    PERL5_CPANPLUS_IS_RUNNING="32873"
    PERL5_CPAN_IS_RUNNING="32873"
    PERL_CANARY_STABILITY_NOPROMPT="1"
    PERL_CPAN_REPORTER_CONFIG="/cygdrive/d/home/peter/.cpanreporter/config-cygwin-rigel.ini"
    PERL_EXTUTILS_AUTOINSTALL="1"
    PERL_MB_OPT="--install_base /opt/perl5/cygwin_nt-10.0/3.4.5/x86_64/perl/5.38.2/x86_64-cygwin-thread-multi-ld/local"
    PERL_MM_OPT="INSTALL_BASE=/opt/perl5/cygwin_nt-10.0/3.4.5/x86_64/perl/5.38.2/x86_64-cygwin-thread-multi-ld/local"
    PERL_MM_USE_DEFAULT="1"
    PERL_TEST_CRITIC="1"
    PERL_TEST_POD="1"
    PERL_USE_UNSAFE_INC="1"
  @INC:
    /opt/perl5/cygwin_nt-10.0/3.4.5/x86_64/perl/5.38.2/x86_64-cygwin-thread-multi-ld/local/lib/perl5/x86_64-cygwin-thread-multi-ld
    /opt/perl5/cygwin_nt-10.0/3.4.5/x86_64/perl/5.38.2/x86_64-cygwin-thread-multi-ld/local/lib/perl5
    /opt/perl5/cygwin_nt-10.0/3.4.5/x86_64/perl/5.38.2/x86_64-cygwin-thread-multi-ld/local/lib/site_perl
    /opt/perl5/cygwin_nt-10.0/3.4.5/x86_64/perl/5.38.2/x86_64-cygwin-thread-multi-ld/local/lib
    /opt/perl5/cygwin_nt-10.0/3.4.5/x86_64/perl/5.38.2/x86_64-cygwin-thread-multi-ld/lib/site_perl/5.38.2/x86_64-cygwin-thread-multi-ld
    /opt/perl5/cygwin_nt-10.0/3.4.5/x86_64/perl/5.38.2/x86_64-cygwin-thread-multi-ld/lib/site_perl/5.38.2
    /opt/perl5/cygwin_nt-10.0/3.4.5/x86_64/perl/5.38.2/x86_64-cygwin-thread-multi-ld/lib/5.38.2/x86_64-cygwin-thread-multi-ld
    /opt/perl5/cygwin_nt-10.0/3.4.5/x86_64/perl/5.38.2/x86_64-cygwin-thread-multi-ld/lib/5.38.2
    .