Encode v3.21 Perl 5 v5.41.9 x86_64-linux
- Status
- Pass
- From
- Carlos Guevara
- Dist
-
Encode v3.21
- Platform
- Perl 5 v5.41.9 x86_64-linux
- Date
- 2025-01-30 12:18:55
- ID
- 6037d37e-df04-11ef-935c-aff52adab3fb
This distribution has been tested as part of the CPAN Testers
project, supporting the Perl programming language. See
http://wiki.cpantesters.org/ for more information or email
questions to cpan-testers-discuss@perl.org
--
Dear Dan Kogai,
This is a computer-generated report for Encode-3.21
on perl 5.41.9, created by CPAN-Reporter-1.2020.
Thank you for uploading your work to CPAN. Congratulations!
All tests were successful.
Sections of this report:
* Tester comments
* Program output
* Prerequisites
* Environment and other context
------------------------------
TESTER COMMENTS
------------------------------
Additional comments from tester:
this report is from an automated smoke testing program
and was not reviewed by a human for accuracy
------------------------------
PROGRAM OUTPUT
------------------------------
Output from '/usr/bin/make test':
"/home/cpan/bin/perl/bin/perl5.41.9" -MExtUtils::Command::MM -e 'cp_nonempty' -- Encode.bs blib/arch/auto/Encode/Encode.bs 644
make[1]: Entering directory '/home/cpan/.cpan/build/Encode-3.21-0/Byte'
"/home/cpan/bin/perl/bin/perl5.41.9" -MExtUtils::Command::MM -e 'cp_nonempty' -- Byte.bs ../blib/arch/auto/Encode/Byte/Byte.bs 644
make[1]: Leaving directory '/home/cpan/.cpan/build/Encode-3.21-0/Byte'
make[1]: Entering directory '/home/cpan/.cpan/build/Encode-3.21-0/CN'
"/home/cpan/bin/perl/bin/perl5.41.9" -MExtUtils::Command::MM -e 'cp_nonempty' -- CN.bs ../blib/arch/auto/Encode/CN/CN.bs 644
make[1]: Leaving directory '/home/cpan/.cpan/build/Encode-3.21-0/CN'
make[1]: Entering directory '/home/cpan/.cpan/build/Encode-3.21-0/EBCDIC'
"/home/cpan/bin/perl/bin/perl5.41.9" -MExtUtils::Command::MM -e 'cp_nonempty' -- EBCDIC.bs ../blib/arch/auto/Encode/EBCDIC/EBCDIC.bs 644
make[1]: Leaving directory '/home/cpan/.cpan/build/Encode-3.21-0/EBCDIC'
make[1]: Entering directory '/home/cpan/.cpan/build/Encode-3.21-0/JP'
"/home/cpan/bin/perl/bin/perl5.41.9" -MExtUtils::Command::MM -e 'cp_nonempty' -- JP.bs ../blib/arch/auto/Encode/JP/JP.bs 644
make[1]: Leaving directory '/home/cpan/.cpan/build/Encode-3.21-0/JP'
make[1]: Entering directory '/home/cpan/.cpan/build/Encode-3.21-0/KR'
"/home/cpan/bin/perl/bin/perl5.41.9" -MExtUtils::Command::MM -e 'cp_nonempty' -- KR.bs ../blib/arch/auto/Encode/KR/KR.bs 644
make[1]: Leaving directory '/home/cpan/.cpan/build/Encode-3.21-0/KR'
make[1]: Entering directory '/home/cpan/.cpan/build/Encode-3.21-0/Symbol'
"/home/cpan/bin/perl/bin/perl5.41.9" -MExtUtils::Command::MM -e 'cp_nonempty' -- Symbol.bs ../blib/arch/auto/Encode/Symbol/Symbol.bs 644
make[1]: Leaving directory '/home/cpan/.cpan/build/Encode-3.21-0/Symbol'
make[1]: Entering directory '/home/cpan/.cpan/build/Encode-3.21-0/TW'
"/home/cpan/bin/perl/bin/perl5.41.9" -MExtUtils::Command::MM -e 'cp_nonempty' -- TW.bs ../blib/arch/auto/Encode/TW/TW.bs 644
make[1]: Leaving directory '/home/cpan/.cpan/build/Encode-3.21-0/TW'
make[1]: Entering directory '/home/cpan/.cpan/build/Encode-3.21-0/Unicode'
"/home/cpan/bin/perl/bin/perl5.41.9" -MExtUtils::Command::MM -e 'cp_nonempty' -- Unicode.bs ../blib/arch/auto/Encode/Unicode/Unicode.bs 644
make[1]: Leaving directory '/home/cpan/.cpan/build/Encode-3.21-0/Unicode'
make[1]: Entering directory '/home/cpan/.cpan/build/Encode-3.21-0/Byte'
"/home/cpan/bin/perl/bin/perl5.41.9" -MExtUtils::Command::MM -e 'cp_nonempty' -- Byte.bs ../blib/arch/auto/Encode/Byte/Byte.bs 644
No tests defined for Encode::Byte extension.
make[1]: Leaving directory '/home/cpan/.cpan/build/Encode-3.21-0/Byte'
make[1]: Entering directory '/home/cpan/.cpan/build/Encode-3.21-0/CN'
"/home/cpan/bin/perl/bin/perl5.41.9" -MExtUtils::Command::MM -e 'cp_nonempty' -- CN.bs ../blib/arch/auto/Encode/CN/CN.bs 644
No tests defined for Encode::CN extension.
make[1]: Leaving directory '/home/cpan/.cpan/build/Encode-3.21-0/CN'
make[1]: Entering directory '/home/cpan/.cpan/build/Encode-3.21-0/EBCDIC'
"/home/cpan/bin/perl/bin/perl5.41.9" -MExtUtils::Command::MM -e 'cp_nonempty' -- EBCDIC.bs ../blib/arch/auto/Encode/EBCDIC/EBCDIC.bs 644
No tests defined for Encode::EBCDIC extension.
make[1]: Leaving directory '/home/cpan/.cpan/build/Encode-3.21-0/EBCDIC'
make[1]: Entering directory '/home/cpan/.cpan/build/Encode-3.21-0/JP'
"/home/cpan/bin/perl/bin/perl5.41.9" -MExtUtils::Command::MM -e 'cp_nonempty' -- JP.bs ../blib/arch/auto/Encode/JP/JP.bs 644
No tests defined for Encode::JP extension.
make[1]: Leaving directory '/home/cpan/.cpan/build/Encode-3.21-0/JP'
make[1]: Entering directory '/home/cpan/.cpan/build/Encode-3.21-0/KR'
"/home/cpan/bin/perl/bin/perl5.41.9" -MExtUtils::Command::MM -e 'cp_nonempty' -- KR.bs ../blib/arch/auto/Encode/KR/KR.bs 644
No tests defined for Encode::KR extension.
make[1]: Leaving directory '/home/cpan/.cpan/build/Encode-3.21-0/KR'
make[1]: Entering directory '/home/cpan/.cpan/build/Encode-3.21-0/Symbol'
"/home/cpan/bin/perl/bin/perl5.41.9" -MExtUtils::Command::MM -e 'cp_nonempty' -- Symbol.bs ../blib/arch/auto/Encode/Symbol/Symbol.bs 644
No tests defined for Encode::Symbol extension.
make[1]: Leaving directory '/home/cpan/.cpan/build/Encode-3.21-0/Symbol'
make[1]: Entering directory '/home/cpan/.cpan/build/Encode-3.21-0/TW'
"/home/cpan/bin/perl/bin/perl5.41.9" -MExtUtils::Command::MM -e 'cp_nonempty' -- TW.bs ../blib/arch/auto/Encode/TW/TW.bs 644
No tests defined for Encode::TW extension.
make[1]: Leaving directory '/home/cpan/.cpan/build/Encode-3.21-0/TW'
make[1]: Entering directory '/home/cpan/.cpan/build/Encode-3.21-0/Unicode'
"/home/cpan/bin/perl/bin/perl5.41.9" -MExtUtils::Command::MM -e 'cp_nonempty' -- Unicode.bs ../blib/arch/auto/Encode/Unicode/Unicode.bs 644
No tests defined for Encode::Unicode extension.
make[1]: Leaving directory '/home/cpan/.cpan/build/Encode-3.21-0/Unicode'
PERL_DL_NONLAZY=1 "/home/cpan/bin/perl/bin/perl5.41.9" "-MExtUtils::Command::MM" "-MTest::Harness" "-e" "undef *Test::Harness::Switches; test_harness(0, 'blib/lib', 'blib/arch')" t/*.t
t/Aliases.t ................ ok
t/at-cn.t .................. ok
t/at-tw.t .................. ok
t/CJKT.t ................... ok
t/cow.t .................... ok
t/decode.t ................. ok
t/enc_data.t ............... skipped: encoding pragma not supported in Perl 5.25 or later
t/enc_eucjp.t .............. skipped: Perl <=5.25.2 or cperl required
t/enc_module.t ............. skipped: encoding pragma not supported in Perl 5.25 or later
t/enc_utf8.t ............... skipped: Perl <=5.25.2 or cperl required
t/Encode.t ................. ok
t/Encoder.t ................ ok
t/encoding-locale.t ........ ok
t/encoding.t ............... skipped: encoding pragma not supported in Perl 5.25 or later
t/fallback.t ............... ok
t/from_to.t ................ ok
t/grow.t ................... ok
t/gsm0338.t ................ ok
t/guess.t .................. ok
t/isa.t .................... ok
t/jis7-fallback.t .......... ok
t/jperl.t .................. skipped: encoding pragma not supported in Perl 5.25 or later
t/magic.t .................. ok
t/mime-header.t ............ ok
t/mime-name.t .............. ok
t/mime_header_iso2022jp.t .. ok
t/perlio.t ................. ok
t/piconv.t ................. ok
t/rt113164.t ............... ok
t/rt65541.t ................ ok
t/rt76824.t ................ ok
t/rt85489.t ................ ok
t/rt86327.t ................ ok
t/taint.t .................. ok
t/truncated_utf8.t ......... ok
t/undef.t .................. ok
t/Unicode.t ................ ok
t/Unicode_trailing_nul.t ... ok
t/use-Encode-Alias.t ....... ok
t/utf32warnings.t .......... ok
t/utf8ref.t ................ ok
t/utf8strict.t ............. ok
t/utf8warnings.t ........... ok
t/whatwg-aliases.t ......... skipped: For maintainers only
t/xml.t .................... ok
All tests successful.
Files=45, Tests=7837, 4 wallclock secs ( 0.46 usr 0.09 sys + 3.00 cusr 0.53 csys = 4.08 CPU)
Result: PASS
------------------------------
PREREQUISITES
------------------------------
Prerequisite modules loaded:
requires:
Module Need Have
------------------- ----- --------
Exporter 5.57 5.78
parent 0.221 0.244
Storable 0 3.35
build_requires:
Module Need Have
------------------- ----- --------
ExtUtils::MakeMaker 0 7.70
Test::More 0.92 1.302209
configure_requires:
Module Need Have
------------------- ----- --------
ExtUtils::MakeMaker 0 7.70
------------------------------
ENVIRONMENT AND OTHER CONTEXT
------------------------------
Environment variables:
AUTOMATED_TESTING = 1
DATE_MANIP_TEST_DM5 = 1
LANG = en_US.UTF-8
LC_ALL = C
NONINTERACTIVE_TESTING = 1
NO_NETWORK_TESTING = 1
PATH = /home/cpan/bin/perl/bin:/home/cpan/bin:/usr/share/Modules/bin:/home/cpan/bin:/usr/local/bin:/usr/bin:/usr/local/sbin:/usr/sbin
PERL5LIB = /home/cpan/.cpan/build/Test-Simple-1.302209-0/blib/arch:/home/cpan/.cpan/build/Test-Simple-1.302209-0/blib/lib:/home/cpan/.cpan/build/Sub-Info-0.002-0/blib/arch:/home/cpan/.cpan/build/Sub-Info-0.002-0/blib/lib:/home/cpan/.cpan/build/Pod-Checker-1.77-0/blib/arch:/home/cpan/.cpan/build/Pod-Checker-1.77-0/blib/lib:/home/cpan/.cpan/build/ExtUtils-MakeMaker-7.70-0/blib/arch:/home/cpan/.cpan/build/ExtUtils-MakeMaker-7.70-0/blib/lib:/home/cpan/.cpan/build/CPAN-Meta-2.150010-0/blib/arch:/home/cpan/.cpan/build/CPAN-Meta-2.150010-0/blib/lib:/home/cpan/.cpan/build/IO-Compress-2.213-0/blib/arch:/home/cpan/.cpan/build/IO-Compress-2.213-0/blib/lib
PERL5OPT =
PERL5_CPANPLUS_IS_RUNNING = 2132991
PERL5_CPAN_IS_RUNNING = 2132991
PERL_MM_USE_DEFAULT = 1
PERL_USE_UNSAFE_INC = 1
SHELL = /bin/bash
TERM = screen
TMPDIR = /home/cpan/tmp
Perl special variables (and OS-specific diagnostics, for MSWin32):
$^X = /home/cpan/bin/perl/bin/perl5.41.9
$UID/$EUID = 1001 / 1001
$GID = 1001 1001
$EGID = 1001 1001
Perl module toolchain versions installed:
Module Have
------------------- --------
CPAN 2.38
CPAN::Meta 2.150010
Cwd 3.92
ExtUtils::CBuilder 0.280240
ExtUtils::Command 7.70
ExtUtils::Install 2.22
ExtUtils::MakeMaker 7.70
ExtUtils::Manifest 1.75
ExtUtils::ParseXS 3.57
File::Spec 3.93
JSON 4.10
JSON::PP 4.16
Module::Build 0.4234
Module::Signature 0.89
Parse::CPAN::Meta 2.150010
Test2 1.302209
Test::Harness 3.50
Test::More 1.302209
YAML 1.31
YAML::Syck 1.34
version 0.9933
--
Summary of my perl5 (revision 5 version 41 subversion 9) configuration:
Commit id: 71404d33b11e7123769cd2ca2814a11285b8cfbd
Platform:
osname=linux
osvers=5.14.0-503.22.1.el9_5.x86_64
archname=x86_64-linux
uname='linux cjg-rhel9 5.14.0-503.22.1.el9_5.x86_64 #1 smp preempt_dynamic wed jan 15 08:02:15 est 2025 x86_64 x86_64 x86_64 gnulinux '
config_args='-des -Dprefix=/home/cpan/bin/perl -Dscriptdir=/home/cpan/bin/perl/bin -Dusedevel -Duse64bitall'
hint=recommended
useposix=true
d_sigaction=define
useithreads=undef
usemultiplicity=undef
use64bitint=define
use64bitall=define
uselongdouble=undef
usemymalloc=n
default_inc_excludes_dot=define
Compiler:
cc='cc'
ccflags ='-fwrapv -fno-strict-aliasing -pipe -fstack-protector-strong -I/usr/local/include -D_LARGEFILE_SOURCE -D_FILE_OFFSET_BITS=64 -D_FORTIFY_SOURCE=2'
optimize='-O2'
cppflags='-fwrapv -fno-strict-aliasing -pipe -fstack-protector-strong -I/usr/local/include'
ccversion=''
gccversion='11.5.0 20240719 (Red Hat 11.5.0-2)'
gccosandvers=''
intsize=4
longsize=8
ptrsize=8
doublesize=8
byteorder=12345678
doublekind=3
d_longlong=define
longlongsize=8
d_longdbl=define
longdblsize=16
longdblkind=3
ivtype='long'
ivsize=8
nvtype='double'
nvsize=8
Off_t='off_t'
lseeksize=8
alignbytes=8
prototype=define
Linker and Libraries:
ld='cc'
ldflags =' -fstack-protector-strong -L/usr/local/lib'
libpth=/usr/local/lib /usr/lib /usr/lib64 /usr/local/lib64
libs=-lpthread -ldb -ldl -lm -lcrypt -lutil -lc
perllibs=-lpthread -ldl -lm -lcrypt -lutil -lc
libc=/lib/../lib64/libc.so.6
so=so
useshrplib=false
libperl=libperl.a
gnulibc_version='2.34'
Dynamic Linking:
dlsrc=dl_dlopen.xs
dlext=so
d_dlsymun=undef
ccdlflags='-Wl,-E'
cccdlflags='-fPIC'
lddlflags='-shared -O2 -L/usr/local/lib -fstack-protector-strong'
Characteristics of this binary (from libperl):
Compile-time options:
HAS_LONG_DOUBLE
HAS_STRTOLD
HAS_TIMES
PERLIO_LAYERS
PERL_COPY_ON_WRITE
PERL_DONT_CREATE_GVSV
PERL_HASH_FUNC_SIPHASH13
PERL_HASH_USE_SBOX32
PERL_MALLOC_WRAP
PERL_OP_PARENT
PERL_PRESERVE_IVUV
PERL_USE_DEVEL
PERL_USE_SAFE_PUTENV
USE_64_BIT_ALL
USE_64_BIT_INT
USE_LARGE_FILES
USE_LOCALE
USE_LOCALE_COLLATE
USE_LOCALE_CTYPE
USE_LOCALE_NUMERIC
USE_LOCALE_TIME
USE_PERLIO
USE_PERL_ATOF
Built under linux
Compiled at Jan 29 2025 12:08:32
%ENV:
PERL5LIB="/home/cpan/.cpan/build/Test-Simple-1.302209-0/blib/arch:/home/cpan/.cpan/build/Test-Simple-1.302209-0/blib/lib:/home/cpan/.cpan/build/Sub-Info-0.002-0/blib/arch:/home/cpan/.cpan/build/Sub-Info-0.002-0/blib/lib:/home/cpan/.cpan/build/Pod-Checker-1.77-0/blib/arch:/home/cpan/.cpan/build/Pod-Checker-1.77-0/blib/lib:/home/cpan/.cpan/build/ExtUtils-MakeMaker-7.70-0/blib/arch:/home/cpan/.cpan/build/ExtUtils-MakeMaker-7.70-0/blib/lib:/home/cpan/.cpan/build/CPAN-Meta-2.150010-0/blib/arch:/home/cpan/.cpan/build/CPAN-Meta-2.150010-0/blib/lib:/home/cpan/.cpan/build/IO-Compress-2.213-0/blib/arch:/home/cpan/.cpan/build/IO-Compress-2.213-0/blib/lib"
PERL5OPT=""
PERL5_CPANPLUS_IS_RUNNING="2132991"
PERL5_CPAN_IS_RUNNING="2132991"
PERL_MM_USE_DEFAULT="1"
PERL_USE_UNSAFE_INC="1"
@INC:
/home/cpan/.cpan/build/Test-Simple-1.302209-0/blib/arch
/home/cpan/.cpan/build/Test-Simple-1.302209-0/blib/lib
/home/cpan/.cpan/build/Sub-Info-0.002-0/blib/arch
/home/cpan/.cpan/build/Sub-Info-0.002-0/blib/lib
/home/cpan/.cpan/build/Pod-Checker-1.77-0/blib/arch
/home/cpan/.cpan/build/Pod-Checker-1.77-0/blib/lib
/home/cpan/.cpan/build/ExtUtils-MakeMaker-7.70-0/blib/arch
/home/cpan/.cpan/build/ExtUtils-MakeMaker-7.70-0/blib/lib
/home/cpan/.cpan/build/CPAN-Meta-2.150010-0/blib/arch
/home/cpan/.cpan/build/CPAN-Meta-2.150010-0/blib/lib
/home/cpan/.cpan/build/IO-Compress-2.213-0/blib/arch
/home/cpan/.cpan/build/IO-Compress-2.213-0/blib/lib
/home/cpan/bin/perl/lib/site_perl/5.41.9/x86_64-linux
/home/cpan/bin/perl/lib/site_perl/5.41.9
/home/cpan/bin/perl/lib/5.41.9/x86_64-linux
/home/cpan/bin/perl/lib/5.41.9
.