Task-BeLike-GEEKRUTH v1.0301 Perl 5 v5.39.2 x86_64-linux-thread-multi

Status
Pass
From
Andreas J. König (ANDK)
Dist
Task-BeLike-GEEKRUTH v1.0301
Platform
Perl 5 v5.39.2 x86_64-linux-thread-multi
Date
2023-09-01 17:38:33
ID
5f429574-48ee-11ee-ac5f-fa462d65d0fd
This distribution has been tested as part of the CPAN Testers
project, supporting the Perl programming language.  See
http://wiki.cpantesters.org/ for more information or email
questions to cpan-testers-discuss@perl.org


--
Dear D Ruth Holloway,

This is a computer-generated report for Task-BeLike-GEEKRUTH-1.0301
on perl 5.39.2, created by CPAN-Reporter-1.2019.

Thank you for uploading your work to CPAN.  Congratulations!
All tests were successful.

Sections of this report:

    * Tester comments
    * Program output
    * Prerequisites
    * Environment and other context

------------------------------
TESTER COMMENTS
------------------------------

Additional comments from tester:

this report is from an automated smoke testing program
and was not reviewed by a human for accuracy

------------------------------
PROGRAM OUTPUT
------------------------------

Output from '/usr/bin/make test':

PERL_DL_NONLAZY=1 "/tmp/basesmoker-reloperl-kiOR/bin/perl" "-MExtUtils::Command::MM" "-MTest::Harness" "-e" "undef *Test::Harness::Switches; test_harness(0, 'blib/lib', 'blib/arch')" t/*.t
t/00-compile.t ......... ok
t/00-placeholder.t ..... ok
# 
# Versions for all modules listed in MYMETA.json (including optional ones):
# 
# === Configure Requires ===
# 
#     Module              Want Have
#     ------------------- ---- ----
#     ExtUtils::MakeMaker  any 7.70
# 
# === Build Requires ===
# 
#     Module              Want Have
#     ------------------- ---- ----
#     ExtUtils::MakeMaker  any 7.70
# 
# === Test Requires ===
# 
#     Module              Want     Have
#     ------------------- ---- --------
#     ExtUtils::MakeMaker  any     7.70
#     File::Spec           any     3.90
#     IO::Handle           any     1.52
#     IPC::Open3           any     1.22
#     Test2::V0            any 0.000155
#     Test::More           any 1.302195
#     strict               any     1.13
#     warnings             any     1.67
# 
# === Test Recommends ===
# 
#     Module         Want     Have
#     ---------- -------- --------
#     CPAN::Meta 2.120900 2.150010
# 
# === Runtime Requires ===
# 
#     Module                                                 Want       Have
#     ------------------------------------------------------ ---- ----------
#     App::cpanminus                                          any     1.7047
#     App::perlbrew                                           any       0.98
#     Carp                                                    any       1.54
#     Code::TidyAll                                           any       0.83
#     Code::TidyAll::Plugin::Test::Vars                       any    missing
#     Cpanel::JSON::XS                                        any       4.37
#     DBD::Pg                                                 any    missing
#     DBIx::Class                                             any   0.082843
#     DBIx::Class::Helpers                                    any   2.036000
#     DBIx::Class::Schema::Loader                             any    0.07051
#     DBIx::Class::Schema::ResultSetNames                     any     1.0301
#     DBIx::Class::TemporalRelations                          any     0.9000
#     Dancer2                                                 any   0.400001
#     Dancer2::Plugin::Ajax                                   any   0.400000
#     Dancer2::Plugin::Auth::Extensible                       any      0.710
#     Dancer2::Plugin::Auth::Extensible::Provider::DBIxClass  any     0.0902
#     Dancer2::Plugin::Cache::CHI                             any    missing
#     Dancer2::Plugin::DBIx::Class                            any     1.1001
#     Dancer2::Plugin::Growler                                any       0.03
#     Dancer2::Plugin::Minify                                 any      0.002
#     Dancer2::Plugin::REST                                   any       1.02
#     Dancer2::Session::DBIC                                  any      0.120
#     Dancer2::Template::Handlebars                           any       1.00
#     Devel::Local                                            any       0.22
#     Dist::Zilla                                             any      6.030
#     Dist::Zilla::App::Command::cover                        any   1.101001
#     Dist::Zilla::App::Command::critic                       any   0.001011
#     Dist::Zilla::App::Command::dumpphases                   any   1.000009
#     Dist::Zilla::App::Command::lsplugins                    any   0.003001
#     Dist::Zilla::Plugin::Git::PushInitial                   any       0.02
#     Dist::Zilla::Plugin::INI::Baked                         any   0.002002
#     Dist::Zilla::Plugin::MetaData::BuiltWith                any   1.004005
#     Dist::Zilla::Plugin::TaskWeaver                         any   0.101629
#     Dist::Zilla::PluginBundle::GEEKRUTH                     any    missing
#     Dist::Zilla::PluginBundle::GitLab                       any     1.0002
#     File::Path                                              any       2.18
#     Modern::Perl                                            any 1.20230106
#     Moo                                                     any   2.005005
#     OrePAN2                                                 any       0.49
#     Perl::Critic                                            any      1.150
#     Perl::Critic::Bangs                                     any       1.12
#     Perl::Critic::Community                                 any     v1.0.3
#     Perl::Critic::StricterSubs                              any       0.06
#     Perl::Critic::TooMuchCode                               any       0.19
#     Perl::Tidy                                              any   20230701
#     Plack::Handler::Starman                                 any      undef
#     Pod::Coverage::TrustPod                                 any   0.100006
#     Template::Plugin::JSON::Escape                          any       0.02
#     Try::Tiny                                               any       0.31
#     YAML::Tiny                                              any       1.74
#     autodie                                                 any       2.36
# 
# 
# *** WARNING WARNING WARNING WARNING WARNING WARNING WARNING WARNING ***
# 
# The following REQUIRED prerequisites were not satisfied:
# 
# Code::TidyAll::Plugin::Test::Vars is not installed (any version required)
# DBD::Pg is not installed (any version required)
# Dancer2::Plugin::Cache::CHI is not installed (any version required)
# Dist::Zilla::PluginBundle::GEEKRUTH is not installed (any version required)
# 
t/00-report-prereqs.t .. ok
t/placeholder.t ........ ok
All tests successful.
Files=4, Tests=4,  1 wallclock secs ( 0.02 usr  0.00 sys +  0.51 cusr  0.07 csys =  0.60 CPU)
Result: PASS

------------------------------
PREREQUISITES
------------------------------

Prerequisite modules loaded:

requires:

    Module                                                 Need  Have      
    ------------------------------------------------------ ----- ----------
    App::cpanminus                                         0     1.7047    
    App::perlbrew                                          0     0.98      
    autodie                                                0     2.36      
    Carp                                                   0     1.54      
    Code::TidyAll                                          0     0.83      
  ! Code::TidyAll::Plugin::Test::Vars                      0     n/a       
    Cpanel::JSON::XS                                       0     4.37      
    Dancer2                                                0     0.400001  
    Dancer2::Plugin::Ajax                                  0     0.400000  
    Dancer2::Plugin::Auth::Extensible                      0     0.710     
    Dancer2::Plugin::Auth::Extensible::Provider::DBIxClass 0     0.0902    
  ! Dancer2::Plugin::Cache::CHI                            0     n/a       
    Dancer2::Plugin::DBIx::Class                           0     1.1001    
    Dancer2::Plugin::Growler                               0     0.03      
    Dancer2::Plugin::Minify                                0     0.002     
    Dancer2::Plugin::REST                                  0     1.02      
    Dancer2::Session::DBIC                                 0     0.120     
    Dancer2::Template::Handlebars                          0     1.00      
  ! DBD::Pg                                                0     n/a       
    DBIx::Class                                            0     0.082843  
    DBIx::Class::Helpers                                   0     2.036000  
    DBIx::Class::Schema::Loader                            0     0.07051   
    DBIx::Class::Schema::ResultSetNames                    0     1.0301    
    DBIx::Class::TemporalRelations                         0     0.9000    
    Devel::Local                                           0     0.22      
    Dist::Zilla                                            0     6.030     
    Dist::Zilla::App::Command::cover                       0     1.101001  
    Dist::Zilla::App::Command::critic                      0     0.001011  
    Dist::Zilla::App::Command::dumpphases                  0     1.000009  
    Dist::Zilla::App::Command::lsplugins                   0     0.003001  
    Dist::Zilla::Plugin::Git::PushInitial                  0     0.02      
    Dist::Zilla::Plugin::INI::Baked                        0     0.002002  
    Dist::Zilla::Plugin::MetaData::BuiltWith               0     1.004005  
    Dist::Zilla::Plugin::TaskWeaver                        0     0.101629  
  ! Dist::Zilla::PluginBundle::GEEKRUTH                    0     n/a       
    Dist::Zilla::PluginBundle::GitLab                      0     1.0002    
    File::Path                                             0     2.18      
    Modern::Perl                                           0     1.20230106
    Moo                                                    0     2.005005  
    OrePAN2                                                0     0.49      
    perl                                                   5.006 5.039002  
    Perl::Critic                                           0     1.150     
    Perl::Critic::Bangs                                    0     1.12      
    Perl::Critic::Community                                0     v1.0.3    
    Perl::Critic::StricterSubs                             0     0.06      
    Perl::Critic::TooMuchCode                              0     0.19      
    Perl::Tidy                                             0     20230701  
    Plack::Handler::Starman                                0     0         
    Pod::Coverage::TrustPod                                0     0.100006  
    Template::Plugin::JSON::Escape                         0     0.02      
    Try::Tiny                                              0     0.31      
    YAML::Tiny                                             0     1.74      

build_requires:

    Module                                                 Need  Have      
    ------------------------------------------------------ ----- ----------
    ExtUtils::MakeMaker                                    0     7.70      
    File::Spec                                             0     3.90      
    IO::Handle                                             0     1.52      
    IPC::Open3                                             0     1.22      
    strict                                                 0     1.13      
    Test2::V0                                              0     0.000155  
    Test::More                                             0     1.302195  
    warnings                                               0     1.67      

configure_requires:

    Module                                                 Need  Have      
    ------------------------------------------------------ ----- ----------
    ExtUtils::MakeMaker                                    0     7.70      
    perl                                                   5.006 5.039002  


------------------------------
ENVIRONMENT AND OTHER CONTEXT
------------------------------

Environment variables:

    AUTOMATED_TESTING = 1
    LANG = en_US.UTF-8
    PATH = /home/sand/bin:/usr/local/bin:/usr/local/sbin:/usr/sbin:/usr/bin:/sbin:/bin:/usr/games:/usr/local/games:/snap/bin:/usr/local/perl/bin:/usr/X11/bin
    PERL = /tmp/basesmoker-reloperl-kiOR/bin/perl
    PERL5LIB = /tmp/loop_over_bdir-2390-MF_3bz/LiquidWeb-Storm-CLI-1.03-0/blib/arch:/tmp/loop_over_bdir-2390-MF_3bz/LiquidWeb-Storm-CLI-1.03-0/blib/lib:/tmp/loop_over_bdir-2390-MF_3bz/AllKnowingDNS-1.7-0/blib/arch:/tmp/loop_over_bdir-2390-MF_3bz/AllKnowingDNS-1.7-0/blib/lib:/tmp/loop_over_bdir-2390-MF_3bz/RDF-NLP-SPARQLQuery-0.1-0/blib/arch:/tmp/loop_over_bdir-2390-MF_3bz/RDF-NLP-SPARQLQuery-0.1-0/blib/lib:/tmp/loop_over_bdir-2390-MF_3bz/Lingua-YaTeA-0.626-0/blib/arch:/tmp/loop_over_bdir-2390-MF_3bz/Lingua-YaTeA-0.626-0/blib/lib:/tmp/loop_over_bdir-2390-MF_3bz/NoZone-1.3-0/blib/arch:/tmp/loop_over_bdir-2390-MF_3bz/NoZone-1.3-0/blib/lib:/tmp/loop_over_bdir-2390-MF_3bz/Devel-Required-0.16-0/blib/arch:/tmp/loop_over_bdir-2390-MF_3bz/Devel-Required-0.16-0/blib/lib
    PERL5OPT = 
    PERL5_CPANPLUS_IS_RUNNING = 2398
    PERL5_CPAN_IS_RUNNING = 2398
    PERL_CANARY_STABILITY_NOPROMPT = 1
    PERL_MM_USE_DEFAULT = 1
    PERL_USE_UNSAFE_INC = 1
    SHELL = /usr/bin/zsh
    TERM = screen

Perl special variables (and OS-specific diagnostics, for MSWin32):

    $^X = /tmp/basesmoker-reloperl-kiOR/bin/perl
    $UID/$EUID = 1005 / 1005
    $GID = 1005 1005
    $EGID = 1005 1005

Perl module toolchain versions installed:

    Module              Have    
    ------------------- --------
    CPAN                2.36    
    CPAN::Meta          2.150010
    Cwd                 3.90    
    ExtUtils::CBuilder  0.280239
    ExtUtils::Command   7.70    
    ExtUtils::Install   2.22    
    ExtUtils::MakeMaker 7.70    
    ExtUtils::Manifest  1.75    
    ExtUtils::ParseXS   3.51    
    File::Spec          3.90    
    JSON                4.10    
    JSON::PP            4.16    
    Module::Build       0.4234  
    Module::Signature   0.88    
    Parse::CPAN::Meta   2.150010
    Test2               1.302195
    Test::Harness       3.47    
    Test::More          1.302195
    YAML                1.30    
    YAML::Syck          1.34    
    version             0.9929  


--

Summary of my perl5 (revision 5 version 39 subversion 2) configuration:
  Commit id: e246fd63c3ad4034efc21113d44231047f6b2909
  Platform:
    osname=linux
    osvers=5.4.0-156-generic
    archname=x86_64-linux-thread-multi
    uname='linux k93focal 5.4.0-156-generic #173-ubuntu smp tue jul 11 07:25:22 utc 2023 x86_64 x86_64 x86_64 gnulinux '
    config_args='-Dprefix=/home/sand/src/perl/repoperls/installed-perls/host/k93focal/v5.39.2/d119 -Dmyhostname=k93focal -Dinstallusrbinperl=n -Uversiononly -Dusedevel -des -Ui_db -Dlibswanted=cl pthread socket inet nsl gdbm dbm malloc dl ld sun m crypt sec util c cposix posix ucb BSD gdbm_compat -Duseithreads -Uuselongdouble -DEBUGGING=both'
    hint=recommended
    useposix=true
    d_sigaction=define
    useithreads=define
    usemultiplicity=define
    use64bitint=define
    use64bitall=define
    uselongdouble=undef
    usemymalloc=n
    default_inc_excludes_dot=define
  Compiler:
    cc='cc'
    ccflags ='-D_REENTRANT -D_GNU_SOURCE -fwrapv -DDEBUGGING -fno-strict-aliasing -pipe -fstack-protector-strong -I/usr/local/include -D_LARGEFILE_SOURCE -D_FILE_OFFSET_BITS=64'
    optimize='-O2 -g'
    cppflags='-D_REENTRANT -D_GNU_SOURCE -fwrapv -DDEBUGGING -fno-strict-aliasing -pipe -fstack-protector-strong -I/usr/local/include'
    ccversion=''
    gccversion='9.4.0'
    gccosandvers=''
    intsize=4
    longsize=8
    ptrsize=8
    doublesize=8
    byteorder=12345678
    doublekind=3
    d_longlong=define
    longlongsize=8
    d_longdbl=define
    longdblsize=16
    longdblkind=3
    ivtype='long'
    ivsize=8
    nvtype='double'
    nvsize=8
    Off_t='off_t'
    lseeksize=8
    alignbytes=8
    prototype=define
  Linker and Libraries:
    ld='cc'
    ldflags =' -fstack-protector-strong -L/usr/local/lib'
    libpth=/usr/local/lib /usr/lib/x86_64-linux-gnu /usr/lib /usr/lib64
    libs=-lpthread -lnsl -ldl -lm -lcrypt -lutil -lc
    perllibs=-lpthread -lnsl -ldl -lm -lcrypt -lutil -lc
    libc=libc-2.31.so
    so=so
    useshrplib=false
    libperl=libperl.a
    gnulibc_version='2.31'
  Dynamic Linking:
    dlsrc=dl_dlopen.xs
    dlext=so
    d_dlsymun=undef
    ccdlflags='-Wl,-E'
    cccdlflags='-fPIC'
    lddlflags='-shared -O2 -g -L/usr/local/lib -fstack-protector-strong'


Characteristics of this binary (from libperl): 
  Compile-time options:
    DEBUGGING
    HAS_LONG_DOUBLE
    HAS_STRTOLD
    HAS_TIMES
    MULTIPLICITY
    PERLIO_LAYERS
    PERL_COPY_ON_WRITE
    PERL_DONT_CREATE_GVSV
    PERL_HASH_FUNC_SIPHASH13
    PERL_HASH_USE_SBOX32
    PERL_MALLOC_WRAP
    PERL_OP_PARENT
    PERL_PRESERVE_IVUV
    PERL_TRACK_MEMPOOL
    PERL_USE_DEVEL
    PERL_USE_SAFE_PUTENV
    USE_64_BIT_ALL
    USE_64_BIT_INT
    USE_ITHREADS
    USE_LARGE_FILES
    USE_LOCALE
    USE_LOCALE_COLLATE
    USE_LOCALE_CTYPE
    USE_LOCALE_NUMERIC
    USE_LOCALE_TIME
    USE_PERLIO
    USE_PERL_ATOF
    USE_REENTRANT_API
    USE_THREAD_SAFE_LOCALE
  Built under linux
  Compiled at Aug 29 2023 15:58:01
  %ENV:
    PERL="/tmp/basesmoker-reloperl-kiOR/bin/perl"
    PERL5LIB="/tmp/loop_over_bdir-2390-MF_3bz/LiquidWeb-Storm-CLI-1.03-0/blib/arch:/tmp/loop_over_bdir-2390-MF_3bz/LiquidWeb-Storm-CLI-1.03-0/blib/lib:/tmp/loop_over_bdir-2390-MF_3bz/AllKnowingDNS-1.7-0/blib/arch:/tmp/loop_over_bdir-2390-MF_3bz/AllKnowingDNS-1.7-0/blib/lib:/tmp/loop_over_bdir-2390-MF_3bz/RDF-NLP-SPARQLQuery-0.1-0/blib/arch:/tmp/loop_over_bdir-2390-MF_3bz/RDF-NLP-SPARQLQuery-0.1-0/blib/lib:/tmp/loop_over_bdir-2390-MF_3bz/Lingua-YaTeA-0.626-0/blib/arch:/tmp/loop_over_bdir-2390-MF_3bz/Lingua-YaTeA-0.626-0/blib/lib:/tmp/loop_over_bdir-2390-MF_3bz/NoZone-1.3-0/blib/arch:/tmp/loop_over_bdir-2390-MF_3bz/NoZone-1.3-0/blib/lib:/tmp/loop_over_bdir-2390-MF_3bz/Devel-Required-0.16-0/blib/arch:/tmp/loop_over_bdir-2390-MF_3bz/Devel-Required-0.16-0/blib/lib"
    PERL5OPT=""
    PERL5_CPANPLUS_IS_RUNNING="2398"
    PERL5_CPAN_IS_RUNNING="2398"
    PERL_CANARY_STABILITY_NOPROMPT="1"
    PERL_MM_USE_DEFAULT="1"
    PERL_USE_UNSAFE_INC="1"
  @INC:
    /tmp/loop_over_bdir-2390-MF_3bz/LiquidWeb-Storm-CLI-1.03-0/blib/arch
    /tmp/loop_over_bdir-2390-MF_3bz/LiquidWeb-Storm-CLI-1.03-0/blib/lib
    /tmp/loop_over_bdir-2390-MF_3bz/AllKnowingDNS-1.7-0/blib/arch
    /tmp/loop_over_bdir-2390-MF_3bz/AllKnowingDNS-1.7-0/blib/lib
    /tmp/loop_over_bdir-2390-MF_3bz/RDF-NLP-SPARQLQuery-0.1-0/blib/arch
    /tmp/loop_over_bdir-2390-MF_3bz/RDF-NLP-SPARQLQuery-0.1-0/blib/lib
    /tmp/loop_over_bdir-2390-MF_3bz/Lingua-YaTeA-0.626-0/blib/arch
    /tmp/loop_over_bdir-2390-MF_3bz/Lingua-YaTeA-0.626-0/blib/lib
    /tmp/loop_over_bdir-2390-MF_3bz/NoZone-1.3-0/blib/arch
    /tmp/loop_over_bdir-2390-MF_3bz/NoZone-1.3-0/blib/lib
    /tmp/loop_over_bdir-2390-MF_3bz/Devel-Required-0.16-0/blib/arch
    /tmp/loop_over_bdir-2390-MF_3bz/Devel-Required-0.16-0/blib/lib
    /home/sand/src/perl/repoperls/installed-perls/host/k93focal/v5.39.2/d119/lib/site_perl/5.39.2/x86_64-linux-thread-multi
    /home/sand/src/perl/repoperls/installed-perls/host/k93focal/v5.39.2/d119/lib/site_perl/5.39.2
    /home/sand/src/perl/repoperls/installed-perls/host/k93focal/v5.39.2/d119/lib/5.39.2/x86_64-linux-thread-multi
    /home/sand/src/perl/repoperls/installed-perls/host/k93focal/v5.39.2/d119/lib/5.39.2
    .