App-perlimports v0.000048 Perl 5 v5.37.4 x86_64-linux-thread-multi-ld
- Status
- Pass
- From
- Andreas J. König (ANDK)
- Dist
-
App-perlimports v0.000048
- Platform
- Perl 5 v5.37.4 x86_64-linux-thread-multi-ld
- Date
- 2022-10-15 12:24:53
- ID
- 5f3538fa-4c84-11ed-b2cb-203abff127c5
This distribution has been tested as part of the CPAN Testers
project, supporting the Perl programming language. See
http://wiki.cpantesters.org/ for more information or email
questions to cpan-testers-discuss@perl.org
--
Dear Olaf Alders,
This is a computer-generated report for App-perlimports-0.000048
on perl 5.37.4, created by CPAN-Reporter-1.2018.
Thank you for uploading your work to CPAN. Congratulations!
All tests were successful.
Sections of this report:
* Tester comments
* Program output
* Prerequisites
* Environment and other context
------------------------------
TESTER COMMENTS
------------------------------
Additional comments from tester:
this report is from an automated smoke testing program
and was not reviewed by a human for accuracy
------------------------------
PROGRAM OUTPUT
------------------------------
Output from '/usr/bin/make test':
PERL_DL_NONLAZY=1 "/tmp/basesmoker-reloperl-kHob/bin/perl" "-MExtUtils::Command::MM" "-MTest::Harness" "-e" "undef *Test::Harness::Switches; test_harness(0, 'blib/lib', 'blib/arch')" t/*.t t/ExportInspector/*.t t/cpan-modules/*.t
#
# Versions for all modules listed in MYMETA.json (including optional ones):
#
# === Configure Requires ===
#
# Module Want Have
# ------------------- ---- ----
# ExtUtils::MakeMaker any 7.64
#
# === Build Requires ===
#
# Module Want Have
# ------------------- ---- ----
# ExtUtils::MakeMaker any 7.64
#
# === Test Requires ===
#
# Module Want Have
# ---------------------- ---- --------
# DDP any undef
# ExtUtils::MakeMaker any 7.64
# File::Spec any 3.87
# File::pushd any 1.016
# Log::Dispatch::Array any 1.003
# PPI::Dumper any 1.276
# Sub::Exporter any 0.988
# Test::Differences any 0.69
# Test::Fatal any 0.016
# Test::More any 1.302191
# Test::Needs any 0.002009
# Test::RequiresInternet any 0.05
# Test::Script 1.29 1.29
# Test::Warnings any 0.031
# lib any 0.65
#
# === Test Recommends ===
#
# Module Want Have
# ---------- -------- --------
# CPAN::Meta 2.120900 2.150010
#
# === Runtime Requires ===
#
# Module Want Have
# ---------------------------- -------- --------
# Capture::Tiny any 0.48
# Class::Inspector 1.36 1.36
# Data::Dumper any 2.186
# Data::UUID any 1.226
# File::Basename any 2.86
# File::XDG 1.01 1.02
# Getopt::Long::Descriptive any 0.110
# List::Util any 1.63
# Log::Dispatch 2.70 2.70
# Memoize any 1.13
# Module::Runtime any 0.016
# Moo any 2.005004
# Moo::Role any 2.005004
# MooX::StrictConstructor any 0.011
# PPI 1.276 1.276
# PPI::Document any 1.276
# PPIx::Utils::Classification any 0.003
# Path::Iterator::Rule any 1.015
# Path::Tiny any 0.124
# Perl::Tidy 20220613 20220613
# Pod::Usage any 2.03
# Ref::Util any 0.204
# Sereal::Decoder any 5.001
# Sereal::Encoder any 5.001
# Sub::HandlesVia any 0.037
# Symbol::Get 0.10 0.10
# TOML::Tiny any 0.15
# Text::Diff any 1.45
# Text::SimpleTable::AutoWidth any 0.09
# Try::Tiny any 0.31
# Types::Standard any 2.000001
# feature any 1.76
# strict any 1.12
# utf8 any 1.24
# warnings any 1.58
#
t/00-report-prereqs.t ............ ok
t/after.t ........................ ok
t/annotations.t .................. ok
t/args-in-import.t ............... ok
t/builtin.t ...................... ok
t/carp.t ......................... ok
t/cast-in-regex.t ................ ok
t/cast.t ......................... ok
t/cli-args.t ..................... ok
t/cli.t .......................... ok
t/config-in-import.t ............. ok
t/Config.t ....................... ok
t/cpan-modules/pithub.t .......... ok
t/cpan-modules/test2-v0.t ........ ok
t/datetime.t ..................... ok
t/do-block.t ..................... ok
t/Document.t ..................... ok
t/dump-perl-exports.t ............ ok
t/dupes.t ........................ ok
t/english.t ...................... ok
t/explodes.t ..................... ok
t/export-tags.t .................. ok
t/exported-variables.t ........... ok
t/ExportInspector/load.t ......... ok
t/ExportInspector/SubExporter.t .. ok
t/find-bin.t ..................... ok
t/fully-qualified.t .............. ok
t/func-in-use.t .................. ok
t/func-in-var.t .................. ok
t/geo-ip.t ....................... ok
t/hash-in-regex.t ................ ok
t/hash-key.t ..................... ok
t/heredoc.t ...................... ok
t/ignored-modules.t .............. ok
t/import-error.t ................. ok
t/interpolation.t ................ ok
t/is-ignored.t ................... ok
t/lookalike-words.t .............. ok
t/memoize.t ...................... ok
t/meta.t ......................... ok
t/method.t ....................... ok
t/missing-semicolon-in-import.t .. ok
t/module-with-inner-packages.t ... ok
t/moo.t .......................... ok
t/moose-types.t .................. ok
t/moose.t ........................ ok
t/moosex-types-moose.t ........... ok
t/nested-quotes.t ................ ok
t/never-exports.t ................ ok
t/original-imports.t ............. ok
t/padding.t ...................... ok
t/perl-imports.t ................. ok
t/perl.t ......................... ok
t/perlimports.t .................. ok
t/pragma.t ....................... ok
t/preserve-some-padding.t ........ ok
t/preserve-spaces.t .............. ok
t/qualified-bareword.t ........... ok
t/quoted-var.t ................... ok
t/re-export-via-sub-exporter.t ... ok
t/regex-replacement.t ............ skipped: Need IP::Random 1.200230
t/require.t ...................... ok
t/respace-include.t .............. ok
t/Sandbox.t ...................... ok
t/script-with-inner-packages.t ... ok
t/signatures.t ................... ok
t/skip-all.t ..................... skipped: Test is broken
t/socket.t ....................... ok
t/sort-imports.t ................. ok
t/switches-in-import.t ........... ok
t/symbol-as-method-call.t ........ ok
t/symbol-in-export.t ............. ok
t/test-builder.t ................. ok
t/test-most.t .................... ok
t/typeglob.t ..................... ok
t/unnest-quotes.t ................ ok
t/use-and-require.t .............. ok
t/var-in-hash-key.t .............. ok
t/var-in-regex.t ................. ok
t/variable.t ..................... ok
t/warning.t ...................... ok
t/with-version.t ................. ok
All tests successful.
Files=82, Tests=200, 63 wallclock secs ( 0.26 usr 0.09 sys + 54.96 cusr 7.61 csys = 62.92 CPU)
Result: PASS
------------------------------
PREREQUISITES
------------------------------
Prerequisite modules loaded:
requires:
Module Need Have
---------------------------- -------- --------
Capture::Tiny 0 0.48
Class::Inspector 1.36 1.36
Data::Dumper 0 2.186
Data::UUID 0 1.226
feature 0 1.76
File::Basename 0 2.86
File::XDG 1.01 1.02
Getopt::Long::Descriptive 0 0.110
List::Util 0 1.63
Log::Dispatch 2.70 2.70
Memoize 0 1.13
Module::Runtime 0 0.016
Moo 0 2.005004
Moo::Role 0 2.005004
MooX::StrictConstructor 0 0.011
Path::Iterator::Rule 0 1.015
Path::Tiny 0 0.124
perl 5.018000 5.037004
Perl::Tidy 20220613 20220613
Pod::Usage 0 2.03
PPI 1.276 1.276
PPI::Document 0 1.276
PPIx::Utils::Classification 0 0.003
Ref::Util 0 0.204
Sereal::Decoder 0 5.001
Sereal::Encoder 0 5.001
strict 0 1.12
Sub::HandlesVia 0 0.037
Symbol::Get 0.10 0.10
Text::Diff 0 1.45
Text::SimpleTable::AutoWidth 0 0.09
TOML::Tiny 0 0.15
Try::Tiny 0 0.31
Types::Standard 0 2.000001
utf8 0 1.24
warnings 0 1.58
build_requires:
Module Need Have
---------------------------- -------- --------
DDP 0 1.000004
ExtUtils::MakeMaker 0 7.64
File::pushd 0 1.016
File::Spec 0 3.87
lib 0 0.65
Log::Dispatch::Array 0 1.003
PPI::Dumper 0 1.276
Sub::Exporter 0 0.988
Test::Differences 0 0.69
Test::Fatal 0 0.016
Test::More 0 1.302191
Test::Needs 0 0.002009
Test::RequiresInternet 0 0.05
Test::Script 1.29 1.29
Test::Warnings 0 0.031
configure_requires:
Module Need Have
---------------------------- -------- --------
ExtUtils::MakeMaker 0 7.64
perl v5.10.0 5.037004
------------------------------
ENVIRONMENT AND OTHER CONTEXT
------------------------------
Environment variables:
AUTOMATED_TESTING = 1
LANG = en_US.UTF-8
PATH = /home/sand/bin:/usr/local/bin:/usr/local/sbin:/usr/sbin:/usr/bin:/sbin:/bin:/usr/games:/usr/local/games:/snap/bin:/usr/local/perl/bin:/usr/X11/bin
PERL = /tmp/basesmoker-reloperl-kHob/bin/perl
PERL5LIB = /tmp/loop_over_bdir-699717-u8pT6m/App-oo_modulino_zsh_completion_helper-0.04-0/blib/arch:/tmp/loop_over_bdir-699717-u8pT6m/App-oo_modulino_zsh_completion_helper-0.04-0/blib/lib:/tmp/loop_over_bdir-699717-u8pT6m/Captive-Portal-4.10-0/blib/arch:/tmp/loop_over_bdir-699717-u8pT6m/Captive-Portal-4.10-0/blib/lib:/tmp/loop_over_bdir-699717-u8pT6m/makepp-1.19-0/blib/arch:/tmp/loop_over_bdir-699717-u8pT6m/makepp-1.19-0/blib/lib:/tmp/loop_over_bdir-699717-u8pT6m/RDF-NLP-SPARQLQuery-0.1-0/blib/arch:/tmp/loop_over_bdir-699717-u8pT6m/RDF-NLP-SPARQLQuery-0.1-0/blib/lib:/tmp/loop_over_bdir-699717-u8pT6m/Alien-SNMP-MIBDEV-2.020000-0/blib/arch:/tmp/loop_over_bdir-699717-u8pT6m/Alien-SNMP-MIBDEV-2.020000-0/blib/lib:/tmp/loop_over_bdir-699717-u8pT6m/DBIx-Migration-Directories-0.12-0/blib/arch:/tmp/loop_over_bdir-699717-u8pT6m/DBIx-Migration-Directories-0.12-0/blib/lib:/tmp/loop_over_bdir-699717-u8pT6m/ProjectBuilder-0.14.1-0/blib/arch:/tmp/loop_over_bdir-699717-u8pT6m/ProjectBuilder-0.14.1-0/blib/lib:/tmp/loop_over_bdir-699717-u8pT6m/Dpkg-1.21.9-0/blib/arch:/tmp/loop_over_bdir-699717-u8pT6m/Dpkg-1.21.9-0/blib/lib:/tmp/loop_over_bdir-699717-u8pT6m/triceps-2.1.0-0/blib/arch:/tmp/loop_over_bdir-699717-u8pT6m/triceps-2.1.0-0/blib/lib:/tmp/loop_over_bdir-699717-u8pT6m/CGI-Application-NetNewsIface-0.0204-0/blib/arch:/tmp/loop_over_bdir-699717-u8pT6m/CGI-Application-NetNewsIface-0.0204-0/blib/lib:/tmp/loop_over_bdir-699717-u8pT6m/Devel-Required-0.16-0/blib/arch:/tmp/loop_over_bdir-699717-u8pT6m/Devel-Required-0.16-0/blib/lib:/tmp/loop_over_bdir-699717-u8pT6m/NoZone-1.3-0/blib/arch:/tmp/loop_over_bdir-699717-u8pT6m/NoZone-1.3-0/blib/lib
PERL5OPT =
PERL5_CPANPLUS_IS_RUNNING = 699725
PERL5_CPAN_IS_RUNNING = 699725
PERL_CANARY_STABILITY_NOPROMPT = 1
PERL_MM_USE_DEFAULT = 1
PERL_USE_UNSAFE_INC = 1
SHELL = /usr/bin/zsh
TERM = screen
Perl special variables (and OS-specific diagnostics, for MSWin32):
$^X = /tmp/basesmoker-reloperl-kHob/bin/perl
$UID/$EUID = 1005 / 1005
$GID = 1005 1005
$EGID = 1005 1005
Perl module toolchain versions installed:
Module Have
------------------- --------
CPAN 2.34
CPAN::Meta 2.150010
Cwd 3.86
ExtUtils::CBuilder 0.280237
ExtUtils::Command 7.64
ExtUtils::Install 2.20
ExtUtils::MakeMaker 7.64
ExtUtils::Manifest 1.73
ExtUtils::ParseXS 3.46
File::Spec 3.87
JSON 4.10
JSON::PP 4.12
Module::Build 0.4231
Module::Signature 0.88
Parse::CPAN::Meta 2.150010
Test::Harness 3.44
Test::More 1.302191
YAML 1.30
YAML::Syck 1.34
version 0.9929
--
Summary of my perl5 (revision 5 version 37 subversion 4) configuration:
Commit id: f2582f5b18658f945a763f2edc110cdc7c5220e7
Platform:
osname=linux
osvers=5.4.0-125-generic
archname=x86_64-linux-thread-multi-ld
uname='linux k93focal 5.4.0-125-generic #141-ubuntu smp wed aug 10 13:42:03 utc 2022 x86_64 x86_64 x86_64 gnulinux '
config_args='-Dprefix=/home/sand/src/perl/repoperls/installed-perls/host/k93focal/v5.37.4/e463 -Dmyhostname=k93focal -Dinstallusrbinperl=n -Uversiononly -Dusedevel -des -Ui_db -Dlibswanted=cl pthread socket inet nsl gdbm dbm malloc dl ld sun m crypt sec util c cposix posix ucb BSD gdbm_compat -Duseithreads -Duselongdouble -DEBUGGING=both'
hint=recommended
useposix=true
d_sigaction=define
useithreads=define
usemultiplicity=define
use64bitint=define
use64bitall=define
uselongdouble=define
usemymalloc=n
default_inc_excludes_dot=define
Compiler:
cc='cc'
ccflags ='-D_REENTRANT -D_GNU_SOURCE -fwrapv -DDEBUGGING -fno-strict-aliasing -pipe -fstack-protector-strong -I/usr/local/include -D_LARGEFILE_SOURCE -D_FILE_OFFSET_BITS=64'
optimize='-O2 -g'
cppflags='-D_REENTRANT -D_GNU_SOURCE -fwrapv -DDEBUGGING -fno-strict-aliasing -pipe -fstack-protector-strong -I/usr/local/include'
ccversion=''
gccversion='9.4.0'
gccosandvers=''
intsize=4
longsize=8
ptrsize=8
doublesize=8
byteorder=12345678
doublekind=3
d_longlong=define
longlongsize=8
d_longdbl=define
longdblsize=16
longdblkind=3
ivtype='long'
ivsize=8
nvtype='long double'
nvsize=16
Off_t='off_t'
lseeksize=8
alignbytes=16
prototype=define
Linker and Libraries:
ld='cc'
ldflags =' -fstack-protector-strong -L/usr/local/lib'
libpth=/usr/local/lib /usr/lib/x86_64-linux-gnu /usr/lib /usr/lib64
libs=-lpthread -lnsl -ldl -lm -lcrypt -lutil -lc
perllibs=-lpthread -lnsl -ldl -lm -lcrypt -lutil -lc
libc=libc-2.31.so
so=so
useshrplib=false
libperl=libperl.a
gnulibc_version='2.31'
Dynamic Linking:
dlsrc=dl_dlopen.xs
dlext=so
d_dlsymun=undef
ccdlflags='-Wl,-E'
cccdlflags='-fPIC'
lddlflags='-shared -O2 -g -L/usr/local/lib -fstack-protector-strong'
Characteristics of this binary (from libperl):
Compile-time options:
DEBUGGING
HAS_TIMES
MULTIPLICITY
PERLIO_LAYERS
PERL_COPY_ON_WRITE
PERL_DONT_CREATE_GVSV
PERL_HASH_FUNC_SIPHASH13
PERL_HASH_USE_SBOX32
PERL_MALLOC_WRAP
PERL_OP_PARENT
PERL_PRESERVE_IVUV
PERL_TRACK_MEMPOOL
PERL_USE_DEVEL
PERL_USE_SAFE_PUTENV
USE_64_BIT_ALL
USE_64_BIT_INT
USE_ITHREADS
USE_LARGE_FILES
USE_LOCALE
USE_LOCALE_COLLATE
USE_LOCALE_CTYPE
USE_LOCALE_NUMERIC
USE_LOCALE_TIME
USE_LONG_DOUBLE
USE_PERLIO
USE_PERL_ATOF
USE_REENTRANT_API
USE_THREAD_SAFE_LOCALE
Built under linux
Compiled at Oct 10 2022 06:00:24
%ENV:
PERL="/tmp/basesmoker-reloperl-kHob/bin/perl"
PERL5LIB="/tmp/loop_over_bdir-699717-u8pT6m/App-oo_modulino_zsh_completion_helper-0.04-0/blib/arch:/tmp/loop_over_bdir-699717-u8pT6m/App-oo_modulino_zsh_completion_helper-0.04-0/blib/lib:/tmp/loop_over_bdir-699717-u8pT6m/Captive-Portal-4.10-0/blib/arch:/tmp/loop_over_bdir-699717-u8pT6m/Captive-Portal-4.10-0/blib/lib:/tmp/loop_over_bdir-699717-u8pT6m/makepp-1.19-0/blib/arch:/tmp/loop_over_bdir-699717-u8pT6m/makepp-1.19-0/blib/lib:/tmp/loop_over_bdir-699717-u8pT6m/RDF-NLP-SPARQLQuery-0.1-0/blib/arch:/tmp/loop_over_bdir-699717-u8pT6m/RDF-NLP-SPARQLQuery-0.1-0/blib/lib:/tmp/loop_over_bdir-699717-u8pT6m/Alien-SNMP-MIBDEV-2.020000-0/blib/arch:/tmp/loop_over_bdir-699717-u8pT6m/Alien-SNMP-MIBDEV-2.020000-0/blib/lib:/tmp/loop_over_bdir-699717-u8pT6m/DBIx-Migration-Directories-0.12-0/blib/arch:/tmp/loop_over_bdir-699717-u8pT6m/DBIx-Migration-Directories-0.12-0/blib/lib:/tmp/loop_over_bdir-699717-u8pT6m/ProjectBuilder-0.14.1-0/blib/arch:/tmp/loop_over_bdir-699717-u8pT6m/ProjectBuilder-0.14.1-0/blib/lib:/tmp/loop_over_bdir-699717-u8pT6m/Dpkg-1.21.9-0/blib/arch:/tmp/loop_over_bdir-699717-u8pT6m/Dpkg-1.21.9-0/blib/lib:/tmp/loop_over_bdir-699717-u8pT6m/triceps-2.1.0-0/blib/arch:/tmp/loop_over_bdir-699717-u8pT6m/triceps-2.1.0-0/blib/lib:/tmp/loop_over_bdir-699717-u8pT6m/CGI-Application-NetNewsIface-0.0204-0/blib/arch:/tmp/loop_over_bdir-699717-u8pT6m/CGI-Application-NetNewsIface-0.0204-0/blib/lib:/tmp/loop_over_bdir-699717-u8pT6m/Devel-Required-0.16-0/blib/arch:/tmp/loop_over_bdir-699717-u8pT6m/Devel-Required-0.16-0/blib/lib:/tmp/loop_over_bdir-699717-u8pT6m/NoZone-1.3-0/blib/arch:/tmp/loop_over_bdir-699717-u8pT6m/NoZone-1.3-0/blib/lib"
PERL5OPT=""
PERL5_CPANPLUS_IS_RUNNING="699725"
PERL5_CPAN_IS_RUNNING="699725"
PERL_CANARY_STABILITY_NOPROMPT="1"
PERL_MM_USE_DEFAULT="1"
PERL_USE_UNSAFE_INC="1"
@INC:
/tmp/loop_over_bdir-699717-u8pT6m/App-oo_modulino_zsh_completion_helper-0.04-0/blib/arch
/tmp/loop_over_bdir-699717-u8pT6m/App-oo_modulino_zsh_completion_helper-0.04-0/blib/lib
/tmp/loop_over_bdir-699717-u8pT6m/Captive-Portal-4.10-0/blib/arch
/tmp/loop_over_bdir-699717-u8pT6m/Captive-Portal-4.10-0/blib/lib
/tmp/loop_over_bdir-699717-u8pT6m/makepp-1.19-0/blib/arch
/tmp/loop_over_bdir-699717-u8pT6m/makepp-1.19-0/blib/lib
/tmp/loop_over_bdir-699717-u8pT6m/RDF-NLP-SPARQLQuery-0.1-0/blib/arch
/tmp/loop_over_bdir-699717-u8pT6m/RDF-NLP-SPARQLQuery-0.1-0/blib/lib
/tmp/loop_over_bdir-699717-u8pT6m/Alien-SNMP-MIBDEV-2.020000-0/blib/arch
/tmp/loop_over_bdir-699717-u8pT6m/Alien-SNMP-MIBDEV-2.020000-0/blib/lib
/tmp/loop_over_bdir-699717-u8pT6m/DBIx-Migration-Directories-0.12-0/blib/arch
/tmp/loop_over_bdir-699717-u8pT6m/DBIx-Migration-Directories-0.12-0/blib/lib
/tmp/loop_over_bdir-699717-u8pT6m/ProjectBuilder-0.14.1-0/blib/arch
/tmp/loop_over_bdir-699717-u8pT6m/ProjectBuilder-0.14.1-0/blib/lib
/tmp/loop_over_bdir-699717-u8pT6m/Dpkg-1.21.9-0/blib/arch
/tmp/loop_over_bdir-699717-u8pT6m/Dpkg-1.21.9-0/blib/lib
/tmp/loop_over_bdir-699717-u8pT6m/triceps-2.1.0-0/blib/arch
/tmp/loop_over_bdir-699717-u8pT6m/triceps-2.1.0-0/blib/lib
/tmp/loop_over_bdir-699717-u8pT6m/CGI-Application-NetNewsIface-0.0204-0/blib/arch
/tmp/loop_over_bdir-699717-u8pT6m/CGI-Application-NetNewsIface-0.0204-0/blib/lib
/tmp/loop_over_bdir-699717-u8pT6m/Devel-Required-0.16-0/blib/arch
/tmp/loop_over_bdir-699717-u8pT6m/Devel-Required-0.16-0/blib/lib
/tmp/loop_over_bdir-699717-u8pT6m/NoZone-1.3-0/blib/arch
/tmp/loop_over_bdir-699717-u8pT6m/NoZone-1.3-0/blib/lib
/home/sand/src/perl/repoperls/installed-perls/host/k93focal/v5.37.4/e463/lib/site_perl/5.37.4/x86_64-linux-thread-multi-ld
/home/sand/src/perl/repoperls/installed-perls/host/k93focal/v5.37.4/e463/lib/site_perl/5.37.4
/home/sand/src/perl/repoperls/installed-perls/host/k93focal/v5.37.4/e463/lib/5.37.4/x86_64-linux-thread-multi-ld
/home/sand/src/perl/repoperls/installed-perls/host/k93focal/v5.37.4/e463/lib/5.37.4
.