FunctionalPerl v0.72.65-TRIAL Perl 5 v5.32.1 amd64-freebsd-ld
- Status
- Pass
- From
- Slaven Rezić
- Dist
-
FunctionalPerl v0.72.65-TRIAL
- Platform
- Perl 5 v5.32.1 amd64-freebsd-ld
- Date
- 2021-05-22 16:47:18
- ID
- 5eab8dde-bb1d-11eb-9c43-8e611f24ea8f
This distribution has been tested as part of the CPAN Testers
project, supporting the Perl programming language. See
http://wiki.cpantesters.org/ for more information or email
questions to cpan-testers-discuss@perl.org
--
Dear Christian Jaeger,
This is a computer-generated report for FunctionalPerl-0.72.65-TRIAL
on perl 5.32.1, created by CPAN-Reporter-1.2018.
Thank you for uploading your work to CPAN. Congratulations!
All tests were successful.
Sections of this report:
* Tester comments
* Program output
* Prerequisites
* Environment and other context
------------------------------
TESTER COMMENTS
------------------------------
Additional comments from tester:
none provided
------------------------------
PROGRAM OUTPUT
------------------------------
Output from '/usr/bin/make test':
PERL_DL_NONLAZY=1 "/usr/perl5.32.1Dp/bin/perl" "-MExtUtils::Command::MM" "-MTest::Harness" "-e" "undef *Test::Harness::Switches; test_harness(0, 'blib/lib', 'blib/arch')" t/*.t
t/csv_to_xml.t ........................... ok
t/dbi.t .................................. ok
t/examples-csv-to-json.t ................. ok
times for fib: user = 0.109375, system = 0, cuser = 0, csystem = 0
times for fibonacci: user = 1.0859375, system = 0, cuser = 0, csystem = 0
t/examples-fibs.t ........................ ok
t/examples-functional-classes.t .......... ok
t/examples-hiring-without-whiteboards.t .. skipped: dependency Term::ReadLine::Gnu not present at lib/FP/Repl/Dependencies.pm line 44.
t/examples-logic.t ....................... skipped: could not use FP::Repl::Dependencies
t/examples-perlweekly-111-1.t ............ ok
times: user = 0.03125, system = 0, cuser = 0, csystem = 0
times: user = 0.0546875, system = 0, cuser = 0, csystem = 0
times: user = 0.046875, system = 0, cuser = 0, csystem = 0
t/examples-perlweekly-113-1.t ............ ok
t/examples-perlweekly-113-2.t ............ ok
t/examples-primes.t ...................... skipped: could not use Method::Signatures
t/functional_XML-t-div.t ................. ok
t/functional_XML-test.t .................. ok
not activating since running in test mode at ../.htmlgen//../lib/FP/Repl/AutoTrap.pm line 64.
t/htmlgen.t .............................. ok
t/intro-basics.t ......................... skipped: could not use FP::Repl::Dependencies
t/perl-goto-leak.t ....................... ok
t/perl-weaken-coderef-correctness.t ...... ok
t/perl-weaken-coderef.t .................. ok
t/pod_snippets.t ......................... ok
t/predicates.t ........................... ok
t/repl.t ................................. skipped: dependency Term::ReadLine::Gnu not present at lib/FP/Repl/Dependencies.pm line 44.
not activating since running in test mode at lib/FP/Repl/AutoTrap.pm line 64.
Reference is already weak at lib/FP/Stream.pm line 769.
t/require_and_run_tests.t ................ ok
t/skip-internal.t ........................ ok
t/skip-leak.t ............................ ok
t/skip.t ................................. ok
t/testlazy.t ............................. ok
t/testlazy10.t ........................... ok
t/trampoline-fix.t ....................... skipped: Test requires module 'Method::Signatures' but it's not found
All tests successful.
Files=28, Tests=164, 48 wallclock secs ( 0.24 usr 0.05 sys + 20.34 cusr 3.50 csys = 24.12 CPU)
Result: PASS
------------------------------
PREREQUISITES
------------------------------
Prerequisite modules loaded:
requires:
Module Need Have
------------------- -------- --------
autobox 0 v3.0.1
base 0 2.27
Digest 0 1.17_01
File::Path 0 2.16
Getopt::Long 0 2.51
Import::Into 0 1.002005
Math::BigInt 0 1.999818
NEXT 0 0.67_01
overload 0 1.31
perl 5.016004 5.032001
PerlIO::utf8_strict 0 0.008
Safe::Isa 0 1.000010
Scalar::Util 0 1.56
Symbol 0 1.08
Test::More 0.96 1.302183
utf8 0 1.22
warnings 0 1.47
build_requires:
Module Need Have
------------------- -------- --------
BSD::Resource 0 1.2911
Capture::Tiny 0 0.48
DBD::CSV 0 0.58
DBI 0 1.643
ExtUtils::MakeMaker 0 7.62
Sub::Util 0 1.56
Test::Pod::Snippets 0 0.07
Test::Requires 0 0.11
Text::CSV 0 2.00
URI 0 5.09
configure_requires:
Module Need Have
------------------- -------- --------
ExtUtils::MakeMaker 0 7.62
------------------------------
ENVIRONMENT AND OTHER CONTEXT
------------------------------
Environment variables:
PATH = /usr/local/bin:/usr/bin:/bin:/usr/local/sbin:/usr/sbin:/sbin:/home/cpansand/bin/sh:/home/cpansand/bin:/usr/games:/home/cpansand/devel:/usr/home/eserte/src/srezic-misc/scripts
PERL5LIB = /home/cpansand/.cpan/build/2021052216/autobox-v3.0.1-1/blib/arch:/home/cpansand/.cpan/build/2021052216/autobox-v3.0.1-1/blib/lib:/home/cpansand/.cpan/build/2021052216/Test-Pod-Snippets-0.07-1/blib/arch:/home/cpansand/.cpan/build/2021052216/Test-Pod-Snippets-0.07-1/blib/lib:/home/cpansand/.cpan/build/2021052216/MooseX-SemiAffordanceAccessor-0.10-1/blib/arch:/home/cpansand/.cpan/build/2021052216/MooseX-SemiAffordanceAccessor-0.10-1/blib/lib:/home/cpansand/.cpan/build/2021052216/DBD-CSV-0.58-1/blib/arch:/home/cpansand/.cpan/build/2021052216/DBD-CSV-0.58-1/blib/lib:/home/cpansand/.cpan/build/2021052216/SQL-Statement-1.414-1/blib/arch:/home/cpansand/.cpan/build/2021052216/SQL-Statement-1.414-1/blib/lib:/home/cpansand/.cpan/build/2021052216/Text-Soundex-3.05-1/blib/arch:/home/cpansand/.cpan/build/2021052216/Text-Soundex-3.05-1/blib/lib:/home/cpansand/.cpan/build/2021052216/Math-Base-Convert-0.11-1/blib/arch:/home/cpansand/.cpan/build/2021052216/Math-Base-Convert-0.11-1/blib/lib:/home/cpansand/.cpan/build/2021052216/BSD-Resource-1.2911-0/blib/arch:/home/cpansand/.cpan/build/2021052216/BSD-Resource-1.2911-0/blib/lib
PERL5OPT =
PERL5_CPANPLUS_IS_RUNNING = 84632
PERL5_CPAN_IS_RUNNING = 84632
PERL5_CPAN_IS_RUNNING_IN_RECURSION = 83287,84632
PERL_BATCH = yes
PERL_CANARY_STABILITY_NOPROMPT = 1
PERL_CPAN_REPORTER_CONFIG = /var/tmp/cpansmoker-1023/2021052216/cpanreporter_000_config.ini
PERL_EXTUTILS_AUTOINSTALL = --defaultdeps
PERL_USE_UNSAFE_INC = 1
SHELL = /bin/sh
TMPDIR = /var/tmp/cpansmoker-1023/2021052216
Perl special variables (and OS-specific diagnostics, for MSWin32):
$^X = /usr/perl5.32.1Dp/bin/perl
$UID/$EUID = 1023 / 1023
$GID = 1023 1023
$EGID = 1023 1023
Perl module toolchain versions installed:
Module Have
------------------- --------
CPAN 2.27
CPAN::Meta 2.150010
Cwd 3.78
ExtUtils::CBuilder 0.280234
ExtUtils::Command 7.62
ExtUtils::Install 2.14
ExtUtils::MakeMaker 7.62
ExtUtils::Manifest 1.72
ExtUtils::ParseXS 3.40
File::Spec 3.78
JSON 4.03
JSON::PP 4.04
Module::Build 0.4231
Module::Signature n/a
Parse::CPAN::Meta 2.150010
Test::Harness 3.42
Test::More 1.302183
YAML 1.30
YAML::Syck 1.34
version 0.9924
--
Summary of my perl5 (revision 5 version 32 subversion 1) configuration:
Platform:
osname=freebsd
osvers=14.0-current
archname=amd64-freebsd-ld
uname='freebsd cloud2.bbbike.org 14.0-current freebsd 14.0-current #12 main-n246644-9674c2e68c6: thu may 13 22:18:45 utc 2021 root@cloud2.bbbike.org:usrobjusrhomeprojectsfreebsdamd64.amd64sysgeneric amd64 '
config_args='-ds -e -Dprefix=/usr/perl5.32.1Dp -Duselongdouble -Dcf_email=srezic@cpan.org -Doptimize=-O2 -pipe'
hint=recommended
useposix=true
d_sigaction=define
useithreads=undef
usemultiplicity=undef
use64bitint=define
use64bitall=define
uselongdouble=define
usemymalloc=n
default_inc_excludes_dot=define
bincompat5005=undef
Compiler:
cc='cc'
ccflags ='-DHAS_FPSETMASK -DHAS_FLOATINGPOINT_H -fno-strict-aliasing -pipe -fstack-protector-strong -I/usr/local/include'
optimize='-O2 -pipe'
cppflags='-DHAS_FPSETMASK -DHAS_FLOATINGPOINT_H -fno-strict-aliasing -pipe -fstack-protector-strong -I/usr/local/include'
ccversion=''
gccversion='FreeBSD Clang 11.0.1 (git@github.com:llvm/llvm-project.git llvmorg-11.0.1-0-g43ff75f2c3fe)'
gccosandvers=''
intsize=4
longsize=8
ptrsize=8
doublesize=8
byteorder=12345678
doublekind=3
d_longlong=define
longlongsize=8
d_longdbl=define
longdblsize=16
longdblkind=3
ivtype='long'
ivsize=8
nvtype='long double'
nvsize=16
Off_t='off_t'
lseeksize=8
alignbytes=16
prototype=define
Linker and Libraries:
ld='cc'
ldflags ='-pthread -Wl,-E -fstack-protector-strong -L/usr/local/lib'
libpth=/usr/lib /usr/local/lib /usr/lib/clang/11.0.1/lib /usr/lib
libs=-lpthread -lgdbm -ldl -lm -lcrypt -lutil -lc
perllibs=-lpthread -ldl -lm -lcrypt -lutil -lc
libc=
so=so
useshrplib=false
libperl=libperl.a
gnulibc_version=''
Dynamic Linking:
dlsrc=dl_dlopen.xs
dlext=so
d_dlsymun=undef
ccdlflags=' '
cccdlflags='-DPIC -fPIC'
lddlflags='-shared -L/usr/local/lib -fstack-protector-strong'
Characteristics of this binary (from libperl):
Compile-time options:
HAS_TIMES
PERLIO_LAYERS
PERL_COPY_ON_WRITE
PERL_DONT_CREATE_GVSV
PERL_MALLOC_WRAP
PERL_OP_PARENT
PERL_PRESERVE_IVUV
USE_64_BIT_ALL
USE_64_BIT_INT
USE_LARGE_FILES
USE_LOCALE
USE_LOCALE_COLLATE
USE_LOCALE_CTYPE
USE_LOCALE_NUMERIC
USE_LOCALE_TIME
USE_LONG_DOUBLE
USE_PERLIO
USE_PERL_ATOF
Built under freebsd
Compiled at May 16 2021 16:28:42
%ENV:
PERL5LIB="/home/cpansand/.cpan/build/2021052216/autobox-v3.0.1-1/blib/arch:/home/cpansand/.cpan/build/2021052216/autobox-v3.0.1-1/blib/lib:/home/cpansand/.cpan/build/2021052216/Test-Pod-Snippets-0.07-1/blib/arch:/home/cpansand/.cpan/build/2021052216/Test-Pod-Snippets-0.07-1/blib/lib:/home/cpansand/.cpan/build/2021052216/MooseX-SemiAffordanceAccessor-0.10-1/blib/arch:/home/cpansand/.cpan/build/2021052216/MooseX-SemiAffordanceAccessor-0.10-1/blib/lib:/home/cpansand/.cpan/build/2021052216/DBD-CSV-0.58-1/blib/arch:/home/cpansand/.cpan/build/2021052216/DBD-CSV-0.58-1/blib/lib:/home/cpansand/.cpan/build/2021052216/SQL-Statement-1.414-1/blib/arch:/home/cpansand/.cpan/build/2021052216/SQL-Statement-1.414-1/blib/lib:/home/cpansand/.cpan/build/2021052216/Text-Soundex-3.05-1/blib/arch:/home/cpansand/.cpan/build/2021052216/Text-Soundex-3.05-1/blib/lib:/home/cpansand/.cpan/build/2021052216/Math-Base-Convert-0.11-1/blib/arch:/home/cpansand/.cpan/build/2021052216/Math-Base-Convert-0.11-1/blib/lib:/home/cpansand/.cpan/build/2021052216/BSD-Resource-1.2911-0/blib/arch:/home/cpansand/.cpan/build/2021052216/BSD-Resource-1.2911-0/blib/lib"
PERL5OPT=""
PERL5_CPANPLUS_IS_RUNNING="84632"
PERL5_CPAN_IS_RUNNING="84632"
PERL5_CPAN_IS_RUNNING_IN_RECURSION="83287,84632"
PERL_BATCH="yes"
PERL_CANARY_STABILITY_NOPROMPT="1"
PERL_CPAN_REPORTER_CONFIG="/var/tmp/cpansmoker-1023/2021052216/cpanreporter_000_config.ini"
PERL_EXTUTILS_AUTOINSTALL="--defaultdeps"
PERL_USE_UNSAFE_INC="1"
@INC:
/home/cpansand/.cpan/build/2021052216/autobox-v3.0.1-1/blib/arch
/home/cpansand/.cpan/build/2021052216/autobox-v3.0.1-1/blib/lib
/home/cpansand/.cpan/build/2021052216/Test-Pod-Snippets-0.07-1/blib/arch
/home/cpansand/.cpan/build/2021052216/Test-Pod-Snippets-0.07-1/blib/lib
/home/cpansand/.cpan/build/2021052216/MooseX-SemiAffordanceAccessor-0.10-1/blib/arch
/home/cpansand/.cpan/build/2021052216/MooseX-SemiAffordanceAccessor-0.10-1/blib/lib
/home/cpansand/.cpan/build/2021052216/DBD-CSV-0.58-1/blib/arch
/home/cpansand/.cpan/build/2021052216/DBD-CSV-0.58-1/blib/lib
/home/cpansand/.cpan/build/2021052216/SQL-Statement-1.414-1/blib/arch
/home/cpansand/.cpan/build/2021052216/SQL-Statement-1.414-1/blib/lib
/home/cpansand/.cpan/build/2021052216/Text-Soundex-3.05-1/blib/arch
/home/cpansand/.cpan/build/2021052216/Text-Soundex-3.05-1/blib/lib
/home/cpansand/.cpan/build/2021052216/Math-Base-Convert-0.11-1/blib/arch
/home/cpansand/.cpan/build/2021052216/Math-Base-Convert-0.11-1/blib/lib
/home/cpansand/.cpan/build/2021052216/BSD-Resource-1.2911-0/blib/arch
/home/cpansand/.cpan/build/2021052216/BSD-Resource-1.2911-0/blib/lib
/usr/perl5.32.1Dp/lib/site_perl/5.32.1/amd64-freebsd-ld
/usr/perl5.32.1Dp/lib/site_perl/5.32.1
/usr/perl5.32.1Dp/lib/5.32.1/amd64-freebsd-ld
/usr/perl5.32.1Dp/lib/5.32.1
.