Import-Base v1.004 Perl 5 v5.26.3 x86_64-linux

Status
Pass
From
Ioan Rogers
Dist
Import-Base v1.004
Platform
Perl 5 v5.26.3 x86_64-linux
Date
2019-06-03 17:38:15
ID
5e1cc7bc-8626-11e9-b5f9-ac6e28255406
This distribution has been tested as part of the CPAN Testers
project, supporting the Perl programming language.  See
http://wiki.cpantesters.org/ for more information or email
questions to cpan-testers-discuss@perl.org


--
Dear PREACTION,

This is a computer-generated report for Import-Base-1.004
on perl 5.26.3, created by App::cpanminus::reporter 0.17 (1.7044).

Thank you for uploading your work to CPAN.  Congratulations!
All tests were successful.

Sections of this report:

    * Tester comments
    * Program output
    * Prerequisites
    * Environment and other context

------------------------------
TESTER COMMENTS
------------------------------

Additional comments from tester:

none provided

------------------------------
PROGRAM OUTPUT
------------------------------

Output from '':

Building and testing Import-Base-1.004
cp lib/Import/Base.pm blib/lib/Import/Base.pm
PERL_DL_NONLAZY=1 "/home/ioan/.plenv/versions/mm-perl/bin/perl5.26.3" "-MExtUtils::Command::MM" "-MTest::Harness" "-e" "undef *Test::Harness::Switches; test_harness(0, 'blib/lib', 'blib/arch')" t/*.t t/use-case/*.t
t/exclude.t ............ ok
t/export.t ............. ok
t/runtime.t ............ ok
t/00-compile.t ......... ok
t/order.t .............. ok
t/base.t ............... ok
t/use-case/dancer2.t ... skipped: Test requires Dancer2 >= 0.166001_01
t/subrefs.t ............ ok
t/version.t ............ ok
t/use-case/moo.t ....... ok
# 
# Versions for all modules listed in MYMETA.json (including optional ones):
# 
# === Configure Requires ===
# 
#     Module              Want Have
#     ------------------- ---- ----
#     ExtUtils::MakeMaker  any 7.34
# 
# === Build Requires ===
# 
#     Module              Want Have
#     ------------------- ---- ----
#     ExtUtils::MakeMaker  any 7.34
# 
# === Test Requires ===
# 
#     Module              Want     Have
#     ------------------- ---- --------
#     Carp                 any     1.50
#     ExtUtils::MakeMaker  any     7.34
#     File::Spec           any     3.75
#     IO::Handle           any     1.39
#     IPC::Open3           any     1.20
#     Test::More           any 1.001014
# 
# === Test Recommends ===
# 
#     Module         Want     Have
#     ---------- -------- --------
#     CPAN::Meta 2.120900 2.150010
# 
# === Runtime Requires ===
# 
#     Module              Want     Have
#     --------------- -------- --------
#     Import::Into    1.002005 1.002005
#     Module::Runtime      any    0.016
#     mro                  any     1.20
#     strict               any     1.11
#     warnings             any     1.37
# 
t/00-report-prereqs.t .. ok
All tests successful.
Files=11, Tests=17,  0 wallclock secs ( 0.06 usr  0.00 sys +  0.48 cusr  0.07 csys =  0.61 CPU)
Result: PASS

------------------------------
PREREQUISITES
------------------------------

Prerequisite modules loaded:

    No requirements found

------------------------------
ENVIRONMENT AND OTHER CONTEXT
------------------------------

Environment variables:

    HARNESS_OPTIONS = j8
    LANG = en_GB.UTF-8
    LANGUAGE = en_GB:en
    LC_ADDRESS = en_GB.UTF-8
    LC_IDENTIFICATION = en_GB.UTF-8
    LC_MEASUREMENT = en_GB.UTF-8
    LC_MONETARY = en_GB.UTF-8
    LC_NAME = en_GB.UTF-8
    LC_NUMERIC = en_GB.UTF-8
    LC_PAPER = en_GB.UTF-8
    LC_TELEPHONE = en_GB.UTF-8
    LC_TIME = en_GB.UTF-8
    PATH = /home/ioan/.plenv/versions/mm-perl/bin:/home/ioan/.plenv/libexec:/home/ioan/.plenv/plugins/perl-build/bin:/home/ioan/Projects/mm_website/bin:/home/ioan/Projects/mm_website/dev/bin:/home/ioan/Projects/mm_website/dev/bin/go:/home/ioan/Projects/mm_website/ansible/bin:/home/ioan/Projects/mm_website/ansible/roles/server_management/files:/snap/bin:/home/ioan/.perl6/bin:/opt/rakudo-pkg/bin:/home/ioan/.plenv/shims:~/.plenv/bin:/snap/google-cloud-sdk/current/bin:/home/ioan/.krew/bin::/home/ioan/bin:/home/ioan/.local/bin:/usr/local/bin:/usr/bin:/bin:/usr/local/sbin:/sbin:/usr/sbin:/usr/games
    PERL5LIB = /home/ioan/Projects/mm_website/lib:/home/ioan/Projects/mm_website/t/lib:/home/ioan/Projects/mm_website/ansible/roles/server_management/files/perl_modules/
    PERL_CPANM_OPT = --prompt --no-man-pages --verify --mirror https://cpan.metacpan.org
    SHELL = /bin/bash
    TERM = xterm-256color

Perl special variables (and OS-specific diagnostics, for MSWin32):

    EGID = 1991400069 4 24 30 46 116 126 133 134 136 138 1991400000 1991400069
    EUID = 1991400069
    EXECUTABLE_NAME = /home/ioan/.plenv/versions/mm-perl/bin/perl5.26.3
    GID = 1991400069 4 24 30 46 116 126 133 134 136 138 1991400000 1991400069
    UID = 1991400069

Perl module toolchain versions installed:

    Module              Have    
    ------------------- --------
    CPAN                2.16    
    CPAN::Meta          2.150010
    Cwd                 3.75    
    ExtUtils::CBuilder  0.280230
    ExtUtils::Command   7.34    
    ExtUtils::Install   2.14    
    ExtUtils::MakeMaker 7.34    
    ExtUtils::Manifest  1.70    
    ExtUtils::ParseXS   3.35    
    File::Spec          3.75    
    JSON                4.00    
    JSON::PP            4.00    
    Module::Build       0.4224  
    Module::Signature   0.83    
    Parse::CPAN::Meta   2.150010
    Test::Harness       3.42    
    Test::More          1.001014
    YAML                1.27    
    YAML::Syck          1.31    
    version             0.9924  


--

Summary of my perl5 (revision 5 version 26 subversion 3) configuration:
   
  Platform:
    osname=linux
    osvers=4.18.0-13-generic
    archname=x86_64-linux
    uname='linux impatience.home.rgrs.ca 4.18.0-13-generic #14-ubuntu smp wed dec 5 09:04:24 utc 2018 x86_64 x86_64 x86_64 gnulinux '
    config_args='-Dprefix=/home/ioan/.plenv/versions/mm-perl -de -Dversiononly -Dcc=gcc -Doptimize=-O2 -Dccflags-march=native -g -O2 -Werror=array-bounds -Werror=clobbered -Werror=volatile-register-var -Werror=implicit-function-declaration -fdebug-prefix-map=/home/ioan=. -fstack-protector-strong -Wformat -Werror=format-security -Dcppflags=-Wdate-time -D_FORTIFY_SOURCE=2 -Dldflags-Wl,-Bsymbolic-functions -Wl,-z,relro -Wl,-z,now -Dman1dir=none -Dman3dir=none -A'eval:scriptdir=/home/ioan/.plenv/versions/mm-perl/bin''
    hint=recommended
    useposix=true
    d_sigaction=define
    useithreads=undef
    usemultiplicity=undef
    use64bitint=define
    use64bitall=define
    uselongdouble=undef
    usemymalloc=n
    default_inc_excludes_dot=define
    bincompat5005=undef
  Compiler:
    cc='gcc'
    ccflags ='-fwrapv -fno-strict-aliasing -pipe -fstack-protector-strong -I/usr/local/include -D_LARGEFILE_SOURCE -D_FILE_OFFSET_BITS=64'
    optimize='-O2'
    cppflags='-Wdate-time -D_FORTIFY_SOURCE=2 -fwrapv -fno-strict-aliasing -pipe -fstack-protector-strong -I/usr/local/include'
    ccversion=''
    gccversion='8.2.0'
    gccosandvers=''
    intsize=4
    longsize=8
    ptrsize=8
    doublesize=8
    byteorder=12345678
    doublekind=3
    d_longlong=define
    longlongsize=8
    d_longdbl=define
    longdblsize=16
    longdblkind=3
    ivtype='long'
    ivsize=8
    nvtype='double'
    nvsize=8
    Off_t='off_t'
    lseeksize=8
    alignbytes=8
    prototype=define
  Linker and Libraries:
    ld='gcc'
    ldflags =' -fstack-protector-strong -L/usr/local/lib'
    libpth=/usr/local/lib /usr/lib/gcc/x86_64-linux-gnu/8/include-fixed /usr/include/x86_64-linux-gnu /usr/lib /lib/x86_64-linux-gnu /lib/../lib /usr/lib/x86_64-linux-gnu /usr/lib/../lib /lib
    libs=-lpthread -lnsl -ldb -ldl -lm -lcrypt -lutil -lc
    perllibs=-lpthread -lnsl -ldl -lm -lcrypt -lutil -lc
    libc=libc-2.28.so
    so=so
    useshrplib=false
    libperl=libperl.a
    gnulibc_version='2.28'
  Dynamic Linking:
    dlsrc=dl_dlopen.xs
    dlext=so
    d_dlsymun=undef
    ccdlflags='-Wl,-E'
    cccdlflags='-fPIC'
    lddlflags='-shared -O2 -L/usr/local/lib -fstack-protector-strong'


Characteristics of this binary (from libperl): 
  Compile-time options:
    HAS_TIMES
    PERLIO_LAYERS
    PERL_COPY_ON_WRITE
    PERL_DONT_CREATE_GVSV
    PERL_MALLOC_WRAP
    PERL_OP_PARENT
    PERL_PRESERVE_IVUV
    USE_64_BIT_ALL
    USE_64_BIT_INT
    USE_LARGE_FILES
    USE_LOCALE
    USE_LOCALE_COLLATE
    USE_LOCALE_CTYPE
    USE_LOCALE_NUMERIC
    USE_LOCALE_TIME
    USE_PERLIO
    USE_PERL_ATOF
  Locally applied patches:
    Devel::PatchPerl 1.52
  Built under linux
  Compiled at Dec 24 2018 12:11:46
  %ENV:
    PERL5LIB="/home/ioan/Projects/mm_website/lib:/home/ioan/Projects/mm_website/t/lib:/home/ioan/Projects/mm_website/ansible/roles/server_management/files/perl_modules/"
    PERL_CPANM_OPT="--prompt --no-man-pages --verify --mirror https://cpan.metacpan.org"
  @INC:
    /home/ioan/Projects/mm_website/lib
    /home/ioan/Projects/mm_website/t/lib
    /home/ioan/Projects/mm_website/ansible/roles/server_management/files/perl_modules/
    /home/ioan/.plenv/versions/mm-perl/lib/site_perl/5.26.3/x86_64-linux
    /home/ioan/.plenv/versions/mm-perl/lib/site_perl/5.26.3
    /home/ioan/.plenv/versions/mm-perl/lib/5.26.3/x86_64-linux
    /home/ioan/.plenv/versions/mm-perl/lib/5.26.3