Import-Base v1.003 Perl 5 v5.18.0 x86_64-linux-thread-multi
- Status
- Pass
- From
- Nigel Horne
- Dist
-
Import-Base v1.003
- Platform
- Perl 5 v5.18.0 x86_64-linux-thread-multi
- Date
- 2017-08-17 06:00:26
- ID
- 5dbfb1d6-8311-11e7-933a-881d62460493
This distribution has been tested as part of the CPAN Testers
project, supporting the Perl programming language. See
http://wiki.cpantesters.org/ for more information or email
questions to cpan-testers-discuss@perl.org
--
Dear Doug Bell,
This is a computer-generated report for Import-Base-1.003
on perl 5.18.0, created by CPAN-Reporter-1.2018.
Thank you for uploading your work to CPAN. Congratulations!
All tests were successful.
Sections of this report:
* Tester comments
* Program output
* Prerequisites
* Environment and other context
------------------------------
TESTER COMMENTS
------------------------------
Additional comments from tester:
this report is from an automated smoke testing program
and was not reviewed by a human for accuracy
------------------------------
PROGRAM OUTPUT
------------------------------
Output from './Build test':
t/exclude.t ............ ok
t/00-compile.t ......... ok
t/base.t ............... ok
t/export.t ............. ok
t/order.t .............. ok
t/runtime.t ............ ok
#
# Versions for all modules listed in MYMETA.json (including optional ones):
#
# === Configure Requires ===
#
# Module Want Have
# ------------------- ---- ------
# ExtUtils::MakeMaker any 7.24
# Module::Build 0.28 0.4206
#
# === Build Requires ===
#
# Module Want Have
# ------------- ---- ------
# Module::Build 0.28 0.4206
#
# === Test Requires ===
#
# Module Want Have
# ------------------- ---- --------
# Carp any 1.29
# ExtUtils::MakeMaker any 7.24
# File::Spec any 3.40
# IO::Handle any 1.34
# IPC::Open3 any 1.13
# Test::More any 1.302086
#
# === Test Recommends ===
#
# Module Want Have
# ---------- -------- --------
# CPAN::Meta 2.120900 2.150005
#
# === Runtime Requires ===
#
# Module Want Have
# --------------- -------- --------
# Import::Into 1.002005 1.002005
# Module::Runtime any 0.013
# mro any 1.11
# strict any 1.07
# warnings any 1.18
#
t/00-report-prereqs.t .. ok
t/use-case/dancer2.t ... skipped: Test requires Dancer2 >= 0.166001_01
t/subrefs.t ............ ok
t/version.t ............ ok
t/use-case/moo.t ....... ok
All tests successful.
Files=11, Tests=17, 1 wallclock secs ( 0.06 usr 0.01 sys + 0.62 cusr 0.07 csys = 0.76 CPU)
Result: PASS
------------------------------
PREREQUISITES
------------------------------
Prerequisite modules loaded:
requires:
Module Need Have
------------------- -------- --------
Import::Into 1.002000 1.002005
Module::Runtime 0 0.013
mro 0 1.11
perl 5.010 5.018000
strict 0 1.07
warnings 0 1.18
build_requires:
Module Need Have
------------------- -------- --------
Carp 0 1.29
File::Spec 0 3.40
IO::Handle 0 1.34
IPC::Open3 0 1.13
Module::Build 0.28 0.4206
Test::More 0 1.302086
configure_requires:
Module Need Have
------------------- -------- --------
ExtUtils::MakeMaker 0 7.24
------------------------------
ENVIRONMENT AND OTHER CONTEXT
------------------------------
Environment variables:
AUTOMATED_TESTING = 1
HARNESS_OPTIONS = j4
LANG = en_GB.UTF-8
LANGUAGE = en_GB:en
PATH = /home/njh/perl5/perlbrew/bin:/home/njh/perl5/perlbrew/perls/perl-5.18.0/bin:/home/njh/perl5/perlbrew/bin:/usr/bin:/bin
PERL5LIB = /home/njh/.cpan/build/Import-Into-1.002005-2/blib/arch:/home/njh/.cpan/build/Import-Into-1.002005-2/blib/lib:/home/njh/.cpan/build/Hash-Merge-Simple-0.051-7/blib/arch:/home/njh/.cpan/build/Hash-Merge-Simple-0.051-7/blib/lib:/home/njh/.cpan/build/Dir-Self-0.11-7/blib/arch:/home/njh/.cpan/build/Dir-Self-0.11-7/blib/lib:/home/njh/.cpan/build/XS-Check-0.02-18/blib/arch:/home/njh/.cpan/build/XS-Check-0.02-18/blib/lib:/home/njh/.cpan/build/Text-LineNumber-0.02-18/blib/arch:/home/njh/.cpan/build/Text-LineNumber-0.02-18/blib/lib:/home/njh/.cpan/build/File-Slurper-0.009-18/blib/arch:/home/njh/.cpan/build/File-Slurper-0.009-18/blib/lib:/home/njh/.cpan/build/C-Tokenize-0.13-18/blib/arch:/home/njh/.cpan/build/C-Tokenize-0.13-18/blib/lib
PERL5OPT =
PERL5_CPANPLUS_IS_RUNNING = 2646
PERL5_CPAN_IS_RUNNING = 2646
PERLBREW_BASHRC_VERSION = 0.73
PERLBREW_HOME = /home/njh/.perlbrew
PERLBREW_LIB =
PERLBREW_MANPATH = /home/njh/perl5/perlbrew/perls/perl-5.18.0/man
PERLBREW_PATH = /home/njh/perl5/perlbrew/bin:/home/njh/perl5/perlbrew/perls/perl-5.18.0/bin
PERLBREW_PERL = perl-5.18.0
PERLBREW_ROOT = /home/njh/perl5/perlbrew
PERLBREW_VERSION = 0.73
PERL_LOCAL_LIB_ROOT =
SHELL = /bin/sh
Perl special variables (and OS-specific diagnostics, for MSWin32):
$^X = /home/njh/perl5/perlbrew/perls/perl-5.18.0/bin/perl
$UID/$EUID = 1000 / 1000
$GID = 1000 4 24 25 29 30 44 46 108 112 1000
$EGID = 1000 4 24 25 29 30 44 46 108 112 1000
Perl module toolchain versions installed:
Module Have
------------------- --------
CPAN 2.16
CPAN::Meta 2.150005
Cwd 3.40
ExtUtils::CBuilder 0.280216
ExtUtils::Command 7.24
ExtUtils::Install 1.59
ExtUtils::MakeMaker 7.24
ExtUtils::Manifest 1.70
ExtUtils::ParseXS 3.30
File::Spec 3.40
JSON 2.93
JSON::PP 2.27400
Module::Build 0.4206
Module::Signature 0.73
Parse::CPAN::Meta 1.4422
Test::Harness 3.36
Test::More 1.302086
YAML 1.23
YAML::Syck 1.30
version 0.9902
--
Summary of my perl5 (revision 5 version 18 subversion 0) configuration:
Platform:
osname=linux, osvers=3.2.0-4-amd64, archname=x86_64-linux-thread-multi
uname='linux nigelhorne.force9.co.uk 3.2.0-4-amd64 #1 smp debian 3.2.32-1 x86_64 gnulinux '
config_args='-de -Dprefix=/home/njh/perl5/perlbrew/perls/perl-5.18.0 -Duseithreads -Dusemultiplicity -Accflags=-O2 -W -Wformat=2 -Wswitch -Wshadow -Wwrite-strings -Wuninitialized -Wall -pipe -mtune=native -march=native -fomit-frame-pointer -msse2 -msse -mmmx -mfpmath=sse -pedantic -D_FORTIFY_SOURCE=2 -Wpointer-arith -Wstrict-prototypes -fstack-protector -Wstack-protector -Wextra -Wbad-function-cast -Wcast-align -Wcast-qual -Wdisabled-optimization -Wendif-labels -Wfloat-equal -Wformat-nonliteral -Winline -Wmissing-declarations -Wmissing-prototypes -Wnested-externs -Wpointer-arith -Wundef -Wformat-security -ftree-vectorize -fassociative-math -ftree-vectorizer-verbose=2 -Aeval:scriptdir=/home/njh/perl5/perlbrew/perls/perl-5.18.0/bin'
hint=recommended, useposix=true, d_sigaction=define
useithreads=define, usemultiplicity=define
useperlio=define, d_sfio=undef, uselargefiles=define, usesocks=undef
use64bitint=define, use64bitall=define, uselongdouble=undef
usemymalloc=n, bincompat5005=undef
Compiler:
cc='cc', ccflags ='-D_REENTRANT -D_GNU_SOURCE -O2 -W -Wformat=2 -Wswitch -Wshadow -Wwrite-strings -Wuninitialized -Wall -pipe -mtune=native -march=native -fomit-frame-pointer -msse2 -msse -mmmx -mfpmath=sse -pedantic -D_FORTIFY_SOURCE=2 -Wpointer-arith -Wstrict-prototypes -fstack-protector -Wstack-protector -Wextra -Wbad-function-cast -Wcast-align -Wcast-qual -Wdisabled-optimization -Wendif-labels -Wfloat-equal -Wformat-nonliteral -Winline -Wmissing-declarations -Wmissing-prototypes -Wnested-externs -Wpointer-arith -Wundef -Wformat-security -ftree-vectorize -fassociative-math -ftree-vectorizer-verbose=2 -fno-strict-aliasing -I/usr/local/include -D_LARGEFILE_SOURCE -D_FILE_OFFSET_BITS=64',
optimize='-O2',
cppflags='-D_REENTRANT -D_GNU_SOURCE -O2 -W -Wformat=2 -Wswitch -Wshadow -Wwrite-strings -Wuninitialized -Wall -pipe -mtune=native -march=native -fomit-frame-pointer -msse2 -msse -mmmx -mfpmath=sse -pedantic -D_FORTIFY_SOURCE=2 -Wpointer-arith -Wstrict-prototypes -fstack-protector -Wstack-protector -Wextra -Wbad-function-cast -Wcast-align -Wcast-qual -Wdisabled-optimization -Wendif-labels -Wfloat-equal -Wformat-nonliteral -Winline -Wmissing-declarations -Wmissing-prototypes -Wnested-externs -Wpointer-arith -Wundef -Wformat-security -ftree-vectorize -fassociative-math -ftree-vectorizer-verbose=2 -fno-strict-aliasing -I/usr/local/include'
ccversion='', gccversion='4.7.3', gccosandvers=''
intsize=4, longsize=8, ptrsize=8, doublesize=8, byteorder=12345678
d_longlong=define, longlongsize=8, d_longdbl=define, longdblsize=16
ivtype='long', ivsize=8, nvtype='double', nvsize=8, Off_t='off_t', lseeksize=8
alignbytes=8, prototype=define
Linker and Libraries:
ld='cc', ldflags =' -fstack-protector -L/usr/local/lib'
libpth=/usr/local/lib /lib/x86_64-linux-gnu /lib/../lib /usr/lib/x86_64-linux-gnu /usr/lib/../lib /lib /usr/lib
libs=-lnsl -lgdbm -ldb -ldl -lm -lcrypt -lutil -lpthread -lc -lgdbm_compat
perllibs=-lnsl -ldl -lm -lcrypt -lutil -lpthread -lc
libc=, so=so, useshrplib=false, libperl=libperl.a
gnulibc_version='2.17'
Dynamic Linking:
dlsrc=dl_dlopen.xs, dlext=so, d_dlsymun=undef, ccdlflags='-Wl,-E'
cccdlflags='-fPIC', lddlflags='-shared -O2 -L/usr/local/lib -fstack-protector'
Characteristics of this binary (from libperl):
Compile-time options: HAS_TIMES MULTIPLICITY PERLIO_LAYERS
PERL_DONT_CREATE_GVSV
PERL_HASH_FUNC_ONE_AT_A_TIME_HARD
PERL_IMPLICIT_CONTEXT PERL_MALLOC_WRAP
PERL_PRESERVE_IVUV PERL_SAWAMPERSAND USE_64_BIT_ALL
USE_64_BIT_INT USE_ITHREADS USE_LARGE_FILES
USE_LOCALE USE_LOCALE_COLLATE USE_LOCALE_CTYPE
USE_LOCALE_NUMERIC USE_PERLIO USE_PERL_ATOF
USE_REENTRANT_API
Built under linux
Compiled at May 20 2013 00:08:47
%ENV:
PERL5LIB="/home/njh/.cpan/build/Import-Into-1.002005-2/blib/arch:/home/njh/.cpan/build/Import-Into-1.002005-2/blib/lib:/home/njh/.cpan/build/Hash-Merge-Simple-0.051-7/blib/arch:/home/njh/.cpan/build/Hash-Merge-Simple-0.051-7/blib/lib:/home/njh/.cpan/build/Dir-Self-0.11-7/blib/arch:/home/njh/.cpan/build/Dir-Self-0.11-7/blib/lib:/home/njh/.cpan/build/XS-Check-0.02-18/blib/arch:/home/njh/.cpan/build/XS-Check-0.02-18/blib/lib:/home/njh/.cpan/build/Text-LineNumber-0.02-18/blib/arch:/home/njh/.cpan/build/Text-LineNumber-0.02-18/blib/lib:/home/njh/.cpan/build/File-Slurper-0.009-18/blib/arch:/home/njh/.cpan/build/File-Slurper-0.009-18/blib/lib:/home/njh/.cpan/build/C-Tokenize-0.13-18/blib/arch:/home/njh/.cpan/build/C-Tokenize-0.13-18/blib/lib"
PERL5OPT=""
PERL5_CPANPLUS_IS_RUNNING="2646"
PERL5_CPAN_IS_RUNNING="2646"
PERLBREW_BASHRC_VERSION="0.73"
PERLBREW_HOME="/home/njh/.perlbrew"
PERLBREW_LIB=""
PERLBREW_MANPATH="/home/njh/perl5/perlbrew/perls/perl-5.18.0/man"
PERLBREW_PATH="/home/njh/perl5/perlbrew/bin:/home/njh/perl5/perlbrew/perls/perl-5.18.0/bin"
PERLBREW_PERL="perl-5.18.0"
PERLBREW_ROOT="/home/njh/perl5/perlbrew"
PERLBREW_VERSION="0.73"
PERL_LOCAL_LIB_ROOT=""
@INC:
/home/njh/.cpan/build/Import-Into-1.002005-2/blib/arch
/home/njh/.cpan/build/Import-Into-1.002005-2/blib/lib
/home/njh/.cpan/build/Hash-Merge-Simple-0.051-7/blib/arch
/home/njh/.cpan/build/Hash-Merge-Simple-0.051-7/blib/lib
/home/njh/.cpan/build/Dir-Self-0.11-7/blib/arch
/home/njh/.cpan/build/Dir-Self-0.11-7/blib/lib
/home/njh/.cpan/build/XS-Check-0.02-18/blib/arch
/home/njh/.cpan/build/XS-Check-0.02-18/blib/lib
/home/njh/.cpan/build/Text-LineNumber-0.02-18/blib/arch
/home/njh/.cpan/build/Text-LineNumber-0.02-18/blib/lib
/home/njh/.cpan/build/File-Slurper-0.009-18/blib/arch
/home/njh/.cpan/build/File-Slurper-0.009-18/blib/lib
/home/njh/.cpan/build/C-Tokenize-0.13-18/blib/arch
/home/njh/.cpan/build/C-Tokenize-0.13-18/blib/lib
/home/njh/perl5/perlbrew/perls/perl-5.18.0/lib/site_perl/5.18.0/x86_64-linux-thread-multi
/home/njh/perl5/perlbrew/perls/perl-5.18.0/lib/site_perl/5.18.0
/home/njh/perl5/perlbrew/perls/perl-5.18.0/lib/5.18.0/x86_64-linux-thread-multi
/home/njh/perl5/perlbrew/perls/perl-5.18.0/lib/5.18.0
.