CHI v0.61 Perl 5 v5.30.3 darwin-thread-multi-2level
- Status
- Pass
- From
- Gintautas Grigelionis
- Dist
-
CHI v0.61
- Platform
- Perl 5 v5.30.3 darwin-thread-multi-2level
- Date
- 2023-01-25 18:52:06
- ID
- 5d3940ac-9ce1-11ed-8f9d-402740552626
This distribution has been tested as part of the CPAN Testers
project, supporting the Perl programming language. See
http://wiki.cpantesters.org/ for more information or email
questions to cpan-testers-discuss@perl.org
--
Dear Alexander Becker,
This is a computer-generated report for CHI-0.61
on perl 5.30.3, created by CPAN-Reporter-1.2018.
Thank you for uploading your work to CPAN. Congratulations!
All tests were successful.
Sections of this report:
* Tester comments
* Program output
* Prerequisites
* Environment and other context
------------------------------
TESTER COMMENTS
------------------------------
Additional comments from tester:
none provided
------------------------------
PROGRAM OUTPUT
------------------------------
Output from '/usr/bin/make test':
PERL_DL_NONLAZY=1 "/usr/bin/perl" "-MExtUtils::Command::MM" "-MTest::Harness" "-e" "undef *Test::Harness::Switches; test_harness(0, 'blib/lib', 'blib/arch')" t/*.t
# Testing CHI 0.61, Perl 5.030003, /usr/bin/perl
t/00-load.t ............................. ok
t/author-03-pod.t ....................... skipped: these tests are for testing by the author
t/author-file-driver.t .................. skipped: these tests are for testing by the author
t/author-no-data-serializer.t ........... skipped: these tests are for testing by the author
t/author-RequiredModules.t .............. skipped: these tests are for testing by the author
t/Bugs.t ................................ ok
t/Config.t .............................. ok
t/Constants.t ........................... ok
t/Driver-Memory.t ....................... ok
t/Driver-RawMemory.t .................... ok
t/GetError.t ............................ ok
t/Initialize.t .......................... ok
t/release-dependent.t ................... skipped: these tests are for release candidate testing
t/Sanity.t .............................. ok
t/SetError.t ............................ ok
t/smoke-Driver-CacheCache.t ............. skipped: these tests are for "smoke bot" testing
t/smoke-Driver-FastMmap.t ............... skipped: these tests are for "smoke bot" testing
t/smoke-Driver-File-DepthZero.t ......... skipped: these tests are for "smoke bot" testing
t/smoke-Driver-File.t ................... skipped: these tests are for "smoke bot" testing
t/smoke-Driver-NonMoose.t ............... skipped: these tests are for "smoke bot" testing
t/smoke-Driver-Subcache-l1_cache.t ...... skipped: these tests are for "smoke bot" testing
t/smoke-Driver-Subcache-mirror_cache.t .. skipped: these tests are for "smoke bot" testing
t/smoke-Null.t .......................... skipped: these tests are for "smoke bot" testing
t/Subcache.t ............................ ok
t/Subclass.t ............................ ok
t/Util.t ................................ ok
All tests successful.
Files=26, Tests=1787, 2 wallclock secs ( 0.11 usr 0.04 sys + 1.87 cusr 0.34 csys = 2.36 CPU)
Result: PASS
------------------------------
PREREQUISITES
------------------------------
Prerequisite modules loaded:
requires:
Module Need Have
------------------------------- -------- --------
Carp::Assert 0.20 0.21
Class::Load 0 0.25
Data::UUID 0 1.226
Digest::JHash 0 0.10
Digest::MD5 0 2.58
File::Spec 0.80 3.78
Hash::MoreUtils 0 0.06
JSON::MaybeXS 1.003003 1.004004
List::MoreUtils 0.13 0.428
Log::Any 0.08 1.713
Moo 1.003 2.005005
MooX::Types::MooseLike 0.23 0.29
MooX::Types::MooseLike::Base 0 0.29
MooX::Types::MooseLike::Numeric 0 1.03
Storable 0 3.25
String::RewritePrefix 0 0.009
Task::Weaken 0 1.06
Time::Duration 1.06 1.21
Time::Duration::Parse 0.03 0.16
Time::HiRes 1.30 1.9760
Try::Tiny 0.05 0.31
build_requires:
Module Need Have
------------------------------- -------- --------
Cache::FileCache 0 0
Date::Parse 0 2.33
ExtUtils::MakeMaker 0 7.66
Module::Mask 0 0.06
Test::Builder 0 1.302191
Test::Class 0 0.52
Test::Deep 0 1.204
Test::Exception 0 0.43
Test::More 0 1.302191
Test::Warn 0 0.37
configure_requires:
Module Need Have
------------------------------- -------- --------
ExtUtils::MakeMaker 0 7.66
------------------------------
ENVIRONMENT AND OTHER CONTEXT
------------------------------
Environment variables:
LANG = sv_SE.UTF-8
PATH = /usr/local/bin:/System/Cryptexes/App/usr/bin:/usr/bin:/bin:/usr/sbin:/sbin:/Library/TeX/texbin:/usr/local/MacGPG2/bin:/opt/X11/bin:/Library/Apple/usr/bin
PERL5LIB =
PERL5OPT =
PERL5_CPANPLUS_IS_RUNNING = 59268
PERL5_CPAN_IS_RUNNING = 59268
PERL_USE_UNSAFE_INC = 1
SHELL = /bin/bash
TERM = xterm-256color
TMPDIR = /var/folders/y9/7vddvyqs64j1pfp28_p_6dfm0000gq/T/
Perl special variables (and OS-specific diagnostics, for MSWin32):
$^X = /usr/bin/perl
$UID/$EUID = 503 / 503
$GID = 20 20 12 61 79 80 81 98 701 702 33 100 204 250 395 398 399 400
$EGID = 20 20 12 61 79 80 81 98 701 702 33 100 204 250 395 398 399 400
Perl module toolchain versions installed:
Module Have
------------------- --------
CPAN 2.22
CPAN::Meta 2.150010
Cwd 3.78
ExtUtils::CBuilder 0.280236
ExtUtils::Command 7.66
ExtUtils::Install 2.22
ExtUtils::MakeMaker 7.66
ExtUtils::Manifest 1.73
ExtUtils::ParseXS 3.40
File::Spec 3.78
JSON 4.10
JSON::PP 4.16
Module::Build 0.4231
Module::Signature 0.88
Parse::CPAN::Meta 2.150010
Test::Harness 3.44
Test::More 1.302191
YAML 1.30
YAML::Syck 1.32
version 0.9929
--
Summary of my perl5 (revision 5 version 30 subversion 3) configuration:
Platform:
osname=darwin
osvers=22.0
archname=darwin-thread-multi-2level
uname='darwin mjll5.p1s.plx.sd.apple.com 22.0 darwin kernel version 20.1.0: wed feb 2 10:48:39 pst 2022; root:xnu-7195.41.8.100.11~1development_x86_64 x86_64 '
config_args='-ds -e -Dprefix=/usr -Dccflags=-g -pipe -Dldflags= -Dman3ext=3pm -Duseithreads -Duseshrplib -Dinc_version_list=none -Dcc=cc'
hint=recommended
useposix=true
d_sigaction=define
useithreads=define
usemultiplicity=define
use64bitint=define
use64bitall=define
uselongdouble=undef
usemymalloc=n
default_inc_excludes_dot=define
bincompat5005=undef
Compiler:
cc='cc'
ccflags =' -g -pipe -DPERL_USE_SAFE_PUTENV'
optimize='-Os'
cppflags='-g -pipe'
ccversion=''
gccversion='Apple LLVM 14.0.0 (clang-1400.0.29.2) [+internal-os, ptrauth-isa=deployment-target-based]'
gccosandvers=''
intsize=4
longsize=8
ptrsize=8
doublesize=8
byteorder=12345678
doublekind=3
d_longlong=define
longlongsize=8
d_longdbl=define
longdblsize=16
longdblkind=3
ivtype='long'
ivsize=8
nvtype='double'
nvsize=8
Off_t='off_t'
lseeksize=8
alignbytes=8
prototype=define
Linker and Libraries:
ld='cc'
ldflags =' '
libpth=/AppleInternal/Library/BuildRoots/aaefcfd1-5c95-11ed-8734-2e32217d8374/Applications/Xcode.app/Contents/Developer/Platforms/MacOSX.platform/Developer/SDKs/MacOSX13.1.Internal.sdk/usr/local/lib /AppleInternal/Library/BuildRoots/aaefcfd1-5c95-11ed-8734-2e32217d8374/Applications/Xcode.app/Contents/Developer/Toolchains/OSX13.1.xctoolchain/usr/lib/clang/14.0.0/lib /AppleInternal/Library/BuildRoots/aaefcfd1-5c95-11ed-8734-2e32217d8374/Applications/Xcode.app/Contents/Developer/Platforms/MacOSX.platform/Developer/SDKs/MacOSX13.1.Internal.sdk/usr/lib /AppleInternal/Library/BuildRoots/aaefcfd1-5c95-11ed-8734-2e32217d8374/Applications/Xcode.app/Contents/Developer/Toolchains/OSX13.1.xctoolchain/usr/lib /AppleInternal/Library/BuildRoots/aaefcfd1-5c95-11ed-8734-2e32217d8374/Applications/Xcode.app/Contents/Developer/Toolchains/XcodeDefault.xctoolchain/usr/lib /usr/lib /usr/local/lib
libs=
perllibs=
libc=
so=dylib
useshrplib=true
libperl=libperl.dylib
gnulibc_version=''
Dynamic Linking:
dlsrc=dl_dlopen.xs
dlext=bundle
d_dlsymun=undef
ccdlflags=' '
cccdlflags=' '
lddlflags=' -bundle -undefined dynamic_lookup'
Characteristics of this binary (from libperl):
Compile-time options:
HAS_TIMES
MULTIPLICITY
PERLIO_LAYERS
PERL_COPY_ON_WRITE
PERL_DONT_CREATE_GVSV
PERL_IMPLICIT_CONTEXT
PERL_MALLOC_WRAP
PERL_OP_PARENT
PERL_PRESERVE_IVUV
PERL_USE_SAFE_PUTENV
USE_64_BIT_ALL
USE_64_BIT_INT
USE_ITHREADS
USE_LARGE_FILES
USE_LOCALE
USE_LOCALE_COLLATE
USE_LOCALE_CTYPE
USE_LOCALE_NUMERIC
USE_LOCALE_TIME
USE_PERLIO
USE_PERL_ATOF
USE_REENTRANT_API
USE_THREAD_SAFE_LOCALE
Locally applied patches:
/Library/Perl/Updates/<version> comes before system perl directories
installprivlib and installarchlib points to the Updates directory
Built under darwin
Compiled at Nov 4 2022 18:31:43
%ENV:
PERL5LIB=""
PERL5OPT=""
PERL5_CPANPLUS_IS_RUNNING="59268"
PERL5_CPAN_IS_RUNNING="59268"
PERL_USE_UNSAFE_INC="1"
@INC:
/Library/Perl/5.30/darwin-thread-multi-2level
/Library/Perl/5.30
/Network/Library/Perl/5.30/darwin-thread-multi-2level
/Network/Library/Perl/5.30
/Library/Perl/Updates/5.30.3/darwin-thread-multi-2level
/Library/Perl/Updates/5.30.3
/System/Library/Perl/5.30/darwin-thread-multi-2level
/System/Library/Perl/5.30
/System/Library/Perl/Extras/5.30/darwin-thread-multi-2level
/System/Library/Perl/Extras/5.30
.