HTTP-OAI v4.13 Perl 5 v5.36.1 armv6l-linux

Status
Pass
From
gregor herrmann
Dist
HTTP-OAI v4.13
Platform
Perl 5 v5.36.1 armv6l-linux
Date
2023-06-06 15:46:54
ID
5c6db0d8-0481-11ee-bf74-c64c239ed1ab
This distribution has been tested as part of the CPAN Testers
project, supporting the Perl programming language.  See
http://wiki.cpantesters.org/ for more information or email
questions to cpan-testers-discuss@perl.org


--
Dear Patrick Hochstenbach,

This is a computer-generated report for HTTP-OAI-4.13
on perl 5.36.1, created by CPAN-Reporter-1.2018.

Thank you for uploading your work to CPAN.  Congratulations!
All tests were successful.

Sections of this report:

    * Tester comments
    * Program output
    * Prerequisites
    * Environment and other context

------------------------------
TESTER COMMENTS
------------------------------

Additional comments from tester:

this report is from an automated smoke testing program
and was not reviewed by a human for accuracy

------------------------------
PROGRAM OUTPUT
------------------------------

Output from './Build test':

t/000xml_sax.t ........... ok
t/00static.t ............. ok
t/01parse.t .............. ok
t/02token.t .............. ok
t/03badbytes.t ........... ok
t/50mets.t ............... ok
t/80network.t ............ ok
t/author-pod-syntax.t .... skipped: these tests are for testing by the author
t/error.t ................ ok
t/getrecord.t ............ ok
t/identify.t ............. ok
t/listidentifiers.t ...... ok
t/listmetadataformats.t .. ok
All tests successful.
Files=13, Tests=78, 103 wallclock secs ( 1.13 usr  0.14 sys + 60.79 cusr  2.92 csys = 64.98 CPU)
Result: PASS

------------------------------
PREREQUISITES
------------------------------

Prerequisite modules loaded:

requires:

    Module                Need   Have    
    --------------------- ------ --------
    Encode                2.12   3.17    
    HTTP::Request         0      6.44    
    HTTP::Response        0      6.44    
    LWP::UserAgent        0      6.70    
    Module::Build         0.4229 0.42_35 
    URI                   0      5.19    
    XML::LibXML           1.60   2.0208  
    XML::LibXML::SAX      0      2.0208  
    XML::NamespaceSupport 0      1.12    
    XML::SAX              0      1.02    
    XML::SAX::Base        1.04   1.09    

build_requires:

    Module                Need   Have    
    --------------------- ------ --------
    Test::Deep            0.112  1.204   
    Test::LWP::UserAgent  0      0.036   
    Test::More            0.99   1.302195
    Test::Pod             0      1.52    

configure_requires:

    Module                Need   Have    
    --------------------- ------ --------
    Module::Build::Tiny   0.034  0.046   


------------------------------
ENVIRONMENT AND OTHER CONTEXT
------------------------------

Environment variables:

    AUTOMATED_TESTING = 1
    LC_CTYPE = de_AT.utf8
    LD_LIBRARY_PATH = /usr/lib/libeatmydata
    NONINTERACTIVE_TESTING = 1
    PATH = /srv/smoker/bin:/usr/lib/ccache:/srv/smoker/perl5/bin:/srv/smoker/perl5/perlbrew/bin:/srv/smoker/perl5/perlbrew/perls/perl-5.36.1/bin:/usr/local/bin:/usr/bin:/bin:/usr/local/games:/usr/games
    PERL5LIB = /srv/smoker/perl5/lib/perl5
    PERL5OPT = 
    PERL5_CPANPLUS_IS_RUNNING = 26863
    PERL5_CPAN_IS_RUNNING = 26863
    PERL5_CPAN_IS_RUNNING_IN_RECURSION = 9194,26863
    PERLBREW_HOME = /srv/smoker/.perlbrew
    PERLBREW_MANPATH = /srv/smoker/perl5/perlbrew/perls/perl-5.36.1/man
    PERLBREW_PATH = /srv/smoker/perl5/perlbrew/bin:/srv/smoker/perl5/perlbrew/perls/perl-5.36.1/bin
    PERLBREW_PERL = perl-5.36.1
    PERLBREW_ROOT = /srv/smoker/perl5/perlbrew
    PERLBREW_SHELLRC_VERSION = 0.96
    PERLBREW_VERSION = 0.96
    PERL_CPANM_OPT = --prompt  --configure-timeout 300 --build-timeout 18000 --test-timeout 18000 --from https://www.cpan.org
    PERL_CR_SMOKER_CURRENT = HTTP-OAI-4.13
    PERL_EXTUTILS_AUTOINSTALL = --defaultdeps
    PERL_LOCAL_LIB_ROOT = /srv/smoker/perl5
    PERL_MB_OPT = --install_base "/srv/smoker/perl5"
    PERL_MM_OPT = INSTALL_BASE=/srv/smoker/perl5
    PERL_MM_USE_DEFAULT = 1
    PERL_TEST_TIME_OUT_FACTOR = 3
    PERL_TEST_TIME_OUT_FACTOR = 3
    PERL_USE_UNSAFE_INC = 1
    SHELL = /bin/bash
    TERM = screen-256color

Perl special variables (and OS-specific diagnostics, for MSWin32):

    $^X = /srv/smoker/perl5/perlbrew/perls/perl-5.36.1/bin/perl
    $UID/$EUID = 1111 / 1111
    $GID = 65534 65534
    $EGID = 65534 65534

Perl module toolchain versions installed:

    Module              Have    
    ------------------- --------
    CPAN                2.36    
    CPAN::Meta          2.150010
    Cwd                 3.84    
    ExtUtils::CBuilder  0.280236
    ExtUtils::Command   7.70    
    ExtUtils::Install   2.20    
    ExtUtils::MakeMaker 7.70    
    ExtUtils::Manifest  1.75    
    ExtUtils::ParseXS   3.45    
    File::Spec          3.84    
    JSON                4.10    
    JSON::PP            4.07    
    Module::Build       0.42_35 
    Module::Signature   n/a     
    Parse::CPAN::Meta   2.150010
    Test::Harness       3.45_02 
    Test::More          1.302195
    YAML                1.30    
    YAML::Syck          1.34    
    version             0.9929  


--

Summary of my perl5 (revision 5 version 36 subversion 1) configuration:
   
  Platform:
    osname=linux
    osvers=5.15.84+
    archname=armv6l-linux
    uname='linux smoker 5.15.84+ #1613 thu jan 5 11:58:09 gmt 2023 armv6l gnulinux '
    config_args='-de -Dprefix=/srv/smoker/perl5/perlbrew/perls/perl-5.36.1 -Aeval:scriptdir=/srv/smoker/perl5/perlbrew/perls/perl-5.36.1/bin'
    hint=recommended
    useposix=true
    d_sigaction=define
    useithreads=undef
    usemultiplicity=undef
    use64bitint=undef
    use64bitall=undef
    uselongdouble=undef
    usemymalloc=n
    default_inc_excludes_dot=define
  Compiler:
    cc='cc'
    ccflags ='-fwrapv -fno-strict-aliasing -pipe -fstack-protector-strong -I/usr/local/include -D_LARGEFILE_SOURCE -D_FILE_OFFSET_BITS=64 -D_FORTIFY_SOURCE=2'
    optimize='-O2'
    cppflags='-fwrapv -fno-strict-aliasing -pipe -fstack-protector-strong -I/usr/local/include'
    ccversion=''
    gccversion='12.2.0'
    gccosandvers=''
    intsize=4
    longsize=4
    ptrsize=4
    doublesize=8
    byteorder=1234
    doublekind=3
    d_longlong=define
    longlongsize=8
    d_longdbl=define
    longdblsize=8
    longdblkind=0
    ivtype='long'
    ivsize=4
    nvtype='double'
    nvsize=8
    Off_t='off_t'
    lseeksize=8
    alignbytes=8
    prototype=define
  Linker and Libraries:
    ld='cc'
    ldflags =' -fstack-protector-strong -L/usr/local/lib'
    libpth=/usr/local/lib /usr/lib/arm-linux-gnueabihf /usr/lib
    libs=-lpthread -lnsl -ldb -ldl -lm -lcrypt -lutil -lc
    perllibs=-lpthread -lnsl -ldl -lm -lcrypt -lutil -lc
    libc=/lib/arm-linux-gnueabihf/libc.so.6
    so=so
    useshrplib=false
    libperl=libperl.a
    gnulibc_version='2.36'
  Dynamic Linking:
    dlsrc=dl_dlopen.xs
    dlext=so
    d_dlsymun=undef
    ccdlflags='-Wl,-E'
    cccdlflags='-fPIC'
    lddlflags='-shared -O2 -L/usr/local/lib -fstack-protector-strong'


Characteristics of this binary (from libperl): 
  Compile-time options:
    HAS_TIMES
    PERLIO_LAYERS
    PERL_COPY_ON_WRITE
    PERL_DONT_CREATE_GVSV
    PERL_MALLOC_WRAP
    PERL_OP_PARENT
    PERL_PRESERVE_IVUV
    USE_LARGE_FILES
    USE_LOCALE
    USE_LOCALE_COLLATE
    USE_LOCALE_CTYPE
    USE_LOCALE_NUMERIC
    USE_LOCALE_TIME
    USE_PERLIO
    USE_PERL_ATOF
  Built under linux
  Compiled at Apr 23 2023 21:06:09
  %ENV:
    PERL5LIB="/srv/smoker/perl5/lib/perl5"
    PERL5OPT=""
    PERL5_CPANPLUS_IS_RUNNING="26863"
    PERL5_CPAN_IS_RUNNING="26863"
    PERL5_CPAN_IS_RUNNING_IN_RECURSION="9194,26863"
    PERLBREW_HOME="/srv/smoker/.perlbrew"
    PERLBREW_MANPATH="/srv/smoker/perl5/perlbrew/perls/perl-5.36.1/man"
    PERLBREW_PATH="/srv/smoker/perl5/perlbrew/bin:/srv/smoker/perl5/perlbrew/perls/perl-5.36.1/bin"
    PERLBREW_PERL="perl-5.36.1"
    PERLBREW_ROOT="/srv/smoker/perl5/perlbrew"
    PERLBREW_SHELLRC_VERSION="0.96"
    PERLBREW_VERSION="0.96"
    PERL_CPANM_OPT="--prompt  --configure-timeout 300 --build-timeout 18000 --test-timeout 18000 --from https://www.cpan.org"
    PERL_CR_SMOKER_CURRENT="HTTP-OAI-4.13"
    PERL_EXTUTILS_AUTOINSTALL="--defaultdeps"
    PERL_LOCAL_LIB_ROOT="/srv/smoker/perl5"
    PERL_MB_OPT="--install_base "/srv/smoker/perl5""
    PERL_MM_OPT="INSTALL_BASE=/srv/smoker/perl5"
    PERL_MM_USE_DEFAULT="1"
    PERL_TEST_TIME_OUT_FACTOR="3"
    PERL_USE_UNSAFE_INC="1"
  @INC:
    /srv/smoker/perl5/lib/perl5/5.36.1/armv6l-linux
    /srv/smoker/perl5/lib/perl5/5.36.1
    /srv/smoker/perl5/lib/perl5/armv6l-linux
    /srv/smoker/perl5/lib/perl5
    /srv/smoker/perl5/perlbrew/perls/perl-5.36.1/lib/site_perl/5.36.1/armv6l-linux
    /srv/smoker/perl5/perlbrew/perls/perl-5.36.1/lib/site_perl/5.36.1
    /srv/smoker/perl5/perlbrew/perls/perl-5.36.1/lib/5.36.1/armv6l-linux
    /srv/smoker/perl5/perlbrew/perls/perl-5.36.1/lib/5.36.1
    .