Dancer2-Plugin-Auth-Extensible-Provider-DBIxClass v0.0902 Perl 5 v5.35.11 x86_64-linux

Status
Pass
From
Slaven Rezić
Dist
Dancer2-Plugin-Auth-Extensible-Provider-DBIxClass v0.0902
Platform
Perl 5 v5.35.11 x86_64-linux
Date
2022-05-22 02:46:16
ID
5a306628-d979-11ec-97e8-42862cbfd570
This distribution has been tested as part of the CPAN Testers
project, supporting the Perl programming language.  See
http://wiki.cpantesters.org/ for more information or email
questions to cpan-testers-discuss@perl.org


--
Dear D Ruth Holloway,

This is a computer-generated report for Dancer2-Plugin-Auth-Extensible-Provider-DBIxClass-0.0902
on perl 5.35.11, created by CPAN-Reporter-1.2018.

Thank you for uploading your work to CPAN.  Congratulations!
All tests were successful.

Sections of this report:

    * Tester comments
    * Program output
    * Prerequisites
    * Environment and other context

------------------------------
TESTER COMMENTS
------------------------------

Additional comments from tester:

none provided

------------------------------
PROGRAM OUTPUT
------------------------------

Output from '/usr/bin/make test':

PERL_DL_NONLAZY=1 "/opt/perl-5.35.11/bin/perl5.35.11" "-MExtUtils::Command::MM" "-MTest::Harness" "-e" "undef *Test::Harness::Switches; test_harness(0, 'blib/lib', 'blib/arch')" t/*.t
t/00-compile.t ....................... ok
# 
# Versions for all modules listed in MYMETA.json (including optional ones):
# 
# === Configure Requires ===
# 
#     Module              Want Have
#     ------------------- ---- ----
#     ExtUtils::MakeMaker  any 7.64
# 
# === Build Requires ===
# 
#     Module              Want Have
#     ------------------- ---- ----
#     ExtUtils::MakeMaker  any 7.64
# 
# === Test Requires ===
# 
#     Module                                        Want       Have
#     -------------------------------------------- ----- ----------
#     DBIx::Class::Core                              any      undef
#     DBIx::Class::Schema                            any      undef
#     Dancer2                                        any   0.400000
#     Dancer2::Plugin::Auth::Extensible            0.620      0.710
#     Dancer2::Plugin::Auth::Extensible::Test        any      0.710
#     Dancer2::Plugin::Auth::Extensible::Test::App   any      0.710
#     Dancer2::Plugin::DBIx::Class                   any       1.06
#     DateTime::Format::SQLite                       any       0.11
#     ExtUtils::MakeMaker                            any       7.64
#     File::Spec                                     any       3.84
#     HTTP::Cookies                                  any       6.10
#     HTTP::Request::Common                          any       6.36
#     IO::Handle                                     any       1.48
#     IPC::Open3                                     any       1.22
#     Plack::Test                                    any      undef
#     SQL::Translator                                any       1.62
#     Test::Deep                                     any      1.130
#     Test::MockObject                               any 1.20200122
#     Test::More                                     any   1.302190
#     Test::Warn                                     any       0.36
#     base                                           any       2.27
#     lib                                            any       0.65
#     strict                                         any       1.12
#     warnings                                       any       1.58
# 
# === Test Recommends ===
# 
#     Module         Want     Have
#     ---------- -------- --------
#     CPAN::Meta 2.120900 2.150010
# 
# === Runtime Requires ===
# 
#     Module                                            Want       Have
#     ------------------------------------------------- ---- ----------
#     Carp                                               any       1.52
#     DBIx::Class::ResultClass::HashRefInflator          any      undef
#     Dancer2::Core::Types                               any   0.400000
#     Dancer2::Plugin::Auth::Extensible::Role::Provider  any      0.710
#     DateTime                                           any       1.58
#     Modern::Perl                                       any 1.20220515
#     Moo                                                any   2.005004
#     Scalar::Util                                       any       1.62
#     String::CamelCase                                  any       0.04
#     namespace::clean                                   any       0.27
# 
t/00-report-prereqs.t ................ ok
t/01-deprecation.t ................... ok
t/02-provider-dbixclass.t ............ ok
t/03-provider-dbic-user_as_object.t .. ok
All tests successful.
Files=5, Tests=60,  7 wallclock secs ( 0.16 usr  0.02 sys +  6.89 cusr  0.33 csys =  7.40 CPU)
Result: PASS

------------------------------
PREREQUISITES
------------------------------

Prerequisite modules loaded:

requires:

    Module                                            Need  Have      
    ------------------------------------------------- ----- ----------
    Carp                                              0     1.52      
    Dancer2::Core::Types                              0     0.400000  
    Dancer2::Plugin::Auth::Extensible::Role::Provider 0     0.710     
    DateTime                                          0     1.58      
    DBIx::Class::ResultClass::HashRefInflator         0     0         
    Modern::Perl                                      0     1.20220515
    Moo                                               0     2.005004  
    namespace::clean                                  0     0.27      
    perl                                              5.006 5.035011  
    Scalar::Util                                      0     1.62      
    String::CamelCase                                 0     0.04      

build_requires:

    Module                                            Need  Have      
    ------------------------------------------------- ----- ----------
    base                                              0     2.27      
    Dancer2                                           0     0.400000  
    Dancer2::Plugin::Auth::Extensible                 0.620 0.710     
    Dancer2::Plugin::Auth::Extensible::Test           0     0.710     
  ! Dancer2::Plugin::Auth::Extensible::Test::App      0     broken    
    Dancer2::Plugin::DBIx::Class                      0     1.06      
    DateTime::Format::SQLite                          0     0.11      
    DBIx::Class::Core                                 0     0         
    DBIx::Class::Schema                               0     0         
    ExtUtils::MakeMaker                               0     7.64      
    File::Spec                                        0     3.84      
    HTTP::Cookies                                     0     6.10      
    HTTP::Request::Common                             0     6.36      
    IO::Handle                                        0     1.48      
    IPC::Open3                                        0     1.22      
    lib                                               0     0.65      
    Plack::Test                                       0     0         
    SQL::Translator                                   0     1.62      
    strict                                            0     1.12      
    Test::Deep                                        0     1.130     
    Test::MockObject                                  0     1.20200122
    Test::More                                        0     1.302190  
    Test::Warn                                        0     0.36      
    warnings                                          0     1.58      

configure_requires:

    Module                                            Need  Have      
    ------------------------------------------------- ----- ----------
    ExtUtils::MakeMaker                               0     7.64      
    perl                                              5.006 5.035011  


------------------------------
ENVIRONMENT AND OTHER CONTEXT
------------------------------

Environment variables:

    LANG = en_US.UTF-8
    PATH = /usr/local/bin:/usr/bin:/bin:/usr/local/sbin:/usr/sbin:/sbin:/home/cpansand/bin/linux-gnu:/home/cpansand/bin/sh:/home/cpansand/bin:/usr/games:/home/cpansand/devel:/home/eserte/src/srezic-misc/scripts
    PERL5LIB = 
    PERL5OPT = 
    PERL5_CPANPLUS_IS_RUNNING = 2105963
    PERL5_CPAN_IS_RUNNING = 2105963
    PERL5_CPAN_IS_RUNNING_IN_RECURSION = 2105750,2105963
    PERLDOC = -MPod::Perldoc::ToTextOverstrike
    PERL_BATCH = yes
    PERL_CANARY_STABILITY_NOPROMPT = 1
    PERL_CPAN_REPORTER_CONFIG = /var/tmp/cpansmoker-1023/2022052202/cpanreporter_000_config.ini
    PERL_EXTUTILS_AUTOINSTALL = --defaultdeps
    PERL_USE_UNSAFE_INC = 1
    SHELL = /usr/bin/zsh
    TERM = screen
    TMPDIR = /var/tmp/cpansmoker-1023/2022052202

Perl special variables (and OS-specific diagnostics, for MSWin32):

    $^X = /opt/perl-5.35.11/bin/perl5.35.11
    $UID/$EUID = 1023 / 1023
    $GID = 1023 1023
    $EGID = 1023 1023

Perl module toolchain versions installed:

    Module              Have    
    ------------------- --------
    CPAN                2.34    
    CPAN::Meta          2.150010
    Cwd                 3.84    
    ExtUtils::CBuilder  0.280236
    ExtUtils::Command   7.64    
    ExtUtils::Install   2.20    
    ExtUtils::MakeMaker 7.64    
    ExtUtils::Manifest  1.73    
    ExtUtils::ParseXS   3.45    
    File::Spec          3.84    
    JSON                4.06    
    JSON::PP            4.09    
    Module::Build       0.4231  
    Module::Signature   n/a     
    Parse::CPAN::Meta   2.150010
    Test::Harness       3.44    
    Test::More          1.302190
    YAML                1.30    
    YAML::Syck          1.34    
    version             0.9929  


--

Summary of my perl5 (revision 5 version 35 subversion 11) configuration:
   
  Platform:
    osname=linux
    osvers=5.10.0-13-amd64
    archname=x86_64-linux
    uname='linux cloud7.bbbike.org 5.10.0-13-amd64 #1 smp debian 5.10.106-1 (2022-03-17) x86_64 gnulinux '
    config_args='-ds -e -Dprefix=/opt/perl-5.35.11 -Dusedevel -Dusemallocwrap=no -Dcf_email=srezic@cpan.org'
    hint=recommended
    useposix=true
    d_sigaction=define
    useithreads=undef
    usemultiplicity=undef
    use64bitint=define
    use64bitall=define
    uselongdouble=undef
    usemymalloc=n
    default_inc_excludes_dot=define
  Compiler:
    cc='cc'
    ccflags ='-fwrapv -fno-strict-aliasing -pipe -fstack-protector-strong -I/usr/local/include -D_LARGEFILE_SOURCE -D_FILE_OFFSET_BITS=64 -D_FORTIFY_SOURCE=2'
    optimize='-O2'
    cppflags='-fwrapv -fno-strict-aliasing -pipe -fstack-protector-strong -I/usr/local/include'
    ccversion=''
    gccversion='10.2.1 20210110'
    gccosandvers=''
    intsize=4
    longsize=8
    ptrsize=8
    doublesize=8
    byteorder=12345678
    doublekind=3
    d_longlong=define
    longlongsize=8
    d_longdbl=define
    longdblsize=16
    longdblkind=3
    ivtype='long'
    ivsize=8
    nvtype='double'
    nvsize=8
    Off_t='off_t'
    lseeksize=8
    alignbytes=8
    prototype=define
  Linker and Libraries:
    ld='cc'
    ldflags =' -fstack-protector-strong -L/usr/local/lib'
    libpth=/usr/local/lib /usr/lib/x86_64-linux-gnu /usr/lib /usr/lib64
    libs=-lpthread -lnsl -lgdbm -ldb -ldl -lm -lcrypt -lutil -lc
    perllibs=-lpthread -lnsl -ldl -lm -lcrypt -lutil -lc
    libc=libc-2.31.so
    so=so
    useshrplib=false
    libperl=libperl.a
    gnulibc_version='2.31'
  Dynamic Linking:
    dlsrc=dl_dlopen.xs
    dlext=so
    d_dlsymun=undef
    ccdlflags='-Wl,-E'
    cccdlflags='-fPIC'
    lddlflags='-shared -O2 -L/usr/local/lib -fstack-protector-strong'


Characteristics of this binary (from libperl): 
  Compile-time options:
    HAS_TIMES
    PERLIO_LAYERS
    PERL_COPY_ON_WRITE
    PERL_DONT_CREATE_GVSV
    PERL_OP_PARENT
    PERL_PRESERVE_IVUV
    PERL_USE_DEVEL
    USE_64_BIT_ALL
    USE_64_BIT_INT
    USE_LARGE_FILES
    USE_LOCALE
    USE_LOCALE_COLLATE
    USE_LOCALE_CTYPE
    USE_LOCALE_NUMERIC
    USE_LOCALE_TIME
    USE_PERLIO
    USE_PERL_ATOF
  Built under linux
  Compiled at Apr 21 2022 19:55:55
  %ENV:
    PERL5LIB=""
    PERL5OPT=""
    PERL5_CPANPLUS_IS_RUNNING="2105963"
    PERL5_CPAN_IS_RUNNING="2105963"
    PERL5_CPAN_IS_RUNNING_IN_RECURSION="2105750,2105963"
    PERLDOC="-MPod::Perldoc::ToTextOverstrike"
    PERL_BATCH="yes"
    PERL_CANARY_STABILITY_NOPROMPT="1"
    PERL_CPAN_REPORTER_CONFIG="/var/tmp/cpansmoker-1023/2022052202/cpanreporter_000_config.ini"
    PERL_EXTUTILS_AUTOINSTALL="--defaultdeps"
    PERL_USE_UNSAFE_INC="1"
  @INC:
    /opt/perl-5.35.11/lib/site_perl/5.35.11/x86_64-linux
    /opt/perl-5.35.11/lib/site_perl/5.35.11
    /opt/perl-5.35.11/lib/5.35.11/x86_64-linux
    /opt/perl-5.35.11/lib/5.35.11
    .