Dancer2-Plugin-DBIx-Class v1.1001 Perl 5 v5.14.4 x86_64-linux

Status
Pass
From
Slaven Rezić
Dist
Dancer2-Plugin-DBIx-Class v1.1001
Platform
Perl 5 v5.14.4 x86_64-linux
Date
2022-05-23 16:28:17
ID
5a0870ae-dab5-11ec-a8b6-25892cbfd570
This distribution has been tested as part of the CPAN Testers
project, supporting the Perl programming language.  See
http://wiki.cpantesters.org/ for more information or email
questions to cpan-testers-discuss@perl.org


--
Dear D Ruth Holloway,

This is a computer-generated report for Dancer2-Plugin-DBIx-Class-1.1001
on perl 5.14.4, created by CPAN-Reporter-1.2018.

Thank you for uploading your work to CPAN.  Congratulations!
All tests were successful.

Sections of this report:

    * Tester comments
    * Program output
    * Prerequisites
    * Environment and other context

------------------------------
TESTER COMMENTS
------------------------------

Additional comments from tester:

none provided

------------------------------
PROGRAM OUTPUT
------------------------------

Output from '/usr/bin/make test':

PERL_DL_NONLAZY=1 "/opt/perl-5.14.4/bin/perl" "-MExtUtils::Command::MM" "-MTest::Harness" "-e" "undef *Test::Harness::Switches; test_harness(0, 'blib/lib', 'blib/arch')" t/*.t
t/00-compile.t ................ ok
# 
# Versions for all modules listed in MYMETA.json (including optional ones):
# 
# === Configure Requires ===
# 
#     Module              Want Have
#     ------------------- ---- ----
#     ExtUtils::MakeMaker  any 7.62
# 
# === Build Requires ===
# 
#     Module              Want Have
#     ------------------- ---- ----
#     ExtUtils::MakeMaker  any 7.62
# 
# === Test Requires ===
# 
#     Module                              Want     Have
#     ----------------------------------- ---- --------
#     DBIx::Class::Core                    any    undef
#     DBIx::Class::Schema                  any    undef
#     DBIx::Class::Schema::ResultSetNames  any     1.03
#     Dancer2                              any 0.301004
#     ExtUtils::MakeMaker                  any     7.62
#     File::Spec                           any     3.75
#     HTTP::Request::Common                any     6.36
#     IO::Handle                           any     1.48
#     IPC::Open3                           any   1.0901
#     JSON::MaybeXS                        any 1.004003
#     Plack::Test                          any    undef
#     Test2::V0                            any 0.000145
#     Test::More                           any 1.302190
#     base                                 any     2.23
#     lib                                  any     0.63
#     strict                               any     1.04
#     warnings                             any     1.12
# 
# === Test Recommends ===
# 
#     Module         Want     Have
#     ---------- -------- --------
#     CPAN::Meta 2.120900 2.150010
# 
# === Runtime Requires ===
# 
#     Module                       Want       Have
#     ------------------------ -------- ----------
#     Carp                          any       1.50
#     Class::C3::Componentised      any   1.001002
#     Dancer2::Plugin          0.154000   0.301004
#     Modern::Perl                  any 1.20200211
#     Moo                           any   2.005004
#     curry                    2.000001   2.000001
# 
t/00-report-prereqs.t ......... ok
t/00_core_keywords.t .......... ok
t/01_both_using_rsnames.t ..... ok
t/02_first_using_rsnames.t .... ok
t/03_second_using_rsnames.t ... ok
t/04_neither_using_rsnames.t .. ok
All tests successful.
Files=7, Tests=8,  5 wallclock secs ( 0.04 usr  0.01 sys +  4.09 cusr  0.42 csys =  4.56 CPU)
Result: PASS

------------------------------
PREREQUISITES
------------------------------

Prerequisite modules loaded:

requires:

    Module                              Need     Have      
    ----------------------------------- -------- ----------
    Carp                                0        1.50      
    Class::C3::Componentised            0        1.001002  
    curry                               2.000001 2.000001  
    Dancer2::Plugin                     0.154000 0.301004  
    Modern::Perl                        0        1.20200211
    Moo                                 0        2.005004  
    perl                                5.006    5.014004  

build_requires:

    Module                              Need     Have      
    ----------------------------------- -------- ----------
    base                                0        2.23      
    Dancer2                             0        0.301004  
    DBIx::Class::Core                   0        0         
    DBIx::Class::Schema                 0        0         
    DBIx::Class::Schema::ResultSetNames 0        1.03      
    ExtUtils::MakeMaker                 0        7.62      
    File::Spec                          0        3.75      
    HTTP::Request::Common               0        6.36      
    IO::Handle                          0        1.48      
    IPC::Open3                          0        1.0901    
    JSON::MaybeXS                       0        1.004003  
    lib                                 0        0.63      
    Plack::Test                         0        0         
    strict                              0        1.04      
    Test2::V0                           0        0.000145  
    Test::More                          0        1.302190  
    warnings                            0        1.12      

configure_requires:

    Module                              Need     Have      
    ----------------------------------- -------- ----------
    ExtUtils::MakeMaker                 0        7.62      
    perl                                5.006    5.014004  


------------------------------
ENVIRONMENT AND OTHER CONTEXT
------------------------------

Environment variables:

    LANG = en_US.UTF-8
    PATH = /usr/local/bin:/usr/bin:/bin:/usr/local/sbin:/usr/sbin:/sbin:/home/cpansand/bin/linux-gnu:/home/cpansand/bin/sh:/home/cpansand/bin:/usr/games:/home/cpansand/devel:/home/eserte/src/srezic-misc/scripts
    PERL5LIB = /home/cpansand/.local/share/.cpan/build/2022052316/curry-2.000001-0iXhGu/blib/arch:/home/cpansand/.local/share/.cpan/build/2022052316/curry-2.000001-0iXhGu/blib/lib
    PERL5OPT = 
    PERL5_CPANPLUS_IS_RUNNING = 14989
    PERL5_CPAN_IS_RUNNING = 14989
    PERL5_CPAN_IS_RUNNING_IN_RECURSION = 1923,14989
    PERLDOC = -MPod::Perldoc::ToTextOverstrike
    PERL_BATCH = yes
    PERL_CANARY_STABILITY_NOPROMPT = 1
    PERL_CPAN_REPORTER_CONFIG = /var/tmp/cpansmoker-1023/2022052316/cpanreporter_000_config.ini
    PERL_EXTUTILS_AUTOINSTALL = --defaultdeps
    SHELL = /usr/bin/zsh
    TERM = screen
    TMPDIR = /var/tmp/cpansmoker-1023/2022052316

Perl special variables (and OS-specific diagnostics, for MSWin32):

    $^X = /opt/perl-5.14.4/bin/perl
    $UID/$EUID = 1023 / 1023
    $GID = 1023 1023
    $EGID = 1023 1023

Perl module toolchain versions installed:

    Module              Have     
    ------------------- ---------
    CPAN                1.9600_01
    CPAN::Meta          2.150010 
    Cwd                 3.75     
    ExtUtils::CBuilder  0.280236 
    ExtUtils::Command   7.62     
    ExtUtils::Install   2.20     
    ExtUtils::MakeMaker 7.62     
    ExtUtils::Manifest  1.70     
    ExtUtils::ParseXS   3.35     
    File::Spec          3.75     
    JSON                4.05     
    JSON::PP            4.08     
    Module::Build       0.4231   
    Module::Signature   n/a      
    Parse::CPAN::Meta   2.150010 
    Test::Harness       3.42     
    Test::More          1.302190 
    YAML                1.30     
    YAML::Syck          1.34     
    version             0.9929   


--

Summary of my perl5 (revision 5 version 14 subversion 4) configuration:
   
  Platform:
    osname=linux, osvers=4.15.0-154-generic, archname=x86_64-linux
    uname='linux cloud6.bbbike.org 4.15.0-154-generic #161-ubuntu smp fri jul 30 13:04:17 utc 2021 x86_64 x86_64 x86_64 gnulinux '
    config_args='-ds -e -Dprefix=/opt/perl-5.14.4 -Dcf_email=srezic@cpan.org'
    hint=recommended, useposix=true, d_sigaction=define
    useithreads=undef, usemultiplicity=undef
    useperlio=define, d_sfio=undef, uselargefiles=define, usesocks=undef
    use64bitint=define, use64bitall=define, uselongdouble=undef
    usemymalloc=n, bincompat5005=undef
  Compiler:
    cc='cc', ccflags ='-fwrapv -fno-strict-aliasing -pipe -fstack-protector -I/usr/local/include -D_LARGEFILE_SOURCE -D_FILE_OFFSET_BITS=64',
    optimize='-O2',
    cppflags='-fwrapv -fno-strict-aliasing -pipe -fstack-protector -I/usr/local/include'
    ccversion='', gccversion='7.5.0', gccosandvers=''
    intsize=4, longsize=8, ptrsize=8, doublesize=8, byteorder=12345678
    d_longlong=define, longlongsize=8, d_longdbl=define, longdblsize=16
    ivtype='long', ivsize=8, nvtype='double', nvsize=8, Off_t='off_t', lseeksize=8
    alignbytes=8, prototype=define
  Linker and Libraries:
    ld='cc', ldflags =' -fstack-protector -L/usr/local/lib'
    libpth=/usr/local/lib /lib/x86_64-linux-gnu /lib/../lib /usr/lib/x86_64-linux-gnu /usr/lib/../lib /lib /usr/lib
    libs=-lnsl -lgdbm -ldb -ldl -lm -lcrypt -lutil -lc
    perllibs=-lnsl -ldl -lm -lcrypt -lutil -lc
    libc=libc-2.27.so, so=so, useshrplib=false, libperl=libperl.a
    gnulibc_version='2.27'
  Dynamic Linking:
    dlsrc=dl_dlopen.xs, dlext=so, d_dlsymun=undef, ccdlflags='-Wl,-E'
    cccdlflags='-fPIC', lddlflags='-shared -O2 -L/usr/local/lib -fstack-protector'


Characteristics of this binary (from libperl): 
  Compile-time options: PERL_DONT_CREATE_GVSV PERL_MALLOC_WRAP
                        PERL_PRESERVE_IVUV USE_64_BIT_ALL USE_64_BIT_INT
                        USE_LARGE_FILES USE_PERLIO USE_PERL_ATOF
  Locally applied patches:
	Devel::PatchPerl 2.08
  Built under linux
  Compiled at Sep  5 2021 12:34:24
  %ENV:
    PERL5LIB="/home/cpansand/.local/share/.cpan/build/2022052316/curry-2.000001-0iXhGu/blib/arch:/home/cpansand/.local/share/.cpan/build/2022052316/curry-2.000001-0iXhGu/blib/lib"
    PERL5OPT=""
    PERL5_CPANPLUS_IS_RUNNING="14989"
    PERL5_CPAN_IS_RUNNING="14989"
    PERL5_CPAN_IS_RUNNING_IN_RECURSION="1923,14989"
    PERLDOC="-MPod::Perldoc::ToTextOverstrike"
    PERL_BATCH="yes"
    PERL_CANARY_STABILITY_NOPROMPT="1"
    PERL_CPAN_REPORTER_CONFIG="/var/tmp/cpansmoker-1023/2022052316/cpanreporter_000_config.ini"
    PERL_EXTUTILS_AUTOINSTALL="--defaultdeps"
  @INC:
    /home/cpansand/.local/share/.cpan/build/2022052316/curry-2.000001-0iXhGu/blib/arch
    /home/cpansand/.local/share/.cpan/build/2022052316/curry-2.000001-0iXhGu/blib/lib
    /opt/perl-5.14.4/lib/site_perl/5.14.4/x86_64-linux
    /opt/perl-5.14.4/lib/site_perl/5.14.4
    /opt/perl-5.14.4/lib/5.14.4/x86_64-linux
    /opt/perl-5.14.4/lib/5.14.4
    .