Moo v2.005005 Perl 5 v5.36.0 x86_64-linux
- Status
- Pass
- From
- Amory
- Dist
-
Moo v2.005005
- Platform
- Perl 5 v5.36.0 x86_64-linux
- Date
- 2023-12-09 01:07:38
- ID
- 5820e532-962f-11ee-8955-9d9e71ec4c8c
This distribution has been tested as part of the CPAN Testers
project, supporting the Perl programming language. See
http://wiki.cpantesters.org/ for more information or email
questions to cpan-testers-discuss@perl.org
--
Dear HAARG,
This is a computer-generated report for Moo-2.005005
on perl 5.36.0, created by App::cpanminus::reporter 0.21 (1.7046).
Thank you for uploading your work to CPAN. Congratulations!
All tests were successful.
Sections of this report:
* Tester comments
* Program output
* Prerequisites
* Environment and other context
------------------------------
TESTER COMMENTS
------------------------------
Additional comments from tester:
none provided
------------------------------
PROGRAM OUTPUT
------------------------------
Output from '':
Building and testing Moo-2.005005
cp lib/Method/Generate/Accessor.pm blib/lib/Method/Generate/Accessor.pm
cp lib/Moo/HandleMoose/FakeMetaClass.pm blib/lib/Moo/HandleMoose/FakeMetaClass.pm
cp lib/Moo/sification.pm blib/lib/Moo/sification.pm
cp lib/oo.pm blib/lib/oo.pm
cp lib/Method/Generate/Constructor.pm blib/lib/Method/Generate/Constructor.pm
cp lib/Moo/Object.pm blib/lib/Moo/Object.pm
cp lib/Moo/Role.pm blib/lib/Moo/Role.pm
cp lib/Method/Generate/BuildAll.pm blib/lib/Method/Generate/BuildAll.pm
cp lib/Moo/_Utils.pm blib/lib/Moo/_Utils.pm
cp lib/Moo/HandleMoose.pm blib/lib/Moo/HandleMoose.pm
cp lib/Moo/HandleMoose/_TypeMap.pm blib/lib/Moo/HandleMoose/_TypeMap.pm
cp lib/Moo.pm blib/lib/Moo.pm
cp lib/Method/Generate/DemolishAll.pm blib/lib/Method/Generate/DemolishAll.pm
Manifying 3 pod documents
PERL_DL_NONLAZY=1 "/mnt/nfs/labstore-secondary-tools-project/amorybot/perl5/perlbrew/perls/perl-5.36.0/bin/perl" -It/lib "-MTestEnv=" "-MExtUtils::Command::MM" "-MTest::Harness" "-e" "undef *Test::Harness::Switches; test_harness(0, 'blib/lib', 'blib/arch')" t/*.t
t/accessor-coerce.t ................ ok
t/accessor-default.t ............... ok
t/accessor-generator-extension.t ... ok
t/accessor-handles.t ............... ok
t/accessor-isa.t ................... ok
t/accessor-mixed.t ................. ok
t/accessor-pred-clear.t ............ ok
t/accessor-reader-writer.t ......... ok
t/accessor-roles.t ................. ok
t/accessor-shortcuts.t ............. ok
t/accessor-trigger.t ............... ok
t/accessor-weaken-pre-5_8_3.t ...... ok
t/accessor-weaken.t ................ ok
t/buildall-subconstructor.t ........ ok
t/buildall.t ....................... ok
t/buildargs-error.t ................ ok
t/buildargs.t ...................... ok
t/coerce-1.t ....................... ok
t/compose-conflicts.t .............. ok
t/compose-non-role.t ............... ok
t/compose-roles.t .................. ok
t/constructor-modify.t ............. ok
t/croak-locations.t ................ ok
t/demolish-basics.t ................ ok
t/demolish-bugs-eats_exceptions.t .. ok
t/demolish-bugs-eats_mini.t ........ ok
t/demolish-global_destruction.t .... ok
t/demolish-throw.t ................. ok
t/does.t ........................... ok
t/extend-constructor.t ............. ok
t/extends-non-moo.t ................ ok
t/extends-role.t ................... ok
t/foreignbuildargs.t ............... ok
t/global_underscore.t .............. ok
t/has-array.t ...................... ok
t/has-before-extends.t ............. ok
t/has-plus.t ....................... ok
t/init-arg.t ....................... ok
t/isa-interfere.t .................. ok
t/lazy_isa.t ....................... ok
t/load_module.t .................... ok
t/load_module_error.t .............. ok
t/load_module_role_tiny.t .......... ok
t/long-package-name.t .............. ok
t/method-generate-accessor.t ....... ok
t/method-generate-constructor.t .... ok
t/modifiers.t ...................... ok
t/modify_lazy_handlers.t ........... ok
t/moo-accessors.t .................. ok
t/moo-c3.t ......................... ok
t/moo-object.t ..................... ok
t/moo-utils-_name_coderef.t ........ ok
t/moo-utils-_subname-Sub-Name.t .... ok
t/moo-utils-_subname.t ............. ok
t/moo-utils.t ...................... ok
t/moo.t ............................ ok
t/mutual-requires.t ................ ok
t/no-build.t ....................... ok
t/no-moo.t ......................... ok
t/non-moo-extends-c3.t ............. ok
t/non-moo-extends.t ................ ok
t/not-both.t ....................... ok
t/not-methods.t .................... ok
t/overloaded-coderefs.t ............ ok
t/overridden-core-funcs.t .......... ok
t/role-conflicts-moox.t ............ ok
t/sub-and-handles.t ................ ok
t/subconstructor.t ................. ok
t/undef-bug.t ...................... ok
t/use-after-no.t ................... ok
t/zzz-check-breaks.t ............... ok
All tests successful.
Files=71, Tests=841, 7 wallclock secs ( 0.42 usr 0.13 sys + 4.86 cusr 1.51 csys = 6.92 CPU)
Result: PASS
------------------------------
PREREQUISITES
------------------------------
Prerequisite modules loaded:
runtime:
Module Need Have
------------------------ -------- --------
Carp 0 1.52
Class::Method::Modifiers 1.10 2.15
Exporter 0 5.77
perl 5.006 5.036000
Role::Tiny 2.002003 2.002004
Scalar::Util 1.00 1.62
Sub::Defer 2.006006 2.006008
Sub::Quote 2.006006 2.006008
configure:
Module Need Have
------------------------ -------- --------
ExtUtils::MakeMaker 0 7.64
------------------------------
ENVIRONMENT AND OTHER CONTEXT
------------------------------
Environment variables:
LANG = en_US.UTF-8
LC_ALL = C
PATH = /data/project/amorybot/bin:/data/project/amorybot/perl5/perlbrew/bin:/data/project/amorybot/perl5/perlbrew/perls/perl-5.36.0/bin:/usr/local/bin:/usr/local/sbin:/data/project/rustup/rustup/.cargo/bin:/mnt/nfs/labstore-secondary-tools-project/amorybot/node_modules/.bin:/usr/bin:/bin:/usr/local/games:/usr/games:/data/project/amorybot/lockquote
PERL5DB = use Devel::NYTProf
PERL5_DIR = /data/project/amorybot/perl5
PERL5_V = 5.36
PERLBREW = command perlbrew
PERLBREW_HOME = /data/project/amorybot/.perlbrew
PERLBREW_MANPATH = /data/project/amorybot/perl5/perlbrew/perls/perl-5.36.0/man
PERLBREW_PATH = /data/project/amorybot/perl5/perlbrew/bin:/data/project/amorybot/perl5/perlbrew/perls/perl-5.36.0/bin
PERLBREW_PERL = perl-5.36.0
PERLBREW_ROOT = /data/project/amorybot/perl5/perlbrew
PERLBREW_SHELLRC_VERSION = 0.98
PERLBREW_VERSION = 0.98
PERL_CPANM_OPT = --verify --from https://www.cpan.org
PERL_MM_USE_DEFAULT = 1
SHELL = /bin/bash
TERM = xterm-256color
Perl special variables (and OS-specific diagnostics, for MSWin32):
EGID = 54380 54380
EUID = 54380
EXECUTABLE_NAME = /mnt/nfs/labstore-secondary-tools-project/amorybot/perl5/perlbrew/perls/perl-5.36.0/bin/perl
GID = 54380 54380
UID = 54380
Perl module toolchain versions installed:
Module Have
------------------- --------
CPAN 2.33
CPAN::Meta 2.150010
Cwd 3.84
ExtUtils::CBuilder 0.280236
ExtUtils::Command 7.64
ExtUtils::Install 2.20
ExtUtils::MakeMaker 7.64
ExtUtils::Manifest 1.73
ExtUtils::ParseXS 3.45
File::Spec 3.84
JSON 4.10
JSON::PP 4.07
Module::Build 0.4234
Module::Signature n/a
Parse::CPAN::Meta 2.150010
Test::Harness 3.44
Test::More 1.302190
YAML 1.30
YAML::Syck n/a
version 0.9929
--
Summary of my perl5 (revision 5 version 36 subversion 0) configuration:
Platform:
osname=linux
osvers=4.19.0-25-cloud-amd64
archname=x86_64-linux
uname='linux tools-sgebastion-10 4.19.0-25-cloud-amd64 #1 smp debian 4.19.289-2 (2023-08-08) x86_64 gnulinux '
config_args='-de -Dprefix=/data/project/amorybot/perl5/perlbrew/perls/perl-5.36.0 -Aeval:scriptdir=/data/project/amorybot/perl5/perlbrew/perls/perl-5.36.0/bin'
hint=recommended
useposix=true
d_sigaction=define
useithreads=undef
usemultiplicity=undef
use64bitint=define
use64bitall=define
uselongdouble=undef
usemymalloc=n
default_inc_excludes_dot=define
Compiler:
cc='cc'
ccflags ='-fwrapv -fno-strict-aliasing -pipe -fstack-protector-strong -I/usr/local/include -D_LARGEFILE_SOURCE -D_FILE_OFFSET_BITS=64 -D_FORTIFY_SOURCE=2'
optimize='-O2'
cppflags='-fwrapv -fno-strict-aliasing -pipe -fstack-protector-strong -I/usr/local/include'
ccversion=''
gccversion='8.3.0'
gccosandvers=''
intsize=4
longsize=8
ptrsize=8
doublesize=8
byteorder=12345678
doublekind=3
d_longlong=define
longlongsize=8
d_longdbl=define
longdblsize=16
longdblkind=3
ivtype='long'
ivsize=8
nvtype='double'
nvsize=8
Off_t='off_t'
lseeksize=8
alignbytes=8
prototype=define
Linker and Libraries:
ld='cc'
ldflags =' -fstack-protector-strong -L/usr/local/lib'
libpth=/usr/local/lib /usr/lib/x86_64-linux-gnu /usr/lib /usr/lib64
libs=-lpthread -lnsl -lgdbm -ldl -lm -lcrypt -lutil -lc
perllibs=-lpthread -lnsl -ldl -lm -lcrypt -lutil -lc
libc=libc-2.28.so
so=so
useshrplib=false
libperl=libperl.a
gnulibc_version='2.28'
Dynamic Linking:
dlsrc=dl_dlopen.xs
dlext=so
d_dlsymun=undef
ccdlflags='-Wl,-E'
cccdlflags='-fPIC'
lddlflags='-shared -O2 -L/usr/local/lib -fstack-protector-strong'
Characteristics of this binary (from libperl):
Compile-time options:
HAS_TIMES
PERLIO_LAYERS
PERL_COPY_ON_WRITE
PERL_DONT_CREATE_GVSV
PERL_MALLOC_WRAP
PERL_OP_PARENT
PERL_PRESERVE_IVUV
USE_64_BIT_ALL
USE_64_BIT_INT
USE_LARGE_FILES
USE_LOCALE
USE_LOCALE_COLLATE
USE_LOCALE_CTYPE
USE_LOCALE_NUMERIC
USE_LOCALE_TIME
USE_PERLIO
USE_PERL_ATOF
Built under linux
Compiled at Dec 8 2023 14:37:51
%ENV:
PERL5DB="use Devel::NYTProf"
PERL5_DIR="/data/project/amorybot/perl5"
PERL5_V="5.36"
PERLBREW="command perlbrew"
PERLBREW_HOME="/data/project/amorybot/.perlbrew"
PERLBREW_MANPATH="/data/project/amorybot/perl5/perlbrew/perls/perl-5.36.0/man"
PERLBREW_PATH="/data/project/amorybot/perl5/perlbrew/bin:/data/project/amorybot/perl5/perlbrew/perls/perl-5.36.0/bin"
PERLBREW_PERL="perl-5.36.0"
PERLBREW_ROOT="/data/project/amorybot/perl5/perlbrew"
PERLBREW_SHELLRC_VERSION="0.98"
PERLBREW_VERSION="0.98"
PERL_CPANM_OPT="--verify --from https://www.cpan.org"
PERL_MM_USE_DEFAULT="1"
@INC:
/data/project/amorybot/perl5/perlbrew/perls/perl-5.36.0/lib/site_perl/5.36.0/x86_64-linux
/data/project/amorybot/perl5/perlbrew/perls/perl-5.36.0/lib/site_perl/5.36.0
/data/project/amorybot/perl5/perlbrew/perls/perl-5.36.0/lib/5.36.0/x86_64-linux
/data/project/amorybot/perl5/perlbrew/perls/perl-5.36.0/lib/5.36.0