Encode v3.17 Perl 5 v5.24.0 MSWin32-x86-multi-thread
- Status
- Pass
- From
- Alexandr Ciornii (CHORNY)
- Dist
-
Encode v3.17
- Platform
- Perl 5 v5.24.0 MSWin32-x86-multi-thread
- Date
- 2022-04-07 16:11:32
- ID
- 5608dc11-6bf4-1014-962a-cc12ebfe05dc
This distribution has been tested as part of the CPAN Testers
project, supporting the Perl programming language. See
http://wiki.cpantesters.org/ for more information or email
questions to cpan-testers-discuss@perl.org
--
Dear Dan Kogai,
This is a computer-generated report for Encode-3.17
on perl 5.24.0, created by CPAN-Reporter-1.2018.
Thank you for uploading your work to CPAN. Congratulations!
All tests were successful.
Sections of this report:
* Tester comments
* Program output
* Prerequisites
* Environment and other context
------------------------------
TESTER COMMENTS
------------------------------
Additional comments from tester:
this report is from an automated smoke testing program
and was not reviewed by a human for accuracy
------------------------------
PROGRAM OUTPUT
------------------------------
Output from 'C:\STRAWB~1\c\bin\dmake.exe test':
"C:\Strawberry240\perl\bin\perl.exe" -MExtUtils::Command::MM -e cp_nonempty -- Encode.bs blib\arch\auto\Encode\Encode.bs 644
"C:\Strawberry240\perl\bin\perl.exe" -MExtUtils::Command::MM -e cp_nonempty -- Byte.bs ..\blib\arch\auto\Encode\Byte\Byte.bs 644
"C:\Strawberry240\perl\bin\perl.exe" -MExtUtils::Command::MM -e cp_nonempty -- CN.bs ..\blib\arch\auto\Encode\CN\CN.bs 644
"C:\Strawberry240\perl\bin\perl.exe" -MExtUtils::Command::MM -e cp_nonempty -- EBCDIC.bs ..\blib\arch\auto\Encode\EBCDIC\EBCDIC.bs 644
"C:\Strawberry240\perl\bin\perl.exe" -MExtUtils::Command::MM -e cp_nonempty -- JP.bs ..\blib\arch\auto\Encode\JP\JP.bs 644
"C:\Strawberry240\perl\bin\perl.exe" -MExtUtils::Command::MM -e cp_nonempty -- KR.bs ..\blib\arch\auto\Encode\KR\KR.bs 644
"C:\Strawberry240\perl\bin\perl.exe" -MExtUtils::Command::MM -e cp_nonempty -- Symbol.bs ..\blib\arch\auto\Encode\Symbol\Symbol.bs 644
"C:\Strawberry240\perl\bin\perl.exe" -MExtUtils::Command::MM -e cp_nonempty -- TW.bs ..\blib\arch\auto\Encode\TW\TW.bs 644
"C:\Strawberry240\perl\bin\perl.exe" -MExtUtils::Command::MM -e cp_nonempty -- Unicode.bs ..\blib\arch\auto\Encode\Unicode\Unicode.bs 644
"C:\Strawberry240\perl\bin\perl.exe" -MExtUtils::Command::MM -e cp_nonempty -- Byte.bs ..\blib\arch\auto\Encode\Byte\Byte.bs 644
'No tests defined for Encode::Byte extension.'
"C:\Strawberry240\perl\bin\perl.exe" -MExtUtils::Command::MM -e cp_nonempty -- CN.bs ..\blib\arch\auto\Encode\CN\CN.bs 644
'No tests defined for Encode::CN extension.'
"C:\Strawberry240\perl\bin\perl.exe" -MExtUtils::Command::MM -e cp_nonempty -- EBCDIC.bs ..\blib\arch\auto\Encode\EBCDIC\EBCDIC.bs 644
'No tests defined for Encode::EBCDIC extension.'
"C:\Strawberry240\perl\bin\perl.exe" -MExtUtils::Command::MM -e cp_nonempty -- JP.bs ..\blib\arch\auto\Encode\JP\JP.bs 644
'No tests defined for Encode::JP extension.'
"C:\Strawberry240\perl\bin\perl.exe" -MExtUtils::Command::MM -e cp_nonempty -- KR.bs ..\blib\arch\auto\Encode\KR\KR.bs 644
'No tests defined for Encode::KR extension.'
"C:\Strawberry240\perl\bin\perl.exe" -MExtUtils::Command::MM -e cp_nonempty -- Symbol.bs ..\blib\arch\auto\Encode\Symbol\Symbol.bs 644
'No tests defined for Encode::Symbol extension.'
"C:\Strawberry240\perl\bin\perl.exe" -MExtUtils::Command::MM -e cp_nonempty -- TW.bs ..\blib\arch\auto\Encode\TW\TW.bs 644
'No tests defined for Encode::TW extension.'
"C:\Strawberry240\perl\bin\perl.exe" -MExtUtils::Command::MM -e cp_nonempty -- Unicode.bs ..\blib\arch\auto\Encode\Unicode\Unicode.bs 644
'No tests defined for Encode::Unicode extension.'
"C:\Strawberry240\perl\bin\perl.exe" "-MExtUtils::Command::MM" "-MTest::Harness" "-e" "undef *Test::Harness::Switches; test_harness(0, 'blib\lib', 'blib\arch')" t/*.t
t/Aliases.t ................ ok
t/at-cn.t .................. ok
t/at-tw.t .................. ok
t/CJKT.t ................... ok
t/cow.t .................... ok
t/decode.t ................. ok
t/enc_data.t ............... ok
t/enc_eucjp.t .............. ok
t/enc_module.t ............. ok
t/enc_utf8.t ............... ok
t/Encode.t ................. ok
t/Encoder.t ................ ok
t/encoding-locale.t ........ ok
t/encoding.t ............... ok
t/fallback.t ............... ok
t/from_to.t ................ ok
t/grow.t ................... ok
t/gsm0338.t ................ ok
t/guess.t .................. ok
t/isa.t .................... ok
t/jis7-fallback.t .......... ok
t/jperl.t .................. ok
t/magic.t .................. ok
t/mime-header.t ............ ok
t/mime-name.t .............. ok
t/mime_header_iso2022jp.t .. ok
t/perlio.t ................. ok
t/piconv.t ................. ok
t/rt113164.t ............... ok
t/rt65541.t ................ ok
t/rt76824.t ................ ok
t/rt85489.t ................ ok
t/rt86327.t ................ ok
t/taint.t .................. ok
t/truncated_utf8.t ......... ok
t/undef.t .................. ok
t/Unicode.t ................ ok
t/Unicode_trailing_nul.t ... ok
t/use-Encode-Alias.t ....... ok
t/utf32warnings.t .......... ok
t/utf8ref.t ................ ok
t/utf8strict.t ............. ok
t/utf8warnings.t ........... ok
t/whatwg-aliases.t ......... skipped: For maintainers only
t/xml.t .................... ok
All tests successful.
Test Summary Report
-------------------
t/truncated_utf8.t (Wstat: 0 Tests: 9 Failed: 0)
TODO passed: 9
Files=45, Tests=7816, 26 wallclock secs ( 0.56 usr + 0.50 sys = 1.06 CPU)
Result: PASS
------------------------------
PREREQUISITES
------------------------------
Prerequisite modules loaded:
requires:
Module Need Have
------------------- ----- --------
Exporter 5.57 5.72
parent 0.221 0.236
Storable 0 2.56
build_requires:
Module Need Have
------------------- ----- --------
ExtUtils::MakeMaker 0 7.24
Test::More 0.92 1.302073
configure_requires:
Module Need Have
------------------- ----- --------
ExtUtils::MakeMaker 0 7.24
------------------------------
ENVIRONMENT AND OTHER CONTEXT
------------------------------
Environment variables:
AUTOMATED_TESTING = 1
COMSPEC = C:\WINDOWS\system32\cmd.exe
NUMBER_OF_PROCESSORS = 1
PATH = C:\WINDOWS\system32;C:\WINDOWS;C:\WINDOWS\System32\Wbem;C:\Git\cmd;C:\Strawberry240\c\bin;C:\Strawberry240\perl\site\bin;C:\Strawberry240\perl\bin
PERL5LIB =
PERL5OPT =
PERL5_CPANPLUS_IS_RUNNING = 236
PERL5_CPAN_IS_RUNNING = 236
PERL5_CPAN_IS_RUNNING_IN_RECURSION = 1684,236
PERL_CR_SMOKER_CURRENT = Encode-3.17
PERL_CR_SMOKER_RUNONCE = 1
PERL_EXTUTILS_AUTOINSTALL = --defaultdeps
PERL_HASH_SEED = 0x11111111
PERL_MM_USE_DEFAULT = 1
PROCESSOR_IDENTIFIER = x86 Family 16 Model 5 Stepping 3, AuthenticAMD
TEMP = C:\DOCUME~1\a\LOCALS~1\Temp
Perl special variables (and OS-specific diagnostics, for MSWin32):
$^X = C:\Strawberry240\perl\bin\perl.exe
$UID/$EUID = 0 / 0
$GID = 0
$EGID = 0
Win32::GetOSName = WinXP/.Net
Win32::GetOSVersion = Service Pack 3, 5, 1, 2600, 2, 3, 0, 256, 1
Win32::FsType = NTFS
Win32::IsAdminUser = 1
Perl module toolchain versions installed:
Module Have
------------------- --------
CPAN 2.14
CPAN::Meta 2.150010
Cwd 3.63
ExtUtils::CBuilder 0.280225
ExtUtils::Command 7.24
ExtUtils::Install 2.04
ExtUtils::MakeMaker 7.24
ExtUtils::Manifest 1.70
ExtUtils::ParseXS 3.31
File::Spec 3.63
JSON 2.90
JSON::PP 2.27400
Module::Build 0.4220
Module::Signature 0.81
Parse::CPAN::Meta 2.150010
Test::Harness 3.36
Test::More 1.302073
YAML 1.21
YAML::Syck 1.29
version 0.9917
--
Summary of my perl5 (revision 5 version 24 subversion 0) configuration:
Platform:
osname=MSWin32, osvers=4.0, archname=MSWin32-x86-multi-thread
uname='Win32 strawberry-perl 5.24.0.1-beta1 #1 Thu Dec 29 16:46:05 2016 i386'
config_args='undef'
hint=recommended, useposix=true, d_sigaction=undef
useithreads=define, usemultiplicity=define
use64bitint=undef, use64bitall=undef, uselongdouble=undef
usemymalloc=n, bincompat5005=undef
Compiler:
cc='gcc', ccflags =' -s -O2 -DWIN32 -DPERL_TEXTMODE_SCRIPTS -DPERL_IMPLICIT_CONTEXT -DPERL_IMPLICIT_SYS -fwrapv -fno-strict-aliasing -mms-bitfields',
optimize='-s -O2',
cppflags='-DWIN32'
ccversion='', gccversion='4.9.2', gccosandvers=''
intsize=4, longsize=4, ptrsize=4, doublesize=8, byteorder=1234, doublekind=3
d_longlong=define, longlongsize=8, d_longdbl=define, longdblsize=12, longdblkind=3
ivtype='long', ivsize=4, nvtype='double', nvsize=8, Off_t='long long', lseeksize=8
alignbytes=8, prototype=define
Linker and Libraries:
ld='g++', ldflags ='-s -L"C:\STRAWB~1\perl\lib\CORE" -L"C:\STRAWB~1\c\lib"'
libpth=C:\STRAWB~1\c\lib C:\STRAWB~1\c\i686-w64-mingw32\lib C:\STRAWB~1\c\lib\gcc\i686-w64-mingw32\4.9.2
libs=-lmoldname -lkernel32 -luser32 -lgdi32 -lwinspool -lcomdlg32 -ladvapi32 -lshell32 -lole32 -loleaut32 -lnetapi32 -luuid -lws2_32 -lmpr -lwinmm -lversion -lodbc32 -lodbccp32 -lcomctl32
perllibs=-lmoldname -lkernel32 -luser32 -lgdi32 -lwinspool -lcomdlg32 -ladvapi32 -lshell32 -lole32 -loleaut32 -lnetapi32 -luuid -lws2_32 -lmpr -lwinmm -lversion -lodbc32 -lodbccp32 -lcomctl32
libc=, so=dll, useshrplib=true, libperl=libperl524.a
gnulibc_version=''
Dynamic Linking:
dlsrc=dl_win32.xs, dlext=xs.dll, d_dlsymun=undef, ccdlflags=' '
cccdlflags=' ', lddlflags='-mdll -s -L"C:\STRAWB~1\perl\lib\CORE" -L"C:\STRAWB~1\c\lib"'
Characteristics of this binary (from libperl):
Compile-time options: HAS_TIMES HAVE_INTERP_INTERN MULTIPLICITY
PERLIO_LAYERS PERL_COPY_ON_WRITE
PERL_DONT_CREATE_GVSV
PERL_HASH_FUNC_ONE_AT_A_TIME_HARD
PERL_IMPLICIT_CONTEXT PERL_IMPLICIT_SYS
PERL_MALLOC_WRAP PERL_PRESERVE_IVUV USE_ITHREADS
USE_LARGE_FILES USE_LOCALE USE_LOCALE_COLLATE
USE_LOCALE_CTYPE USE_LOCALE_NUMERIC USE_LOCALE_TIME
USE_PERLIO USE_PERL_ATOF
Built under MSWin32
Compiled at Dec 29 2016 16:55:33
%ENV:
PERL5_CPANPLUS_IS_RUNNING="236"
PERL5_CPAN_IS_RUNNING="236"
PERL5_CPAN_IS_RUNNING_IN_RECURSION="1684,236"
PERL_CR_SMOKER_CURRENT="Encode-3.17"
PERL_CR_SMOKER_RUNONCE="1"
PERL_EXTUTILS_AUTOINSTALL="--defaultdeps"
PERL_HASH_SEED="0x11111111"
PERL_MM_USE_DEFAULT="1"
@INC:
C:/Strawberry240/perl/site/lib
C:/Strawberry240/perl/vendor/lib
C:/Strawberry240/perl/lib
.