Statocles v0.090 Perl 5 v5.20.1 MSWin32-x86-multi-thread-64int

Status
Pass
From
Alexandr Ciornii (CHORNY)
Dist
Statocles v0.090
Platform
Perl 5 v5.20.1 MSWin32-x86-multi-thread-64int
Date
2018-03-26 20:42:06
ID
55c39fa7-6c0c-1014-8c13-21c416eb0af7
This distribution has been tested as part of the CPAN Testers
project, supporting the Perl programming language.  See
http://wiki.cpantesters.org/ for more information or email
questions to cpan-testers-discuss@perl.org


--
Dear Doug Bell,

This is a computer-generated report for Statocles-0.090
on perl 5.20.1, created by CPAN-Reporter-1.2014.

Thank you for uploading your work to CPAN.  Congratulations!
All tests were successful.

Sections of this report:

    * Tester comments
    * Program output
    * Prerequisites
    * Environment and other context

------------------------------
TESTER COMMENTS
------------------------------

Additional comments from tester:

this report is from an automated smoke testing program
and was not reviewed by a human for accuracy

------------------------------
PROGRAM OUTPUT
------------------------------

Output from 'C:\STRAWB~1\c\bin\dmake.exe test':

Skip blib\lib\auto\share\dist\Statocles\theme\bootstrap\layout\blank.html.ep (unchanged)
Skip blib\lib\auto\share\dist\Statocles\theme\bootstrap\layout\default.html.ep (unchanged)
Skip blib\lib\auto\share\dist\Statocles\create\page\index.markdown (unchanged)
Skip blib\lib\auto\share\dist\Statocles\theme\bootstrap\site\sitemap.xml.ep (unchanged)
Skip blib\lib\auto\share\dist\Statocles\theme\default\site\style.html (unchanged)
Skip blib\lib\auto\share\dist\Statocles\theme\default\site\robots.txt.ep (unchanged)
Skip blib\lib\auto\share\dist\Statocles\theme\default\blog\post.html.ep (unchanged)
Skip blib\lib\auto\share\dist\Statocles\theme\bootstrap\perldoc\pod.html.ep (unchanged)
Skip blib\lib\auto\share\dist\Statocles\theme\bootstrap\site\sidebar_before.html.ep (unchanged)
Skip blib\lib\auto\share\dist\Statocles\theme\bootstrap\blog\index.rss.ep (unchanged)
Skip blib\lib\auto\share\dist\Statocles\theme\default\site\sidebar_before.html.ep (unchanged)
Skip blib\lib\auto\share\dist\Statocles\theme\default\site\head_after.html.ep (unchanged)
Skip blib\lib\auto\share\dist\Statocles\theme\default\plugin\highlight\solarized-dark.css (unchanged)
Skip blib\lib\auto\share\dist\Statocles\theme\default\plugin\highlight\solarized-light.css (unchanged)
Skip blib\lib\auto\share\dist\Statocles\theme\bootstrap\site\footer.html.ep (unchanged)
Skip blib\lib\auto\share\dist\Statocles\theme\default\site\footer.html.ep (unchanged)
Skip blib\lib\auto\share\dist\Statocles\theme\default\css\skeleton.css (unchanged)
Skip blib\lib\auto\share\dist\Statocles\theme\bootstrap\layout\full-width.html.ep (unchanged)
Skip blib\lib\auto\share\dist\Statocles\theme\bootstrap\site\navbar_extra.html.ep (unchanged)
Skip blib\lib\auto\share\dist\Statocles\theme\bootstrap\site\robots.txt.ep (unchanged)
Skip blib\lib\auto\share\dist\Statocles\theme\bootstrap\css\statocles-bootstrap.css (unchanged)
Skip blib\lib\auto\share\dist\Statocles\theme\default\plugin\highlight\default.css (unchanged)
Skip blib\lib\auto\share\dist\Statocles\theme\default\perldoc\source.html.ep (unchanged)
Skip blib\lib\auto\share\dist\Statocles\theme\default\layout\blank.html.ep (unchanged)
Skip blib\lib\auto\share\dist\Statocles\theme\bootstrap\site\style.html (unchanged)
Skip blib\lib\auto\share\dist\Statocles\theme\default\blog\index.atom.ep (unchanged)
Skip blib\lib\auto\share\dist\Statocles\theme\default\css\statocles-default.css (unchanged)
Skip blib\lib\auto\share\dist\Statocles\theme\bootstrap\plugin\highlight\default.css (unchanged)
Skip blib\lib\auto\share\dist\Statocles\theme\default\site\navbar_extra.html.ep (unchanged)
Skip blib\lib\auto\share\dist\Statocles\create\blog\post.markdown (unchanged)
Skip blib\lib\auto\share\dist\Statocles\theme\bootstrap\site\head_after.html.ep (unchanged)
Skip blib\lib\auto\share\dist\Statocles\zsh\_statocles (unchanged)
Skip blib\lib\auto\share\dist\Statocles\theme\default\layout\full-width.html.ep (unchanged)
Skip blib\lib\auto\share\dist\Statocles\theme\default\site\header_after.html.ep (unchanged)
Skip blib\lib\auto\share\dist\Statocles\create\script.yml (unchanged)
Skip blib\lib\auto\share\dist\Statocles\theme\bootstrap\site\header_after.html.ep (unchanged)
Skip blib\lib\auto\share\dist\Statocles\theme\default\blog\index.html.ep (unchanged)
Skip blib\lib\auto\share\dist\Statocles\theme\default\css\normalize.css (unchanged)
Skip blib\lib\auto\share\dist\Statocles\theme\default\perldoc\pod.html.ep (unchanged)
Skip blib\lib\auto\share\dist\Statocles\theme\bootstrap\perldoc\source.html.ep (unchanged)
Skip blib\lib\auto\share\dist\Statocles\theme\bootstrap\blog\index.atom.ep (unchanged)
Skip blib\lib\auto\share\dist\Statocles\create\site.yml (unchanged)
Skip blib\lib\auto\share\dist\Statocles\theme\bootstrap\blog\post.html.ep (unchanged)
Skip blib\lib\auto\share\dist\Statocles\theme\bootstrap\plugin\highlight\solarized-light.css (unchanged)
Skip blib\lib\auto\share\dist\Statocles\theme\default\site\sitemap.xml.ep (unchanged)
Skip blib\lib\auto\share\dist\Statocles\theme\default\layout\default.html.ep (unchanged)
Skip blib\lib\auto\share\dist\Statocles\theme\bootstrap\plugin\highlight\solarized-dark.css (unchanged)
Skip blib\lib\auto\share\dist\Statocles\theme\default\blog\index.rss.ep (unchanged)
Skip blib\lib\auto\share\dist\Statocles\theme\bootstrap\blog\index.html.ep (unchanged)
"C:\Strawberry201\perl\bin\perl.exe" "-MExtUtils::Command::MM" "-MTest::Harness" "-e" "undef *Test::Harness::Switches; test_harness(0, 'blib\lib', 'blib\arch')" t/*.t t/app/*.t t/app/basic/*.t t/app/blog/*.t t/app/perldoc/*.t t/app/role/*.t t/bin/*.t t/command/*.t t/deploy/*.t t/link/*.t t/page/*.t t/plugin/*.t t/site/*.t t/template/*.t t/theme/*.t
t/00-compile.t ................ ok
# 
# Versions for all modules listed in MYMETA.json (including optional ones):
# 
# === Configure Requires ===
# 
#     Module                  Want Have
#     ----------------------- ---- ----
#     ExtUtils::MakeMaker      any 7.04
#     File::ShareDir::Install 0.06 0.09
# 
# === Build Requires ===
# 
#     Module              Want Have
#     ------------------- ---- ----
#     ExtUtils::MakeMaker  any 7.04
# 
# === Test Requires ===
# 
#     Module                  Want     Have
#     ------------------- -------- --------
#     Capture::Tiny            any     0.25
#     Dir::Self                any     0.11
#     ExtUtils::MakeMaker      any     7.04
#     File::Spec               any     3.48
#     IO::Handle               any     1.35
#     IPC::Open3               any     1.16
#     Storable                 any     2.51
#     Test::Deep               any    0.113
#     Test::Differences       0.64     0.64
#     Test::Exception         0.42     0.43
#     Test::Lib                any    0.002
#     Test::More          1.001005 1.001006
# 
# === Test Recommends ===
# 
#     Module         Want     Have
#     ---------- -------- --------
#     CPAN::Meta 2.120900 2.142060
# 
# === Runtime Requires ===
# 
#     Module                 Want     Have
#     ------------------ -------- --------
#     Beam::Emitter         0.007    1.007
#     Beam::Wire            1.018    1.021
#     DateTime::Moonpig       any     1.03
#     Encode                  any     2.62
#     File::Share             any     0.25
#     Git::Repository         any    1.313
#     Import::Base          0.012    1.004
#     JSON::PP                any  2.27203
#     List::UtilsBy          0.09     0.09
#     Mojolicious            6.54     7.71
#     Moo                2.000001 2.003004
#     Path::Tiny            0.084    0.104
#     Pod::Simple            3.31     3.35
#     Pod::Usage::Return      any    0.003
#     Text::Markdown          any 1.000031
#     Text::Unidecode         any     1.23
#     Type::Tiny              any 1.000005
#     Types::Path::Tiny       any    0.005
#     YAML                    any     1.15
#     strict                  any     1.08
#     warnings                any     1.23
# 
# === Runtime Recommends ===
# 
#     Module                           Want     Have
#     ------------------------------- ----- --------
#     HTML::Lint::Pluggable            0.06  missing
#     PPI                               any    1.220
#     Pod::Elemental                    any 0.103004
#     Pod::Weaver                     4.015    4.011
#     Syntax::Highlight::Engine::Kate   any     0.09
# 
t/00-report-prereqs.t ......... ok
                    # Before test: STDIN is interactive
                    # Before test: STDIN is interactive
t/app/basic/command.t ......... ok
t/app/basic/constructor.t ..... ok
t/app/basic/pages.t ........... ok
                    # Before test: STDIN is interactive
                    # Before test: STDIN is interactive
                    # Before test: STDIN is interactive
t/app/blog/command.t .......... ok
t/app/blog/constructor.t ...... ok
    # Current LC_TIME locale: Russian_Russia.1251
    # Could not set locale to ru_RU. Still 
t/app/blog/pages.t ............ ok
t/app/blog/post_date.t ........ ok
t/app/blog/recent_posts.t ..... ok
t/app/blog/slugs.t ............ ok
t/app/events.t ................ ok
t/app/perldoc/constructor.t ... ok
# C:/STRAWB~1/cpan/build/Statocles-0.090-83QTan/t/share
t/app/perldoc/highlight.t ..... ok
t/app/perldoc/pages.t ......... ok
t/app/role/store.t ............ ok
t/app/template.t .............. ok
t/app/url.t ................... ok
t/bin/statocles.t ............. ok
t/command/apps.t .............. ok
        # Git version: 1.009005
cannot remove directory for C:\DOCUME~1\c\LOCALS~1\Temp\n2wCYNAwwn: Permission denied at C:/Strawberry201/perl/lib/File/Temp.pm line 1616.
t/command/build_and_deploy.t .. ok
t/command/bundle.t ............ ok
    # Git version: 1.009005
t/command/create.t ............ ok
t/command/daemon.t ............ ok
t/command/error.t ............. ok
t/command/help_and_version.t .. ok
t/command/mojo_app.t .......... ok
t/deploy/file.t ............... ok
# Git version: 1.009005
[Mon Mar 26 23:36:13 2018] [warn] No files changed
[Mon Mar 26 23:36:23 2018] [warn] No files changed
[Mon Mar 26 23:38:45 2018] [warn] Git remote "origin" does not exist. Not pushing.
cannot remove directory for C:\DOCUME~1\c\LOCALS~1\Temp\7kQpyiw5_0\workdir: Permission denied at C:/Strawberry201/perl/lib/File/Temp.pm line 1616.
cannot remove directory for C:\DOCUME~1\c\LOCALS~1\Temp\7kQpyiw5_0: Directory not empty at C:/Strawberry201/perl/lib/File/Temp.pm line 1616.
[Mon Mar 26 23:39:05 2018] [warn] Git remote "nondefault" does not exist. Not pushing.
cannot remove directory for C:\DOCUME~1\c\LOCALS~1\Temp\sKqbo44gF2: Permission denied at C:/Strawberry201/perl/lib/File/Temp.pm line 1616.
t/deploy/git.t ................ ok
t/deprecated.t ................ ok
t/document.t .................. ok
t/image.t ..................... ok
t/link.t ...................... ok
t/link/tree.t ................. ok
t/page/basename.t ............. ok
t/page/content_sections.t ..... ok
Invalid data attribute in document "/required.markdown". Data attributes that are not hashes are deprecated and will be removed in v2.0. Please use a hash instead. See Statocles::Help::Upgrading
Invalid data attribute in document "/links/alternate_single.markdown". Data attributes that are not hashes are deprecated and will be removed in v2.0. Please use a hash instead. See Statocles::Help::Upgrading
t/page/document.t ............. ok
t/page/file.t ................. ok
t/page/images.t ............... ok
t/page/links.t ................ ok
t/page/list.t ................. ok
t/page/list_item.t ............ ok
[Mon Mar 26 23:40:21 2018] [debug] Render page: /path/to/page.html
t/page/plain.t ................ ok
t/page/type.t ................. ok
t/person.t .................... ok
t/plugin/highlight.t .......... ok
t/plugin/html_lint.t .......... skipped: HTML::Lint::Pluggable v0.06 or higher needed
t/plugin/link_check.t ......... ok
t/plugin/mermaid.t ............ ok
t/site/build_and_deploy.t ..... ok
t/site/constructor.t .......... ok
t/site/data.t ................. ok
t/site/events.t ............... ok
t/site/index.t ................ ok
t/site/nav.t .................. ok
t/site/plugin.t ............... ok
t/site/sitemap_and_robots.t ... ok
t/site/template.t ............. ok
t/site/url.t .................. ok
t/site/warnings.t ............. ok
[Mon Mar 26 23:41:28 2018] [warn] Store path "C:/STRAWB~1/cpan/build/Statocles-0.090-83QTan/t/share/DOES_NOT_EXIST" does not exist
t/store.t ..................... ok
t/template/basic.t ............ ok
t/template/content.t .......... ok
t/template/include.t .......... ok
t/template/markdown.t ......... ok
t/theme/check.t ............... ok
t/theme/helper.t .............. ok
t/theme/pages.t ............... ok
t/theme/template.t ............ ok
t/types.t ..................... ok
"HOPEFULLY_DOES_NOT_EXIST" ­¥ ï¥âáï ¢­ãâ७­¥© ¨«¨ ¢­¥è­¥©
ª®¬ ­¤®©, ¨á¯®«­ï¥¬®© ¯à®£à ¬¬®© ¨«¨ ¯ ª¥â­ë¬ ä ©«®¬.
t/util.t ...................... ok
All tests successful.
Files=71, Tests=323, 616 wallclock secs ( 0.77 usr +  0.31 sys =  1.08 CPU)
Result: PASS

------------------------------
PREREQUISITES
------------------------------

Prerequisite modules loaded:

requires:

    Module                  Need     Have    
    ----------------------- -------- --------
    Beam::Emitter           0.007    1.007   
    Beam::Wire              1.018    1.021   
    DateTime::Moonpig       0        1.03    
    Encode                  0        2.62    
    File::Share             0        0.25    
    Git::Repository         0        1.313   
    Import::Base            0.012    1.004   
    JSON::PP                0        2.27203 
    List::UtilsBy           0.09     0.09    
    Mojolicious             6.54     7.71    
    Moo                     2.000001 2.003004
    Path::Tiny              0.084    0.104   
    perl                    5.010    5.020001
    Pod::Simple             3.31     3.35    
    Pod::Usage::Return      0        0.003   
    strict                  0        1.08    
    Text::Markdown          0        1.000031
    Text::Unidecode         0        1.23    
    Type::Tiny              0        1.000005
    Types::Path::Tiny       0        0.005   
    warnings                0        1.23    
    YAML                    0        1.15    

build_requires:

    Module                  Need     Have    
    ----------------------- -------- --------
    Capture::Tiny           0        0.25    
    Dir::Self               0        0.11    
    ExtUtils::MakeMaker     0        7.04    
    File::Spec              0        3.48    
    IO::Handle              0        1.35    
    IPC::Open3              0        1.16    
    Storable                0        2.51    
    Test::Deep              0        0.113   
    Test::Differences       0.64     0.64    
    Test::Exception         0.42     0.43    
    Test::Lib               0        0.002   
    Test::More              1.001005 1.001006

configure_requires:

    Module                  Need     Have    
    ----------------------- -------- --------
    ExtUtils::MakeMaker     0        7.04    
    File::ShareDir::Install 0.06     0.09    


------------------------------
ENVIRONMENT AND OTHER CONTEXT
------------------------------

Environment variables:

    AUTOMATED_TESTING = 1
    COMSPEC = C:\WINDOWS\system32\cmd.exe
    NUMBER_OF_PROCESSORS = 1
    PATH = C:\WINDOWS\system32;C:\WINDOWS;C:\WINDOWS\System32\Wbem;C:\Strawberry201\c\bin;C:\Strawberry201\perl\site\bin;C:\Strawberry201\perl\bin;C:\Git\cmd
    PERL5LIB = C:\STRAWB~1\cpan\build\Import-Base-1.004-D0_qS9/blib/arch;C:\STRAWB~1\cpan\build\Import-Base-1.004-D0_qS9/blib/lib;C:\STRAWB~1\cpan\build\Import-Into-1.002005-oRVObI/blib/arch;C:\STRAWB~1\cpan\build\Import-Into-1.002005-oRVObI/blib/lib;C:\STRAWB~1\cpan\build\Test-Exception-0.43-9zkMGI/blib/arch;C:\STRAWB~1\cpan\build\Test-Exception-0.43-9zkMGI/blib/lib;C:\STRAWB~1\cpan\build\Types-Path-Tiny-0.005-8WcYLR/blib/arch;C:\STRAWB~1\cpan\build\Types-Path-Tiny-0.005-8WcYLR/blib/lib;C:\STRAWB~1\cpan\build\Pod-Usage-Return-0.003-9vYHVU/blib/arch;C:\STRAWB~1\cpan\build\Pod-Usage-Return-0.003-9vYHVU/blib/lib;C:\STRAWB~1\cpan\build\Path-Tiny-0.104-EKgJra/blib/arch;C:\STRAWB~1\cpan\build\Path-Tiny-0.104-EKgJra/blib/lib;C:\STRAWB~1\cpan\build\Pod-Simple-3.35-5CTpND/blib/arch;C:\STRAWB~1\cpan\build\Pod-Simple-3.35-5CTpND/blib/lib;C:\STRAWB~1\cpan\build\Beam-Wire-1.021-JqG1a7/blib/arch;C:\STRAWB~1\cpan\build\Beam-Wire-1.021-JqG1a7/blib/lib;C:\STRAWB~1\cpan\build\Test-Differences-0.64-s9a_cE/blib/arch;C:\STRAWB~1\cpan\build\Test-Differences-0.64-s9a_cE/blib/lib;C:\STRAWB~1\cpan\build\Beam-Service-0.001-uWDcli/blib/arch;C:\STRAWB~1\cpan\build\Beam-Service-0.001-uWDcli/blib/lib;C:\STRAWB~1\cpan\build\Moo-2.003004-sflTaj/blib/arch;C:\STRAWB~1\cpan\build\Moo-2.003004-sflTaj/blib/lib;C:\STRAWB~1\cpan\build\Role-Tiny-2.000006-fXplUL/blib/arch;C:\STRAWB~1\cpan\build\Role-Tiny-2.000006-fXplUL/blib/lib;C:\STRAWB~1\cpan\build\Sub-Quote-2.005000-YyyB7z/blib/arch;C:\STRAWB~1\cpan\build\Sub-Quote-2.005000-YyyB7z/blib/lib;C:\STRAWB~1\cpan\build\File-Share-0.25-zdunJu/blib/arch;C:\STRAWB~1\cpan\build\File-Share-0.25-zdunJu/blib/lib;C:\STRAWB~1\cpan\build\DateTime-Moonpig-1.03-p1c9py/blib/arch;C:\STRAWB~1\cpan\build\DateTime-Moonpig-1.03-p1c9py/blib/lib;C:\STRAWB~1\cpan\build\Beam-Emitter-1.007-5JfhtR/blib/arch;C:\STRAWB~1\cpan\build\Beam-Emitter-1.007-5JfhtR/blib/lib;C:\STRAWB~1\cpan\build\Test-Lib-0.002-V0PGnE/blib/arch;C:\STRAWB~1\cpan\build\Test-Lib-0.002-V0PGnE/blib/lib;C:\STRAWB~1\cpan\build\Mojolicious-7.71-gID38Z/blib/arch;C:\STRAWB~1\cpan\build\Mojolicious-7.71-gID38Z/blib/lib
    PERL5OPT = 
    PERL5_CPANPLUS_IS_RUNNING = 852
    PERL5_CPAN_IS_RUNNING = 852
    PERL5_CPAN_IS_RUNNING_IN_RECURSION = 604,852
    PERL_CR_SMOKER_CURRENT = Statocles-0.090
    PERL_CR_SMOKER_RUNONCE = 1
    PERL_EXTUTILS_AUTOINSTALL = --defaultdeps
    PERL_MM_USE_DEFAULT = 1
    PROCESSOR_IDENTIFIER = x86 Family 18 Model 1 Stepping 0, AuthenticAMD
    TEMP = C:\DOCUME~1\c\LOCALS~1\Temp

Perl special variables (and OS-specific diagnostics, for MSWin32):

    $^X = C:\Strawberry201\perl\bin\perl.exe
    $UID/$EUID = 0 / 0
    $GID = 0
    $EGID = 0
    Win32::GetOSName = WinXP/.Net
    Win32::GetOSVersion = Service Pack 3, 5, 1, 2600, 2, 3, 0, 256, 1
    Win32::FsType = NTFS
    Win32::IsAdminUser = 1

Perl module toolchain versions installed:

    Module              Have    
    ------------------- --------
    CPAN                2.05    
    CPAN::Meta          2.142060
    Cwd                 3.48    
    ExtUtils::CBuilder  0.280219
    ExtUtils::Command   1.18    
    ExtUtils::Install   1.68    
    ExtUtils::MakeMaker 7.04    
    ExtUtils::Manifest  1.66    
    ExtUtils::ParseXS   3.24    
    File::Spec          3.48    
    JSON                2.90    
    JSON::PP            2.27203 
    Module::Build       0.4211  
    Module::Signature   0.78    
    Parse::CPAN::Meta   1.4414  
    Test::Harness       3.33    
    Test::More          1.001006
    YAML                1.15    
    YAML::Syck          1.29    
    version             0.9909  


--

Summary of my perl5 (revision 5 version 20 subversion 1) configuration:
   
  Platform:
    osname=MSWin32, osvers=6.3, archname=MSWin32-x86-multi-thread-64int
    uname='Win32 strawberry-perl 5.20.1.1 #1 Mon Sep 15 18:25:23 2014 i386'
    config_args='undef'
    hint=recommended, useposix=true, d_sigaction=undef
    useithreads=define, usemultiplicity=define
    use64bitint=define, use64bitall=undef, uselongdouble=undef
    usemymalloc=n, bincompat5005=undef
  Compiler:
    cc='gcc', ccflags =' -s -O2 -DWIN32  -DPERL_TEXTMODE_SCRIPTS -DPERL_IMPLICIT_CONTEXT -DPERL_IMPLICIT_SYS -DUSE_PERLIO -fwrapv -fno-strict-aliasing -mms-bitfields',
    optimize='-s -O2',
    cppflags='-DWIN32'
    ccversion='', gccversion='4.8.3', gccosandvers=''
    intsize=4, longsize=4, ptrsize=4, doublesize=8, byteorder=12345678
    d_longlong=define, longlongsize=8, d_longdbl=define, longdblsize=12
    ivtype='long long', ivsize=8, nvtype='double', nvsize=8, Off_t='long long', lseeksize=8
    alignbytes=8, prototype=define
  Linker and Libraries:
    ld='g++', ldflags ='-s -L"C:\STRAWB~1\perl\lib\CORE" -L"C:\STRAWB~1\c\lib"'
    libpth=C:\STRAWB~1\c\lib C:\STRAWB~1\c\i686-w64-mingw32\lib C:\STRAWB~1\c\lib\gcc\i686-w64-mingw32\4.8.3
    libs=-lmoldname -lkernel32 -luser32 -lgdi32 -lwinspool -lcomdlg32 -ladvapi32 -lshell32 -lole32 -loleaut32 -lnetapi32 -luuid -lws2_32 -lmpr -lwinmm -lversion -lodbc32 -lodbccp32 -lcomctl32
    perllibs=-lmoldname -lkernel32 -luser32 -lgdi32 -lwinspool -lcomdlg32 -ladvapi32 -lshell32 -lole32 -loleaut32 -lnetapi32 -luuid -lws2_32 -lmpr -lwinmm -lversion -lodbc32 -lodbccp32 -lcomctl32
    libc=, so=dll, useshrplib=true, libperl=libperl520.a
    gnulibc_version=''
  Dynamic Linking:
    dlsrc=dl_win32.xs, dlext=xs.dll, d_dlsymun=undef, ccdlflags=' '
    cccdlflags=' ', lddlflags='-mdll -s -L"C:\STRAWB~1\perl\lib\CORE" -L"C:\STRAWB~1\c\lib"'


Characteristics of this binary (from libperl): 
  Compile-time options: HAS_TIMES HAVE_INTERP_INTERN MULTIPLICITY
                        PERLIO_LAYERS PERL_DONT_CREATE_GVSV
                        PERL_HASH_FUNC_ONE_AT_A_TIME_HARD
                        PERL_IMPLICIT_CONTEXT PERL_IMPLICIT_SYS
                        PERL_MALLOC_WRAP PERL_NEW_COPY_ON_WRITE
                        PERL_PRESERVE_IVUV USE_64_BIT_INT USE_ITHREADS
                        USE_LARGE_FILES USE_LOCALE USE_LOCALE_COLLATE
                        USE_LOCALE_CTYPE USE_LOCALE_NUMERIC USE_PERLIO
                        USE_PERL_ATOF
  Built under MSWin32
  Compiled at Sep 15 2014 18:29:20
  %ENV:
    PERL5LIB="C:\STRAWB~1\cpan\build\Import-Base-1.004-D0_qS9/blib/arch;C:\STRAWB~1\cpan\build\Import-Base-1.004-D0_qS9/blib/lib;C:\STRAWB~1\cpan\build\Import-Into-1.002005-oRVObI/blib/arch;C:\STRAWB~1\cpan\build\Import-Into-1.002005-oRVObI/blib/lib;C:\STRAWB~1\cpan\build\Test-Exception-0.43-9zkMGI/blib/arch;C:\STRAWB~1\cpan\build\Test-Exception-0.43-9zkMGI/blib/lib;C:\STRAWB~1\cpan\build\Types-Path-Tiny-0.005-8WcYLR/blib/arch;C:\STRAWB~1\cpan\build\Types-Path-Tiny-0.005-8WcYLR/blib/lib;C:\STRAWB~1\cpan\build\Pod-Usage-Return-0.003-9vYHVU/blib/arch;C:\STRAWB~1\cpan\build\Pod-Usage-Return-0.003-9vYHVU/blib/lib;C:\STRAWB~1\cpan\build\Path-Tiny-0.104-EKgJra/blib/arch;C:\STRAWB~1\cpan\build\Path-Tiny-0.104-EKgJra/blib/lib;C:\STRAWB~1\cpan\build\Pod-Simple-3.35-5CTpND/blib/arch;C:\STRAWB~1\cpan\build\Pod-Simple-3.35-5CTpND/blib/lib;C:\STRAWB~1\cpan\build\Beam-Wire-1.021-JqG1a7/blib/arch;C:\STRAWB~1\cpan\build\Beam-Wire-1.021-JqG1a7/blib/lib;C:\STRAWB~1\cpan\build\Test-Differences-0.64-s9a_cE/blib/arch;C:\STRAWB~1\cpan\build\Test-Differences-0.64-s9a_cE/blib/lib;C:\STRAWB~1\cpan\build\Beam-Service-0.001-uWDcli/blib/arch;C:\STRAWB~1\cpan\build\Beam-Service-0.001-uWDcli/blib/lib;C:\STRAWB~1\cpan\build\Moo-2.003004-sflTaj/blib/arch;C:\STRAWB~1\cpan\build\Moo-2.003004-sflTaj/blib/lib;C:\STRAWB~1\cpan\build\Role-Tiny-2.000006-fXplUL/blib/arch;C:\STRAWB~1\cpan\build\Role-Tiny-2.000006-fXplUL/blib/lib;C:\STRAWB~1\cpan\build\Sub-Quote-2.005000-YyyB7z/blib/arch;C:\STRAWB~1\cpan\build\Sub-Quote-2.005000-YyyB7z/blib/lib;C:\STRAWB~1\cpan\build\File-Share-0.25-zdunJu/blib/arch;C:\STRAWB~1\cpan\build\File-Share-0.25-zdunJu/blib/lib;C:\STRAWB~1\cpan\build\DateTime-Moonpig-1.03-p1c9py/blib/arch;C:\STRAWB~1\cpan\build\DateTime-Moonpig-1.03-p1c9py/blib/lib;C:\STRAWB~1\cpan\build\Beam-Emitter-1.007-5JfhtR/blib/arch;C:\STRAWB~1\cpan\build\Beam-Emitter-1.007-5JfhtR/blib/lib;C:\STRAWB~1\cpan\build\Test-Lib-0.002-V0PGnE/blib/arch;C:\STRAWB~1\cpan\build\Test-Lib-0.002-V0PGnE/blib/lib;C:\STRAWB~1\cpan\build\Mojolicious-7.71-gID38Z/blib/arch;C:\STRAWB~1\cpan\build\Mojolicious-7.71-gID38Z/blib/lib"
    PERL5_CPANPLUS_IS_RUNNING="852"
    PERL5_CPAN_IS_RUNNING="852"
    PERL5_CPAN_IS_RUNNING_IN_RECURSION="604,852"
    PERL_CR_SMOKER_CURRENT="Statocles-0.090"
    PERL_CR_SMOKER_RUNONCE="1"
    PERL_EXTUTILS_AUTOINSTALL="--defaultdeps"
    PERL_MM_USE_DEFAULT="1"
  @INC:
    C:\STRAWB~1\cpan\build\Import-Base-1.004-D0_qS9/blib/arch
    C:\STRAWB~1\cpan\build\Import-Base-1.004-D0_qS9/blib/lib
    C:\STRAWB~1\cpan\build\Import-Into-1.002005-oRVObI/blib/arch
    C:\STRAWB~1\cpan\build\Import-Into-1.002005-oRVObI/blib/lib
    C:\STRAWB~1\cpan\build\Test-Exception-0.43-9zkMGI/blib/arch
    C:\STRAWB~1\cpan\build\Test-Exception-0.43-9zkMGI/blib/lib
    C:\STRAWB~1\cpan\build\Types-Path-Tiny-0.005-8WcYLR/blib/arch
    C:\STRAWB~1\cpan\build\Types-Path-Tiny-0.005-8WcYLR/blib/lib
    C:\STRAWB~1\cpan\build\Pod-Usage-Return-0.003-9vYHVU/blib/arch
    C:\STRAWB~1\cpan\build\Pod-Usage-Return-0.003-9vYHVU/blib/lib
    C:\STRAWB~1\cpan\build\Path-Tiny-0.104-EKgJra/blib/arch
    C:\STRAWB~1\cpan\build\Path-Tiny-0.104-EKgJra/blib/lib
    C:\STRAWB~1\cpan\build\Pod-Simple-3.35-5CTpND/blib/arch
    C:\STRAWB~1\cpan\build\Pod-Simple-3.35-5CTpND/blib/lib
    C:\STRAWB~1\cpan\build\Beam-Wire-1.021-JqG1a7/blib/arch
    C:\STRAWB~1\cpan\build\Beam-Wire-1.021-JqG1a7/blib/lib
    C:\STRAWB~1\cpan\build\Test-Differences-0.64-s9a_cE/blib/arch
    C:\STRAWB~1\cpan\build\Test-Differences-0.64-s9a_cE/blib/lib
    C:\STRAWB~1\cpan\build\Beam-Service-0.001-uWDcli/blib/arch
    C:\STRAWB~1\cpan\build\Beam-Service-0.001-uWDcli/blib/lib
    C:\STRAWB~1\cpan\build\Moo-2.003004-sflTaj/blib/arch
    C:\STRAWB~1\cpan\build\Moo-2.003004-sflTaj/blib/lib
    C:\STRAWB~1\cpan\build\Role-Tiny-2.000006-fXplUL/blib/arch
    C:\STRAWB~1\cpan\build\Role-Tiny-2.000006-fXplUL/blib/lib
    C:\STRAWB~1\cpan\build\Sub-Quote-2.005000-YyyB7z/blib/arch
    C:\STRAWB~1\cpan\build\Sub-Quote-2.005000-YyyB7z/blib/lib
    C:\STRAWB~1\cpan\build\File-Share-0.25-zdunJu/blib/arch
    C:\STRAWB~1\cpan\build\File-Share-0.25-zdunJu/blib/lib
    C:\STRAWB~1\cpan\build\DateTime-Moonpig-1.03-p1c9py/blib/arch
    C:\STRAWB~1\cpan\build\DateTime-Moonpig-1.03-p1c9py/blib/lib
    C:\STRAWB~1\cpan\build\Beam-Emitter-1.007-5JfhtR/blib/arch
    C:\STRAWB~1\cpan\build\Beam-Emitter-1.007-5JfhtR/blib/lib
    C:\STRAWB~1\cpan\build\Test-Lib-0.002-V0PGnE/blib/arch
    C:\STRAWB~1\cpan\build\Test-Lib-0.002-V0PGnE/blib/lib
    C:\STRAWB~1\cpan\build\Mojolicious-7.71-gID38Z/blib/arch
    C:\STRAWB~1\cpan\build\Mojolicious-7.71-gID38Z/blib/lib
    C:/Strawberry201/perl/site/lib
    C:/Strawberry201/perl/vendor/lib
    C:/Strawberry201/perl/lib
    .