Moo v2.005005 Perl 5 v5.37.11 MSWin32-x64-multi-thread
- Status
- Pass
- From
- twata
- Dist
-
Moo v2.005005
- Platform
- Perl 5 v5.37.11 MSWin32-x64-multi-thread
- Date
- 2023-04-22 13:45:07
- ID
- 552f41ce-6c01-1014-8029-05efefaa1848
This distribution has been tested as part of the CPAN Testers
project, supporting the Perl programming language. See
http://wiki.cpantesters.org/ for more information or email
questions to cpan-testers-discuss@perl.org
--
Dear Graham Knop,
This is a computer-generated report for Moo-2.005005
on perl 5.37.11, created by CPAN-Reporter-1.2018.
Thank you for uploading your work to CPAN. Congratulations!
All tests were successful.
Sections of this report:
* Tester comments
* Program output
* Prerequisites
* Environment and other context
------------------------------
TESTER COMMENTS
------------------------------
Additional comments from tester:
none provided
------------------------------
PROGRAM OUTPUT
------------------------------
Output from '"C:\Program Files\Microsoft Visual Studio\2022\Community\VC\Tools\MSVC\14.33.31629\bin\Hostx64\x64\nmake.exe" test':
Microsoft (R) Program Maintenance Utility Version 14.33.31630.0
Copyright (C) Microsoft Corporation. All rights reserved.
"C:\perl64\5.37.11\bin\perl.exe" -It\lib "-MTestEnv=" "-MExtUtils::Command::MM" "-MTest::Harness" "-e" "undef *Test::Harness::Switches; test_harness(0, 'blib\lib', 'blib\arch')" t\*.t
t\accessor-coerce.t ................ ok
t\accessor-default.t ............... ok
t\accessor-generator-extension.t ... ok
t\accessor-handles.t ............... ok
t\accessor-isa.t ................... ok
t\accessor-mixed.t ................. ok
t\accessor-pred-clear.t ............ ok
t\accessor-reader-writer.t ......... ok
t\accessor-roles.t ................. ok
t\accessor-shortcuts.t ............. ok
t\accessor-trigger.t ............... ok
t\accessor-weaken-pre-5_8_3.t ...... ok
t\accessor-weaken.t ................ ok
t\buildall-subconstructor.t ........ ok
t\buildall.t ....................... ok
t\buildargs-error.t ................ ok
t\buildargs.t ...................... ok
t\coerce-1.t ....................... ok
t\compose-conflicts.t .............. ok
t\compose-non-role.t ............... ok
t\compose-roles.t .................. ok
t\constructor-modify.t ............. ok
t\croak-locations.t ................ ok
t\demolish-basics.t ................ ok
t\demolish-bugs-eats_exceptions.t .. ok
t\demolish-bugs-eats_mini.t ........ ok
t\demolish-global_destruction.t .... ok
t\demolish-throw.t ................. ok
t\does.t ........................... ok
t\extend-constructor.t ............. ok
t\extends-non-moo.t ................ ok
t\extends-role.t ................... ok
t\foreignbuildargs.t ............... ok
t\global_underscore.t .............. ok
t\has-array.t ...................... ok
t\has-before-extends.t ............. ok
t\has-plus.t ....................... ok
t\init-arg.t ....................... ok
t\isa-interfere.t .................. ok
t\lazy_isa.t ....................... ok
t\load_module.t .................... ok
t\load_module_error.t .............. ok
t\load_module_role_tiny.t .......... ok
t\long-package-name.t .............. ok
t\method-generate-accessor.t ....... ok
t\method-generate-constructor.t .... ok
t\modifiers.t ...................... ok
t\modify_lazy_handlers.t ........... ok
t\moo-accessors.t .................. ok
t\moo-c3.t ......................... ok
t\moo-object.t ..................... ok
t\moo-utils-_name_coderef.t ........ ok
t\moo-utils-_subname-Sub-Name.t .... ok
t\moo-utils-_subname.t ............. ok
t\moo-utils.t ...................... ok
t\moo.t ............................ ok
t\mutual-requires.t ................ ok
t\no-build.t ....................... ok
t\no-moo.t ......................... ok
t\non-moo-extends-c3.t ............. ok
t\non-moo-extends.t ................ ok
t\not-both.t ....................... ok
t\not-methods.t .................... ok
t\overloaded-coderefs.t ............ ok
t\overridden-core-funcs.t .......... ok
t\role-conflicts-moox.t ............ ok
t\sub-and-handles.t ................ ok
t\subconstructor.t ................. ok
t\undef-bug.t ...................... ok
t\use-after-no.t ................... ok
t\zzz-check-breaks.t ............... ok
All tests successful.
Files=71, Tests=841, 20 wallclock secs ( 0.28 usr + 0.14 sys = 0.42 CPU)
Result: PASS
------------------------------
PREREQUISITES
------------------------------
Prerequisite modules loaded:
requires:
Module Need Have
------------------------ -------- --------
Carp 0 1.54
Class::Method::Modifiers 1.10 2.15
Exporter 0 5.77
perl 5.006 5.037011
Role::Tiny 2.002003 2.002004
Scalar::Util 1.00 1.63
Sub::Defer 2.006006 2.006008
Sub::Quote 2.006006 2.006008
build_requires:
Module Need Have
------------------------ -------- --------
Test::More 0.94 1.302194
configure_requires:
Module Need Have
------------------------ -------- --------
ExtUtils::MakeMaker 0 7.70
opt_requires:
Module Need Have
------------------------ -------- --------
! Class::XSAccessor 1.18 n/a
Sub::Util 0 1.63
opt_build_requires:
Module Need Have
------------------------ -------- --------
CPAN::Meta::Requirements 0 2.140
Parse::CPAN::Meta 1.4200 2.150010
------------------------------
ENVIRONMENT AND OTHER CONTEXT
------------------------------
Environment variables:
COMSPEC = C:\WINDOWS\system32\cmd.exe
INCLUDE = C:\Program Files\Microsoft Visual Studio\2022\Community\VC\Tools\MSVC\14.33.31629\include;C:\Program Files\Microsoft Visual Studio\2022\Community\VC\Tools\MSVC\14.33.31629\ATLMFC\include;C:\Program Files\Microsoft Visual Studio\2022\Community\VC\Auxiliary\VS\include;C:\Program Files (x86)\Windows Kits\10\include\10.0.19041.0\ucrt;C:\Program Files (x86)\Windows Kits\10\\include\10.0.19041.0\\um;C:\Program Files (x86)\Windows Kits\10\\include\10.0.19041.0\\shared;C:\Program Files (x86)\Windows Kits\10\\include\10.0.19041.0\\winrt;C:\Program Files (x86)\Windows Kits\10\\include\10.0.19041.0\\cppwinrt
LC_ALL = C
LIB = C:\Program Files\Microsoft Visual Studio\2022\Community\VC\Tools\MSVC\14.33.31629\ATLMFC\lib\x64;C:\Program Files\Microsoft Visual Studio\2022\Community\VC\Tools\MSVC\14.33.31629\lib\x64;C:\Program Files (x86)\Windows Kits\10\lib\10.0.19041.0\ucrt\x64;C:\Program Files (x86)\Windows Kits\10\\lib\10.0.19041.0\\um\x64
NONINTERACTIVE_TESTING = 1
NUMBER_OF_PROCESSORS = 4
PATH = C:\home\mountain53711\perl5\bin;C:\perl64\5.37.11\bin;C:\build-openssl\bin;C:\Program Files\Microsoft Visual Studio\2022\Community\VC\Tools\MSVC\14.33.31629\bin\HostX64\x64;C:\Program Files\Microsoft Visual Studio\2022\Community\Common7\IDE\VC\VCPackages;C:\Program Files\Microsoft Visual Studio\2022\Community\Common7\IDE\CommonExtensions\Microsoft\TestWindow;C:\Program Files\Microsoft Visual Studio\2022\Community\Common7\IDE\CommonExtensions\Microsoft\TeamFoundation\Team Explorer;C:\Program Files\Microsoft Visual Studio\2022\Community\MSBuild\Current\bin\Roslyn;C:\Program Files\Microsoft Visual Studio\2022\Community\Team Tools\Performance Tools\x64;C:\Program Files\Microsoft Visual Studio\2022\Community\Team Tools\Performance Tools;C:\Program Files (x86)\Windows Kits\10\bin\10.0.19041.0\\x64;C:\Program Files (x86)\Windows Kits\10\bin\\x64;C:\Program Files\Microsoft Visual Studio\2022\Community\\MSBuild\Current\Bin\amd64;C:\Windows\Microsoft.NET\Framework64\v4.0.30319;C:\Program Files\Microsoft Visual Studio\2022\Community\Common7\IDE\;C:\Program Files\Microsoft Visual Studio\2022\Community\Common7\Tools\;C:\Program Files (x86)\Windows Resource Kits\Tools\;C:\WINDOWS\system32;C:\WINDOWS;C:\WINDOWS\System32\Wbem;C:\WINDOWS\System32\WindowsPowerShell\v1.0\;C:\Program Files\Microsoft Visual Studio\2022\Community\Common7\IDE\CommonExtensions\Microsoft\CMake\CMake\bin;C:\Program Files\Microsoft Visual Studio\2022\Community\Common7\IDE\CommonExtensions\Microsoft\CMake\Ninja;C:\Program Files\Microsoft Visual Studio\2022\Community\Common7\IDE\VC\Linux\bin\ConnectionManagerExe
PERL5LIB = C:\home\mountain53711\perl5\lib\perl5
PERL5OPT =
PERL5_CPANPLUS_IS_RUNNING = 5576
PERL5_CPAN_IS_RUNNING = 5576
PERL_LOCAL_LIB_ROOT = C:\home\mountain53711\perl5
PERL_MB_OPT = --install_base "C:\\home\\mountain53711\\perl5"
PERL_MM_OPT = INSTALL_BASE=C:\\home\\mountain53711\\perl5
PERL_MM_USE_DEFAULT = 1
PERL_USE_UNSAFE_INC = 1
PROCESSOR_IDENTIFIER = Intel64 Family 6 Model 58 Stepping 9, GenuineIntel
TEMP = C:\Users\USER\AppData\Local\Temp
TERM = dumb
Perl special variables (and OS-specific diagnostics, for MSWin32):
$^X = C:\perl64\5.37.11\bin\perl.exe
$UID/$EUID = 0 / 0
$GID = 0
$EGID = 0
Win32::GetOSName = Win8.1
Win32::GetOSVersion = , 6, 3, 9600, 2, 0, 0, 256, 1
Win32::FsType = NTFS
Win32::IsAdminUser = 0
Perl module toolchain versions installed:
Module Have
------------------- --------
CPAN 2.34
CPAN::Meta 2.150010
Cwd 3.89
ExtUtils::CBuilder 0.280238
ExtUtils::Command 7.70
ExtUtils::Install 2.22
ExtUtils::MakeMaker 7.70
ExtUtils::Manifest 1.73
ExtUtils::ParseXS 3.50
File::Spec 3.88
JSON n/a
JSON::PP 4.16
Module::Build 0.4232
Module::Signature n/a
Parse::CPAN::Meta 2.150010
Test::Harness 3.44
Test::More 1.302194
YAML n/a
YAML::Syck n/a
version 0.9929
--
Summary of my perl5 (revision 5 version 37 subversion 11) configuration:
Platform:
osname=MSWin32
osvers=6.3.9600
archname=MSWin32-x64-multi-thread
uname=''
config_args='undef'
hint=recommended
useposix=true
d_sigaction=undef
useithreads=define
usemultiplicity=define
use64bitint=define
use64bitall=undef
uselongdouble=undef
usemymalloc=n
default_inc_excludes_dot=define
Compiler:
cc='cl'
ccflags ='-nologo -GF -W3 -MD -DWIN32 -D_CONSOLE -DNO_STRICT -DWIN64 -D_CRT_SECURE_NO_DEPRECATE -D_CRT_NONSTDC_NO_DEPRECATE -D_WINSOCK_DEPRECATED_NO_WARNINGS -DPERL_TEXTMODE_SCRIPTS -DMULTIPLICITY -DPERL_IMPLICIT_SYS'
optimize='-O1 -Zi -GL -fp:precise'
cppflags='-DWIN32'
ccversion='19.33.31630'
gccversion=''
gccosandvers=''
intsize=4
longsize=4
ptrsize=8
doublesize=8
byteorder=12345678
doublekind=3
d_longlong=undef
longlongsize=8
d_longdbl=define
longdblsize=8
longdblkind=0
ivtype='__int64'
ivsize=8
nvtype='double'
nvsize=8
Off_t='__int64'
lseeksize=8
alignbytes=8
prototype=define
Linker and Libraries:
ld='link'
ldflags ='-nologo -nodefaultlib -debug -opt:ref,icf -ltcg -libpath:"c:\perl64\5.37.11\lib\CORE" -machine:AMD64 -subsystem:console,"5.02"'
libpth="C:\Program Files\Microsoft Visual Studio\2022\Community\VC\Tools\MSVC\14.33.31629\\lib\x64"
libs=oldnames.lib kernel32.lib user32.lib gdi32.lib winspool.lib comdlg32.lib advapi32.lib shell32.lib ole32.lib oleaut32.lib netapi32.lib uuid.lib ws2_32.lib mpr.lib winmm.lib version.lib odbc32.lib odbccp32.lib comctl32.lib msvcrt.lib vcruntime.lib ucrt.lib
perllibs=oldnames.lib kernel32.lib user32.lib gdi32.lib winspool.lib comdlg32.lib advapi32.lib shell32.lib ole32.lib oleaut32.lib netapi32.lib uuid.lib ws2_32.lib mpr.lib winmm.lib version.lib odbc32.lib odbccp32.lib comctl32.lib msvcrt.lib vcruntime.lib ucrt.lib
libc=ucrt.lib
so=dll
useshrplib=true
libperl=perl537.lib
gnulibc_version=''
Dynamic Linking:
dlsrc=dl_win32.xs
dlext=dll
d_dlsymun=undef
ccdlflags=' '
cccdlflags=' '
lddlflags='-dll -nologo -nodefaultlib -debug -opt:ref,icf -ltcg -libpath:"c:\perl64\5.37.11\lib\CORE" -machine:AMD64 -subsystem:console,"5.02"'
Characteristics of this binary (from libperl):
Compile-time options:
HAS_LONG_DOUBLE
HAS_TIMES
HAVE_INTERP_INTERN
MULTIPLICITY
PERLIO_LAYERS
PERL_COPY_ON_WRITE
PERL_DONT_CREATE_GVSV
PERL_HASH_FUNC_SIPHASH13
PERL_HASH_USE_SBOX32
PERL_IMPLICIT_SYS
PERL_MALLOC_WRAP
PERL_OP_PARENT
PERL_PRESERVE_IVUV
PERL_USE_SAFE_PUTENV
USE_64_BIT_INT
USE_ITHREADS
USE_LARGE_FILES
USE_LOCALE
USE_LOCALE_COLLATE
USE_LOCALE_CTYPE
USE_LOCALE_NUMERIC
USE_LOCALE_TIME
USE_PERLIO
USE_PERL_ATOF
USE_THREAD_SAFE_LOCALE
Built under MSWin32
Compiled at Apr 22 2023 11:35:36
%ENV:
PERL5LIB="C:\home\mountain53711\perl5\lib\perl5"
PERL5_CPANPLUS_IS_RUNNING="5576"
PERL5_CPAN_IS_RUNNING="5576"
PERL_LOCAL_LIB_ROOT="C:\home\mountain53711\perl5"
PERL_MB_OPT="--install_base "C:\\home\\mountain53711\\perl5""
PERL_MM_OPT="INSTALL_BASE=C:\\home\\mountain53711\\perl5"
PERL_MM_USE_DEFAULT="1"
PERL_USE_UNSAFE_INC="1"
@INC:
C:\home\mountain53711\perl5\lib\perl5/MSWin32-x64-multi-thread
C:\home\mountain53711\perl5\lib\perl5
C:/perl64/site/5.37.11/lib
C:/perl64/5.37.11/lib
.