FFI-Platypus v2.08 Perl 5 v5.37.11 x86_64-linux-multi
- Status
- Pass
- From
- Andreas J. König (ANDK)
- Dist
-
FFI-Platypus v2.08
- Platform
- Perl 5 v5.37.11 x86_64-linux-multi
- Date
- 2023-05-10 04:37:10
- ID
- 54214ab6-eeec-11ed-ae11-f385427f0f82
This distribution has been tested as part of the CPAN Testers
project, supporting the Perl programming language. See
http://wiki.cpantesters.org/ for more information or email
questions to cpan-testers-discuss@perl.org
--
Dear Graham Ollis,
This is a computer-generated report for FFI-Platypus-2.08
on perl 5.37.11, created by CPAN-Reporter-1.2018.
Thank you for uploading your work to CPAN. Congratulations!
All tests were successful.
Sections of this report:
* Tester comments
* Program output
* Prerequisites
* Environment and other context
------------------------------
TESTER COMMENTS
------------------------------
Additional comments from tester:
this report is from an automated smoke testing program
and was not reviewed by a human for accuracy
------------------------------
PROGRAM OUTPUT
------------------------------
Output from '/usr/bin/make test':
"/home/sand/src/perl/repoperls/installed-perls/host/k93msid/v5.37.11/4da5/bin/perl" -MExtUtils::Command::MM -e 'cp_nonempty' -- lib/FFI/Platypus.bs blib/arch/auto/FFI/Platypus/Platypus.bs 644
CC t/ffi/align.c
CC t/ffi/align_array.c
CC t/ffi/align_fixed.c
CC t/ffi/align_string.c
CC t/ffi/basic.c
CC t/ffi/closure.c
CC t/ffi/color.c
CC t/ffi/complex_double.c
CC t/ffi/complex_float.c
CC t/ffi/double.c
CC t/ffi/float.c
CC t/ffi/gh117.c
CC t/ffi/gh174.c
CC t/ffi/longdouble.c
CC t/ffi/memcmp4.c
CC t/ffi/meta.c
CC t/ffi/pointer.c
CC t/ffi/record.c
CC t/ffi/sint16.c
CC t/ffi/sint32.c
CC t/ffi/sint64.c
CC t/ffi/sint8.c
CC t/ffi/string.c
CC t/ffi/string_array.c
CC t/ffi/uint16.c
CC t/ffi/uint32.c
CC t/ffi/uint64.c
CC t/ffi/uint8.c
CC t/ffi/variadic.c
LD t/ffi/libtest.so
PERL_DL_NONLAZY=1 "/home/sand/src/perl/repoperls/installed-perls/host/k93msid/v5.37.11/4da5/bin/perl" "-MExtUtils::Command::MM" "-MTest::Harness" "-e" "undef *Test::Harness::Switches; test_harness(0, 'blib/lib', 'blib/arch')" t/*.t
#
#
#
# HARNESS_ACTIVE=1
# HARNESS_VERSION=3.44
# LANG=en_US.UTF-8
# PERL5LIB=/tmp/loop_over_bdir-1420948-iglKH1/FFI-Platypus-2.08-0/blib/lib:/tmp/loop_over_bdir-1420948-iglKH1/FFI-Platypus-2.08-0/blib/arch:
# PERL5OPT=
# PERL5_CPANPLUS_IS_RUNNING=1376689
# PERL5_CPAN_IS_RUNNING=1376689
# PERL_CANARY_STABILITY_NOPROMPT=1
# PERL_DL_NONLAZY=1
# PERL_MM_USE_DEFAULT=1
# PERL_USE_UNSAFE_INC=1
# SHELL=/usr/bin/zsh
#
#
#
# PERL5LIB path
# /tmp/loop_over_bdir-1420948-iglKH1/FFI-Platypus-2.08-0/blib/lib
# /tmp/loop_over_bdir-1420948-iglKH1/FFI-Platypus-2.08-0/blib/arch
#
#
#
# perl 5.037011 linux x86_64-linux-multi
# Alien::Base -
# Alien::FFI -
# Capture::Tiny 0.48
# Devel::Hide 0.0015
# ExtUtils::CBuilder 0.280238
# ExtUtils::MakeMaker 7.70
# ExtUtils::ParseXS 3.50
# FFI::CheckLib 0.31
# File::Spec::Functions 3.88
# IPC::Cmd 1.04
# JSON::PP 4.16
# List::Util 1.63
# Math::LongDouble -
# PkgConfig -
# Test2::API 1.302194
# Test2::V0 0.000150
# autodie 2.36
# constant 1.33
# forks -
# parent 0.241
#
#
#
# mode : system
# Alien::FFI::pkgconfig->VERSION =
# Alien::FFI::pkgconfig->install_type = system
# Alien::FFI::pkgconfig->cflags =
# Alien::FFI::pkgconfig->libs = -lffi
# Alien::FFI::pkgconfig->version = 3.4.4
#
#
#
# ffi.platypus.memory.strdup_impl =libc
# ffi.platypus.memory.strndup_impl=libc
#
#
#
# Types:
# double : double, float complex
# float : float
# longdouble : double complex, long double, long double complex
# sint16 : int16_t, short, signed short
# sint32 : int, int32_t, senum, signed int, wchar_t
# sint64 : blkcnt_t, blksize_t, int64_t, intmax_t, intptr_t, long, long long, off_t, ptrdiff_t, signed long, signed long long, ssize_t, time_t
# sint8 : char, int8_t, signed char
# uint16 : uint16_t, unsigned short, ushort
# uint32 : enum, gid_t, mode_t, uid_t, uint, uint32_t, unsigned int, wint_t
# uint64 : dev_t, ino_t, nlink_t, size_t, uint64_t, uintmax_t, uintptr_t, ulong, unsigned long, unsigned long long
# uint8 : bool, uchar, uint8_t, unsigned char
#
#
#
# ABIs:
# default_abi 2
# efi64 3
# gnuw64 4
# unix64 2
# win64 3
#
#
#
# Probes:
# recordvalue 1
# abi 1
# strnlen 1
# complex 1
# bigendian 0
# bigendian64 0
# alloca 1
# variadic 1
# longdouble 1
#
#
#
# CPU Info:
# model name : Intel(R) Core(TM) i7-6700T CPU @ 2.80GHz
# flags : fpu vme de pse tsc msr pae mce cx8 apic sep mtrr pge mca cmov pat pse36 clflush mmx fxsr sse sse2 ss syscall nx pdpe1gb rdtscp lm constant_tsc arch_perfmon rep_good nopl xtopology cpuid tsc_known_freq pni pclmulqdq vmx ssse3 fma cx16 pdcm pcid sse4_1 sse4_2 x2apic movbe popcnt tsc_deadline_timer aes xsave avx f16c rdrand hypervisor lahf_lm abm 3dnowprefetch cpuid_fault invpcid_single pti tpr_shadow vnmi flexpriority ept vpid ept_ad fsgsbase tsc_adjust bmi1 hle avx2 smep bmi2 erms invpcid rtm mpx rdseed adx smap clflushopt xsaveopt xsavec xgetbv1 xsaves arat umip arch_capabilities
# address sizes : 39 bits physical, 48 bits virtual
#
#
#
# Distributor ID: Debian
# Description: Debian GNU/Linux 12 (bookworm)
# Release: 12
# Codename: bookworm
#
#
#
# [PLATFORM]
# osname : linux
# cc : cc
# cxx : c++
# cxxld : c++
# for : gfortran
# ld : cc
# ccflags : -fPIC -fwrapv -DDEBUGGING -fno-strict-aliasing -pipe -fstack-protector-strong -I/usr/local/include -D_LARGEFILE_SOURCE -D_FILE_OFFSET_BITS=64 -D_FORTIFY_SOURCE=2 -O2 -g -I/tmp/loop_over_bdir-1420948-iglKH1/FFI-Platypus-2.08-0/blib/lib/auto/share/dist/FFI-Platypus/include
# ldflags : -shared -O2 -g -L/usr/local/lib -fstack-protector-strong
# object suffix : .o
# library prefix : lib
# library suffix : .so
# cc mm works : -MM
#
#
#
t/00_diag.t .............................. ok
t/ffi_build.t ............................ ok
t/ffi_build_file_base.t .................. ok
t/ffi_build_file_c.t ..................... ok
t/ffi_build_file_cxx.t ................... ok
t/ffi_build_file_library.t ............... ok
t/ffi_build_file_object.t ................ ok
t/ffi_build_mm.t ......................... ok
t/ffi_build_platform.t ................... ok
t/ffi_build_plugin.t ..................... ok
t/ffi_build_plugindata.t ................. ok
t/ffi_platypus.t ......................... ok
t/ffi_platypus_api.t ..................... ok
t/ffi_platypus_buffer.t .................. ok
t/ffi_platypus_bundle.t .................. ok
t/ffi_platypus_closure.t ................. ok
t/ffi_platypus_constant.t ................ ok
t/ffi_platypus_dl.t ...................... ok
t/ffi_platypus_function.t ................ ok
t/ffi_platypus_function_wrapper.t ........ ok
t/ffi_platypus_internal.t ................ ok
t/ffi_platypus_lang.t .................... ok
t/ffi_platypus_lang_asm.t ................ ok
t/ffi_platypus_lang_c.t .................. ok
t/ffi_platypus_lang_win32.t .............. ok
t/ffi_platypus_legacy.t .................. ok
t/ffi_platypus_memory.t .................. ok
t/ffi_platypus_record.t .................. ok
t/ffi_platypus_record_meta.t ............. ok
t/ffi_platypus_record_tiearray.t ......... ok
t/ffi_platypus_shareconfig.t ............. ok
t/ffi_platypus_type.t .................... ok
t/ffi_platypus_type_pointersizebuffer.t .. ok
t/ffi_platypus_type_stringarray.t ........ ok
t/ffi_platypus_type_stringpointer.t ...... ok
t/ffi_platypus_type_widestring.t ......... ok
t/ffi_platypus_typeparser.t .............. ok
t/ffi_platypus_typeparser_version0.t ..... ok
t/ffi_platypus_typeparser_version1.t ..... ok
t/ffi_platypus_typeparser_version2.t ..... ok
t/ffi_probe.t ............................ ok
t/ffi_probe_runner.t ..................... ok
t/ffi_probe_runner_builder.t ............. ok
t/ffi_probe_runner_result.t .............. ok
t/ffi_temp.t ............................. ok
t/forks.t ................................ skipped: Test requires forks
t/gh117.t ................................ ok
t/gh129.t ................................ ok
t/gh323.t ................................ ok
t/memory.t ............................... skipped: tested only in CI
t/threads.t .............................. skipped: Test requires a threading Perl
t/type_complex_double.t .................. ok
t/type_complex_float.t ................... ok
t/type_custom.t .......................... ok
t/type_double.t .......................... ok
t/type_float.t ........................... ok
t/type_longdouble.t ...................... ok
t/type_longdouble__array.t ............... ok
t/type_longdouble__hide.t ................ ok
t/type_longdouble__ptr.t ................. ok
t/type_opaque.t .......................... ok
t/type_record.t .......................... ok
t/type_record_value.t .................... ok
t/type_sint16.t .......................... ok
t/type_sint32.t .......................... ok
t/type_sint64.t .......................... ok
t/type_sint8.t ........................... ok
t/type_string.t .......................... ok
t/type_uint16.t .......................... ok
t/type_uint32.t .......................... ok
t/type_uint64.t .......................... ok
t/type_uint8.t ........................... ok
All tests successful.
Files=72, Tests=319, 24 wallclock secs ( 0.34 usr 0.15 sys + 14.68 cusr 3.99 csys = 19.16 CPU)
Result: PASS
------------------------------
PREREQUISITES
------------------------------
Prerequisite modules loaded:
requires:
Module Need Have
--------------------- -------- --------
autodie 0 2.36
Capture::Tiny 0 0.48
constant 1.32 1.33
ExtUtils::MakeMaker 7.12 7.70
FFI::CheckLib 0.05 0.31
File::Spec::Functions 0 3.88
IPC::Cmd 0 1.04
JSON::PP 0 4.16
List::Util 1.45 1.63
parent 0 0.241
perl 5.008004 5.037011
build_requires:
Module Need Have
--------------------- -------- --------
Capture::Tiny 0 0.48
ExtUtils::CBuilder 0 0.280238
Test2::API 1.302015 1.302194
Test2::V0 0.000121 0.000150
configure_requires:
Module Need Have
--------------------- -------- --------
Capture::Tiny 0 0.48
ExtUtils::MakeMaker 7.12 7.70
ExtUtils::ParseXS 3.30 3.50
IPC::Cmd 0 1.04
JSON::PP 0 4.16
parent 0 0.241
perl 5.006 5.037011
------------------------------
ENVIRONMENT AND OTHER CONTEXT
------------------------------
Environment variables:
AUTOMATED_TESTING = 1
LANG = en_US.UTF-8
LANGUAGE = en_US:en
PATH = /home/sand/bin:/usr/local/bin:/usr/bin:/bin:/usr/games:/usr/local/perl/bin:/usr/X11/bin:/sbin:/usr/sbin
PERL5LIB =
PERL5OPT =
PERL5_CPANPLUS_IS_RUNNING = 1376689
PERL5_CPAN_IS_RUNNING = 1376689
PERL_CANARY_STABILITY_NOPROMPT = 1
PERL_MM_USE_DEFAULT = 1
PERL_USE_UNSAFE_INC = 1
SHELL = /usr/bin/zsh
TERM = screen
Perl special variables (and OS-specific diagnostics, for MSWin32):
$^X = /home/sand/src/perl/repoperls/installed-perls/host/k93msid/v5.37.11/4da5/bin/perl
$UID/$EUID = 1005 / 1005
$GID = 1005 1005
$EGID = 1005 1005
Perl module toolchain versions installed:
Module Have
------------------- --------
CPAN 2.34
CPAN::Meta 2.150010
Cwd 3.89
ExtUtils::CBuilder 0.280238
ExtUtils::Command 7.70
ExtUtils::Install 2.22
ExtUtils::MakeMaker 7.70
ExtUtils::Manifest 1.73
ExtUtils::ParseXS 3.50
File::Spec 3.88
JSON 4.10
JSON::PP 4.16
Module::Build 0.4232
Module::Signature 0.88
Parse::CPAN::Meta 2.150010
Test::Harness 3.44
Test::More 1.302194
YAML 1.30
YAML::Syck 1.34
version 0.9929
--
Summary of my perl5 (revision 5 version 37 subversion 11) configuration:
Commit id: f94aafcf7b0649f7058ce2679b1be428d0b1bca8
Platform:
osname=linux
osvers=6.1.0-7-amd64
archname=x86_64-linux-multi
uname='linux k93msid 6.1.0-7-amd64 #1 smp preempt_dynamic debian 6.1.20-1 (2023-03-19) x86_64 gnulinux '
config_args='-Dprefix=/home/sand/src/perl/repoperls/installed-perls/host/k93msid/v5.37.11/4da5 -Dmyhostname=k93msid -Dinstallusrbinperl=n -Uversiononly -Dusedevel -des -Ui_db -Dlibswanted=cl pthread socket inet nsl gdbm dbm malloc dl ld sun m crypt sec util c cposix posix ucb BSD gdbm_compat -Uuseithreads -Uuselongdouble -DEBUGGING=both -Dusemultiplicity'
hint=recommended
useposix=true
d_sigaction=define
useithreads=undef
usemultiplicity=define
use64bitint=define
use64bitall=define
uselongdouble=undef
usemymalloc=n
default_inc_excludes_dot=define
Compiler:
cc='cc'
ccflags ='-fwrapv -DDEBUGGING -fno-strict-aliasing -pipe -fstack-protector-strong -I/usr/local/include -D_LARGEFILE_SOURCE -D_FILE_OFFSET_BITS=64 -D_FORTIFY_SOURCE=2'
optimize='-O2 -g'
cppflags='-fwrapv -DDEBUGGING -fno-strict-aliasing -pipe -fstack-protector-strong -I/usr/local/include'
ccversion=''
gccversion='12.2.0'
gccosandvers=''
intsize=4
longsize=8
ptrsize=8
doublesize=8
byteorder=12345678
doublekind=3
d_longlong=define
longlongsize=8
d_longdbl=define
longdblsize=16
longdblkind=3
ivtype='long'
ivsize=8
nvtype='double'
nvsize=8
Off_t='off_t'
lseeksize=8
alignbytes=8
prototype=define
Linker and Libraries:
ld='cc'
ldflags =' -fstack-protector-strong -L/usr/local/lib'
libpth=/usr/local/lib /usr/lib/x86_64-linux-gnu /usr/lib /usr/lib64
libs=-lpthread -lnsl -ldl -lm -lcrypt -lutil -lc
perllibs=-lpthread -lnsl -ldl -lm -lcrypt -lutil -lc
libc=/lib/x86_64-linux-gnu/libc.so.6
so=so
useshrplib=false
libperl=libperl.a
gnulibc_version='2.36'
Dynamic Linking:
dlsrc=dl_dlopen.xs
dlext=so
d_dlsymun=undef
ccdlflags='-Wl,-E'
cccdlflags='-fPIC'
lddlflags='-shared -O2 -g -L/usr/local/lib -fstack-protector-strong'
Characteristics of this binary (from libperl):
Compile-time options:
DEBUGGING
HAS_LONG_DOUBLE
HAS_STRTOLD
HAS_TIMES
MULTIPLICITY
PERLIO_LAYERS
PERL_COPY_ON_WRITE
PERL_DONT_CREATE_GVSV
PERL_HASH_FUNC_SIPHASH13
PERL_HASH_USE_SBOX32
PERL_MALLOC_WRAP
PERL_OP_PARENT
PERL_PRESERVE_IVUV
PERL_TRACK_MEMPOOL
PERL_USE_DEVEL
PERL_USE_SAFE_PUTENV
USE_64_BIT_ALL
USE_64_BIT_INT
USE_LARGE_FILES
USE_LOCALE
USE_LOCALE_COLLATE
USE_LOCALE_CTYPE
USE_LOCALE_NUMERIC
USE_LOCALE_TIME
USE_PERLIO
USE_PERL_ATOF
Built under linux
Compiled at Apr 21 2023 09:12:14
%ENV:
PERL5LIB=""
PERL5OPT=""
PERL5_CPANPLUS_IS_RUNNING="1376689"
PERL5_CPAN_IS_RUNNING="1376689"
PERL_CANARY_STABILITY_NOPROMPT="1"
PERL_MM_USE_DEFAULT="1"
PERL_USE_UNSAFE_INC="1"
@INC:
/home/sand/src/perl/repoperls/installed-perls/host/k93msid/v5.37.11/4da5/lib/site_perl/5.37.11/x86_64-linux-multi
/home/sand/src/perl/repoperls/installed-perls/host/k93msid/v5.37.11/4da5/lib/site_perl/5.37.11
/home/sand/src/perl/repoperls/installed-perls/host/k93msid/v5.37.11/4da5/lib/5.37.11/x86_64-linux-multi
/home/sand/src/perl/repoperls/installed-perls/host/k93msid/v5.37.11/4da5/lib/5.37.11
.