Encode v3.16 Perl 5 v5.28.2 darwin-2level
- Status
- Pass
- From
- Michiel Beijen
- Dist
-
Encode v3.16
- Platform
- Perl 5 v5.28.2 darwin-2level
- Date
- 2022-01-11 10:29:16
- ID
- 53f77d1c-72c9-11ec-bb75-22651c669526
This distribution has been tested as part of the CPAN Testers
project, supporting the Perl programming language. See
http://wiki.cpantesters.org/ for more information or email
questions to cpan-testers-discuss@perl.org
--
Dear Dan Kogai,
This is a computer-generated report for Encode-3.16
on perl 5.28.2, created by CPAN-Reporter-1.2018.
Thank you for uploading your work to CPAN. Congratulations!
All tests were successful.
Sections of this report:
* Tester comments
* Program output
* Prerequisites
* Environment and other context
------------------------------
TESTER COMMENTS
------------------------------
Additional comments from tester:
none provided
------------------------------
PROGRAM OUTPUT
------------------------------
Output from '/usr/bin/make test':
"/Users/mb/.plenv/versions/5.28.2/bin/perl5.28.2" -MExtUtils::Command::MM -e 'cp_nonempty' -- Encode.bs blib/arch/auto/Encode/Encode.bs 644
"/Users/mb/.plenv/versions/5.28.2/bin/perl5.28.2" -MExtUtils::Command::MM -e 'cp_nonempty' -- Byte.bs ../blib/arch/auto/Encode/Byte/Byte.bs 644
"/Users/mb/.plenv/versions/5.28.2/bin/perl5.28.2" -MExtUtils::Command::MM -e 'cp_nonempty' -- CN.bs ../blib/arch/auto/Encode/CN/CN.bs 644
"/Users/mb/.plenv/versions/5.28.2/bin/perl5.28.2" -MExtUtils::Command::MM -e 'cp_nonempty' -- EBCDIC.bs ../blib/arch/auto/Encode/EBCDIC/EBCDIC.bs 644
"/Users/mb/.plenv/versions/5.28.2/bin/perl5.28.2" -MExtUtils::Command::MM -e 'cp_nonempty' -- JP.bs ../blib/arch/auto/Encode/JP/JP.bs 644
"/Users/mb/.plenv/versions/5.28.2/bin/perl5.28.2" -MExtUtils::Command::MM -e 'cp_nonempty' -- KR.bs ../blib/arch/auto/Encode/KR/KR.bs 644
"/Users/mb/.plenv/versions/5.28.2/bin/perl5.28.2" -MExtUtils::Command::MM -e 'cp_nonempty' -- Symbol.bs ../blib/arch/auto/Encode/Symbol/Symbol.bs 644
"/Users/mb/.plenv/versions/5.28.2/bin/perl5.28.2" -MExtUtils::Command::MM -e 'cp_nonempty' -- TW.bs ../blib/arch/auto/Encode/TW/TW.bs 644
"/Users/mb/.plenv/versions/5.28.2/bin/perl5.28.2" -MExtUtils::Command::MM -e 'cp_nonempty' -- Unicode.bs ../blib/arch/auto/Encode/Unicode/Unicode.bs 644
"/Users/mb/.plenv/versions/5.28.2/bin/perl5.28.2" -MExtUtils::Command::MM -e 'cp_nonempty' -- Byte.bs ../blib/arch/auto/Encode/Byte/Byte.bs 644
No tests defined for Encode::Byte extension.
"/Users/mb/.plenv/versions/5.28.2/bin/perl5.28.2" -MExtUtils::Command::MM -e 'cp_nonempty' -- CN.bs ../blib/arch/auto/Encode/CN/CN.bs 644
No tests defined for Encode::CN extension.
"/Users/mb/.plenv/versions/5.28.2/bin/perl5.28.2" -MExtUtils::Command::MM -e 'cp_nonempty' -- EBCDIC.bs ../blib/arch/auto/Encode/EBCDIC/EBCDIC.bs 644
No tests defined for Encode::EBCDIC extension.
"/Users/mb/.plenv/versions/5.28.2/bin/perl5.28.2" -MExtUtils::Command::MM -e 'cp_nonempty' -- JP.bs ../blib/arch/auto/Encode/JP/JP.bs 644
No tests defined for Encode::JP extension.
"/Users/mb/.plenv/versions/5.28.2/bin/perl5.28.2" -MExtUtils::Command::MM -e 'cp_nonempty' -- KR.bs ../blib/arch/auto/Encode/KR/KR.bs 644
No tests defined for Encode::KR extension.
"/Users/mb/.plenv/versions/5.28.2/bin/perl5.28.2" -MExtUtils::Command::MM -e 'cp_nonempty' -- Symbol.bs ../blib/arch/auto/Encode/Symbol/Symbol.bs 644
No tests defined for Encode::Symbol extension.
"/Users/mb/.plenv/versions/5.28.2/bin/perl5.28.2" -MExtUtils::Command::MM -e 'cp_nonempty' -- TW.bs ../blib/arch/auto/Encode/TW/TW.bs 644
No tests defined for Encode::TW extension.
"/Users/mb/.plenv/versions/5.28.2/bin/perl5.28.2" -MExtUtils::Command::MM -e 'cp_nonempty' -- Unicode.bs ../blib/arch/auto/Encode/Unicode/Unicode.bs 644
No tests defined for Encode::Unicode extension.
PERL_DL_NONLAZY=1 "/Users/mb/.plenv/versions/5.28.2/bin/perl5.28.2" "-MExtUtils::Command::MM" "-MTest::Harness" "-e" "undef *Test::Harness::Switches; test_harness(0, 'blib/lib', 'blib/arch')" t/*.t
t/Aliases.t ................ ok
t/at-cn.t .................. ok
t/at-tw.t .................. ok
t/CJKT.t ................... ok
t/cow.t .................... ok
t/decode.t ................. ok
t/enc_data.t ............... skipped: encoding pragma not supported in Perl 5.26
t/enc_eucjp.t .............. skipped: Perl <=5.25.2 or cperl required
t/enc_module.t ............. skipped: encoding pragma not supported in Perl 5.26
t/enc_utf8.t ............... skipped: Perl <=5.25.2 or cperl required
t/Encode.t ................. ok
t/Encoder.t ................ ok
t/encoding-locale.t ........ ok
t/encoding.t ............... skipped: encoding pragma not supported in Perl 5.26
t/fallback.t ............... ok
t/from_to.t ................ ok
t/grow.t ................... ok
t/gsm0338.t ................ ok
t/guess.t .................. ok
t/isa.t .................... ok
t/jis7-fallback.t .......... ok
t/jperl.t .................. skipped: encoding pragma not supported in Perl 5.26
t/magic.t .................. ok
t/mime-header.t ............ ok
t/mime-name.t .............. ok
t/mime_header_iso2022jp.t .. ok
t/perlio.t ................. ok
t/piconv.t ................. ok
t/rt113164.t ............... ok
t/rt65541.t ................ ok
t/rt76824.t ................ ok
t/rt85489.t ................ ok
t/rt86327.t ................ ok
t/taint.t .................. ok
t/truncated_utf8.t ......... ok
t/undef.t .................. ok
t/Unicode.t ................ ok
# temp file: /var/folders/mt/wt5rdpb523n1sl7w14d6z8v00000gn/T/fMDyOd35mX
t/Unicode_trailing_nul.t ... ok
t/use-Encode-Alias.t ....... ok
t/utf8ref.t ................ ok
t/utf8strict.t ............. ok
t/utf8warnings.t ........... ok
t/whatwg-aliases.t ......... skipped: For maintainers only
t/xml.t .................... ok
All tests successful.
Files=44, Tests=7711, 7 wallclock secs ( 0.52 usr 0.12 sys + 4.79 cusr 0.59 csys = 6.02 CPU)
Result: PASS
------------------------------
PREREQUISITES
------------------------------
Prerequisite modules loaded:
requires:
Module Need Have
------------------- ----- --------
Exporter 5.57 5.73
parent 0.221 0.236
Storable 0 3.08_01
build_requires:
Module Need Have
------------------- ----- --------
ExtUtils::MakeMaker 0 7.34
Test::More 0.92 1.302171
configure_requires:
Module Need Have
------------------- ----- --------
ExtUtils::MakeMaker 0 7.34
------------------------------
ENVIRONMENT AND OTHER CONTEXT
------------------------------
Environment variables:
LANG = nl_NL.UTF-8
LC_TERMINAL = iTerm2
LC_TERMINAL_VERSION = 3.4.8
NONINTERACTIVE_TESTING = 1
PATH = /Users/mb/.plenv/versions/5.28.2/bin:/usr/local/Cellar/plenv/2.3.0/libexec:/usr/local/opt/node@10/bin:/usr/local/opt/gettext/bin:/Users/mb/.plenv/shims:/Users/mb/.cargo/bin:/usr/local/bin:/usr/bin:/bin:/usr/sbin:/sbin:/opt/X11/bin:/Library/Apple/usr/bin:/Library/Frameworks/Mono.framework/Versions/Current/Commands:/Applications/Wireshark.app/Contents/MacOS:/Users/mb/Library/Android/sdk/tools:/Users/mb/Library/Android/sdk/tools/bin:/Users/mb/Library/Android/sdk/platform-tools:/Users/mb/bin:/Users/mb/.pub-cache/bin:/Users/mb/chromium/depot_tools
PERL5LIB =
PERL5OPT =
PERL5_CPANPLUS_IS_RUNNING = 49278
PERL5_CPAN_IS_RUNNING = 49278
PERL_MM_USE_DEFAULT = 1
PERL_USE_UNSAFE_INC = 1
SHELL = /usr/local/bin/bash
TERM = xterm-256color
TMPDIR = /var/folders/mt/wt5rdpb523n1sl7w14d6z8v00000gn/T/
Perl special variables (and OS-specific diagnostics, for MSWin32):
$^X = /Users/mb/.plenv/versions/5.28.2/bin/perl5.28.2
$UID/$EUID = 501 / 501
$GID = 20 20 501 12 61 79 80 81 98 701 33 100 204 250 395 398 399
$EGID = 20 20 501 12 61 79 80 81 98 701 33 100 204 250 395 398 399
Perl module toolchain versions installed:
Module Have
------------------- --------
CPAN 2.20
CPAN::Meta 2.150010
Cwd 3.74
ExtUtils::CBuilder 0.280230
ExtUtils::Command 7.34
ExtUtils::Install 2.14
ExtUtils::MakeMaker 7.34
ExtUtils::Manifest 1.70
ExtUtils::ParseXS 3.39
File::Spec 3.74
JSON 4.02
JSON::PP 2.97001
Module::Build 0.4231
Module::Signature n/a
Parse::CPAN::Meta 2.150010
Test::Harness 3.42
Test::More 1.302171
YAML n/a
YAML::Syck n/a
version 0.9923
--
Summary of my perl5 (revision 5 version 28 subversion 2) configuration:
Platform:
osname=darwin
osvers=18.7.0
archname=darwin-2level
uname='darwin identikit.fritz.box 18.7.0 darwin kernel version 18.7.0: thu jan 23 06:52:12 pst 2020; root:xnu-4903.278.25~1release_x86_64 x86_64 '
config_args='-Dprefix=/Users/mb/.plenv/versions/5.28.2 -de -Dversiononly -A'eval:scriptdir=/Users/mb/.plenv/versions/5.28.2/bin''
hint=recommended
useposix=true
d_sigaction=define
useithreads=undef
usemultiplicity=undef
use64bitint=define
use64bitall=define
uselongdouble=undef
usemymalloc=n
default_inc_excludes_dot=define
bincompat5005=undef
Compiler:
cc='cc'
ccflags ='-fno-common -DPERL_DARWIN -mmacosx-version-min=10.14 -fno-strict-aliasing -pipe -fstack-protector-strong -I/usr/local/include -DPERL_USE_SAFE_PUTENV'
optimize='-O3'
cppflags='-fno-common -DPERL_DARWIN -mmacosx-version-min=10.14 -fno-strict-aliasing -pipe -fstack-protector-strong -I/usr/local/include'
ccversion=''
gccversion='4.2.1 Compatible Apple LLVM 11.0.0 (clang-1100.0.33.17)'
gccosandvers=''
intsize=4
longsize=8
ptrsize=8
doublesize=8
byteorder=12345678
doublekind=3
d_longlong=define
longlongsize=8
d_longdbl=define
longdblsize=16
longdblkind=3
ivtype='long'
ivsize=8
nvtype='double'
nvsize=8
Off_t='off_t'
lseeksize=8
alignbytes=8
prototype=define
Linker and Libraries:
ld='cc'
ldflags =' -mmacosx-version-min=10.14 -fstack-protector-strong -L/usr/local/lib'
libpth=/usr/local/lib /Applications/Xcode.app/Contents/Developer/Toolchains/XcodeDefault.xctoolchain/usr/lib/clang/11.0.0/lib /Applications/Xcode.app/Contents/Developer/Toolchains/XcodeDefault.xctoolchain/usr/lib /Applications/Xcode.app/Contents/Developer/Platforms/MacOSX.platform/Developer/SDKs/MacOSX.sdk/usr/lib /usr/lib
libs=-lpthread -lgdbm -ldbm -ldl -lm -lutil -lc
perllibs=-lpthread -ldl -lm -lutil -lc
libc=
so=dylib
useshrplib=false
libperl=libperl.a
gnulibc_version=''
Dynamic Linking:
dlsrc=dl_dlopen.xs
dlext=bundle
d_dlsymun=undef
ccdlflags=' '
cccdlflags=' '
lddlflags=' -mmacosx-version-min=10.14 -bundle -undefined dynamic_lookup -L/usr/local/lib -fstack-protector-strong'
Characteristics of this binary (from libperl):
Compile-time options:
HAS_TIMES
PERLIO_LAYERS
PERL_COPY_ON_WRITE
PERL_DONT_CREATE_GVSV
PERL_MALLOC_WRAP
PERL_OP_PARENT
PERL_PRESERVE_IVUV
PERL_USE_SAFE_PUTENV
USE_64_BIT_ALL
USE_64_BIT_INT
USE_LARGE_FILES
USE_LOCALE
USE_LOCALE_COLLATE
USE_LOCALE_CTYPE
USE_LOCALE_NUMERIC
USE_LOCALE_TIME
USE_PERLIO
USE_PERL_ATOF
Locally applied patches:
Devel::PatchPerl 1.78
Built under darwin
Compiled at Feb 28 2020 15:27:29
%ENV:
PERL5LIB=""
PERL5OPT=""
PERL5_CPANPLUS_IS_RUNNING="49278"
PERL5_CPAN_IS_RUNNING="49278"
PERL_MM_USE_DEFAULT="1"
PERL_USE_UNSAFE_INC="1"
@INC:
/Users/mb/.plenv/versions/5.28.2/lib/perl5/site_perl/5.28.2/darwin-2level
/Users/mb/.plenv/versions/5.28.2/lib/perl5/site_perl/5.28.2
/Users/mb/.plenv/versions/5.28.2/lib/perl5/5.28.2/darwin-2level
/Users/mb/.plenv/versions/5.28.2/lib/perl5/5.28.2
.