App-Greple v9.23 Perl 5 v5.40.2 x86_64-linux-thread-multi-quadmath
- Status
- Pass
- From
- Andreas J. König (ANDK)
- Dist
-
App-Greple v9.23
- Platform
- Perl 5 v5.40.2 x86_64-linux-thread-multi-quadmath
- Date
- 2025-06-13 14:25:58
- ID
- 52c9e78c-4862-11f0-9ff1-80d06a8b3a04
This distribution has been tested as part of the CPAN Testers
project, supporting the Perl programming language. See
http://wiki.cpantesters.org/ for more information or email
questions to cpan-testers-discuss@perl.org
--
Dear Kaz Utashiro,
This is a computer-generated report for App-Greple-9.23
on perl 5.40.2, created by CPAN-Reporter-1.2020.
Thank you for uploading your work to CPAN. Congratulations!
All tests were successful.
Sections of this report:
* Tester comments
* Program output
* Prerequisites
* Environment and other context
------------------------------
TESTER COMMENTS
------------------------------
Additional comments from tester:
this report is from an automated smoke testing program
and was not reviewed by a human for accuracy
------------------------------
PROGRAM OUTPUT
------------------------------
Output from './Build test':
# Testing App::Greple 9.23, Perl v5.40.2, /home/sand/src/perl/repoperls/installed-perls/host/k93msid/v5.40.2/db45/bin/perl
t/00_load.t ............. ok
t/01_run.t .............. ok
t/02_search.t ........... ok
t/03_ja.t ............... ok
t/05_reverse_regions.t .. ok
t/06_matchcount.t ....... ok
t/08_region.t ........... ok
t/09_filter.t ........... ok
t/10_select.t ........... ok
t/11_block.t ............ ok
utf8 "\xFE" does not map to Unicode at t/runner/Runner.pm line 53.
utf8 "\xFE" does not map to Unicode at t/runner/Runner.pm line 53.
utf8 "\xFE" does not map to Unicode at t/runner/Runner.pm line 53.
t/12_error.t ............ ok
t/13_max.t .............. ok
t/14_no_color.t ......... ok
t/15_encoding.t ......... ok
t/16_callback.t ......... ok
t/17_style.t ............ ok
t/line/00_load.t ........ ok
t/line/02_search.t ...... ok
t/select/00_load.t ...... ok
t/select/01_select.t .... ok
All tests successful.
Test Summary Report
-------------------
t/09_filter.t (Wstat: 0 Tests: 3 Failed: 0)
TODO passed: 1
Files=20, Tests=174, 36 wallclock secs ( 0.08 usr 0.06 sys + 21.63 cusr 4.58 csys = 26.35 CPU)
Result: PASS
------------------------------
PREREQUISITES
------------------------------
Prerequisite modules loaded:
requires:
Module Need Have
------------------------ ------- --------
Getopt::EX v2.2.1 2.2.2
Hash::Util 0 0.32
List::BinarySearch 0 0.25
List::Util 1.45 1.69
perl v5.18.2 5.040002
Term::ANSIColor::Concise 2.08 2.08
build_requires:
Module Need Have
------------------------ ------- --------
Test::More 0.98 1.302210
configure_requires:
Module Need Have
------------------------ ------- --------
Module::Build::Tiny 0.035 0.051
------------------------------
ENVIRONMENT AND OTHER CONTEXT
------------------------------
Environment variables:
AUTOMATED_TESTING = 1
LANG = en_US.UTF-8
LANGUAGE = en_US:en
PATH = /home/sand/bin:/usr/local/bin:/usr/bin:/bin:/usr/games:/usr/local/perl/bin:/usr/X11/bin:/sbin:/usr/sbin
PERL5LIB =
PERL5OPT =
PERL5_CPANPLUS_IS_RUNNING = 3066508
PERL5_CPAN_IS_RUNNING = 3066508
PERL_CANARY_STABILITY_NOPROMPT = 1
PERL_MM_USE_DEFAULT = 1
PERL_USE_UNSAFE_INC = 1
SHELL = /usr/bin/zsh
TERM = screen
Perl special variables (and OS-specific diagnostics, for MSWin32):
$^X = /home/sand/src/perl/repoperls/installed-perls/host/k93msid/v5.40.2/db45/bin/perl
$UID/$EUID = 1005 / 1005
$GID = 1005 1005
$EGID = 1005 1005
Perl module toolchain versions installed:
Module Have
------------------- --------
CPAN 2.38
CPAN::Meta 2.150010
Cwd 3.91
ExtUtils::CBuilder 0.280240
ExtUtils::Command 7.76
ExtUtils::Install 2.22
ExtUtils::MakeMaker 7.76
ExtUtils::Manifest 1.75
ExtUtils::ParseXS 3.51
File::Spec 3.91
JSON 4.10
JSON::PP 4.16
Module::Build 0.4234
Module::Signature 0.89
Parse::CPAN::Meta 2.150010
Test2 1.302210
Test::Harness 3.50
Test::More 1.302210
YAML 1.31
YAML::Syck 1.34
version 0.9933
--
Summary of my perl5 (revision 5 version 40 subversion 2) configuration:
Commit id: 2e0f6a60c12ff9b5fd18e5a18d350b4366ea12b7
Platform:
osname=linux
osvers=6.8.12-amd64
archname=x86_64-linux-thread-multi-quadmath
uname='linux k93msid 6.8.12-amd64 #1 smp preempt_dynamic debian 6.8.12-1 (2024-05-31) x86_64 gnulinux '
config_args='-Dprefix=/home/sand/src/perl/repoperls/installed-perls/host/k93msid/v5.40.2/db45 -Dmyhostname=k93msid -Dinstallusrbinperl=n -Uversiononly -Dusedevel -des -Ui_db -Dlibswanted=cl pthread socket inet nsl gdbm dbm malloc dl ld sun m crypt sec util c cposix posix ucb BSD gdbm_compat -Duseithreads -Uuselongdouble -DEBUGGING=both -Dusequadmath'
hint=recommended
useposix=true
d_sigaction=define
useithreads=define
usemultiplicity=define
use64bitint=define
use64bitall=define
uselongdouble=undef
usemymalloc=n
default_inc_excludes_dot=define
Compiler:
cc='cc'
ccflags ='-D_REENTRANT -D_GNU_SOURCE -fwrapv -DDEBUGGING -fno-strict-aliasing -pipe -fstack-protector-strong -I/usr/local/include -D_LARGEFILE_SOURCE -D_FILE_OFFSET_BITS=64 -D_FORTIFY_SOURCE=2'
optimize='-O2 -g'
cppflags='-D_REENTRANT -D_GNU_SOURCE -fwrapv -DDEBUGGING -fno-strict-aliasing -pipe -fstack-protector-strong -I/usr/local/include'
ccversion=''
gccversion='13.3.0'
gccosandvers=''
intsize=4
longsize=8
ptrsize=8
doublesize=8
byteorder=12345678
doublekind=3
d_longlong=define
longlongsize=8
d_longdbl=define
longdblsize=16
longdblkind=3
ivtype='long'
ivsize=8
nvtype='__float128'
nvsize=16
Off_t='off_t'
lseeksize=8
alignbytes=16
prototype=define
Linker and Libraries:
ld='cc'
ldflags =' -fstack-protector-strong -L/usr/local/lib'
libpth=/usr/local/lib /usr/lib/x86_64-linux-gnu /usr/lib /usr/lib64
libs=-lpthread -ldl -lm -lcrypt -lutil -lc -lquadmath
perllibs=-lpthread -ldl -lm -lcrypt -lutil -lc -lquadmath
libc=/lib/x86_64-linux-gnu/libc.so.6
so=so
useshrplib=false
libperl=libperl.a
gnulibc_version='2.38'
Dynamic Linking:
dlsrc=dl_dlopen.xs
dlext=so
d_dlsymun=undef
ccdlflags='-Wl,-E'
cccdlflags='-fPIC'
lddlflags='-shared -O2 -g -L/usr/local/lib -fstack-protector-strong'
Characteristics of this binary (from libperl):
Compile-time options:
DEBUGGING
HAS_LONG_DOUBLE
HAS_STRTOLD
HAS_TIMES
MULTIPLICITY
PERLIO_LAYERS
PERL_COPY_ON_WRITE
PERL_DONT_CREATE_GVSV
PERL_HASH_FUNC_SIPHASH13
PERL_HASH_USE_SBOX32
PERL_MALLOC_WRAP
PERL_OP_PARENT
PERL_PRESERVE_IVUV
PERL_TRACK_MEMPOOL
PERL_USE_DEVEL
PERL_USE_SAFE_PUTENV
USE_64_BIT_ALL
USE_64_BIT_INT
USE_ITHREADS
USE_LARGE_FILES
USE_LOCALE
USE_LOCALE_COLLATE
USE_LOCALE_CTYPE
USE_LOCALE_NUMERIC
USE_LOCALE_TIME
USE_PERLIO
USE_PERL_ATOF
USE_QUADMATH
USE_REENTRANT_API
USE_THREAD_SAFE_LOCALE
Built under linux
Compiled at Apr 14 2025 15:35:11
%ENV:
PERL5LIB=""
PERL5OPT=""
PERL5_CPANPLUS_IS_RUNNING="3066508"
PERL5_CPAN_IS_RUNNING="3066508"
PERL_CANARY_STABILITY_NOPROMPT="1"
PERL_MM_USE_DEFAULT="1"
PERL_USE_UNSAFE_INC="1"
@INC:
/home/sand/src/perl/repoperls/installed-perls/host/k93msid/v5.40.2/db45/lib/site_perl/5.40.2/x86_64-linux-thread-multi-quadmath
/home/sand/src/perl/repoperls/installed-perls/host/k93msid/v5.40.2/db45/lib/site_perl/5.40.2
/home/sand/src/perl/repoperls/installed-perls/host/k93msid/v5.40.2/db45/lib/5.40.2/x86_64-linux-thread-multi-quadmath
/home/sand/src/perl/repoperls/installed-perls/host/k93msid/v5.40.2/db45/lib/5.40.2
.