Catmandu-MARC v1.271 Perl 5 v5.28.2 x86_64-linux

Status
Pass
From
Johann Rolschewski (JOROL)
Dist
Catmandu-MARC v1.271
Platform
Perl 5 v5.28.2 x86_64-linux
Date
2022-01-10 10:44:42
ID
514b228e-7202-11ec-8ad8-9afee87bd7c2
This distribution has been tested as part of the CPAN Testers
project, supporting the Perl programming language.  See
http://wiki.cpantesters.org/ for more information or email
questions to cpan-testers-discuss@perl.org


--
Dear HOCHSTEN,

This is a computer-generated report for Catmandu-MARC-1.271
on perl 5.28.2, created by App::cpanminus::reporter 0.17 (1.7044).

Thank you for uploading your work to CPAN.  Congratulations!
All tests were successful.

Sections of this report:

    * Tester comments
    * Program output
    * Prerequisites
    * Environment and other context

------------------------------
TESTER COMMENTS
------------------------------

Additional comments from tester:

none provided

------------------------------
PROGRAM OUTPUT
------------------------------

Output from '':

Building and testing Catmandu-MARC-1.271
Building Catmandu-MARC
t/Catmandu/Exporter/MARC.t ..................... ok
t/Catmandu/Exporter/MARC/ALEPHSEQ.t ............ ok
t/Catmandu/Exporter/MARC/Base.t ................ ok
t/Catmandu/Exporter/MARC/ISO.t ................. ok
t/Catmandu/Exporter/MARC/Line.t ................ ok
t/Catmandu/Exporter/MARC/MARCMaker.t ........... ok
t/Catmandu/Exporter/MARC/MiJ.t ................. ok
t/Catmandu/Exporter/MARC/XML.t ................. ok
t/Catmandu/Fix/Bind/marc_each.t ................ ok
t/Catmandu/Fix/Condition/marc_all_match.t ...... ok
t/Catmandu/Fix/Condition/marc_any_match.t ...... ok
t/Catmandu/Fix/Condition/marc_has.t ............ ok
t/Catmandu/Fix/Condition/marc_has_many.t ....... ok
t/Catmandu/Fix/Condition/marc_match.t .......... ok
t/Catmandu/Fix/Condition/marc_spec_has.t ....... ok
t/Catmandu/Fix/Inline/marc_add.t ............... ok
t/Catmandu/Fix/Inline/marc_map.t ............... ok
t/Catmandu/Fix/Inline/marc_remove.t ............ ok
t/Catmandu/Fix/Inline/marc_set.t ............... ok
t/Catmandu/Fix/marc_add.t ...................... ok
t/Catmandu/Fix/marc_append.t ................... ok
t/Catmandu/Fix/marc_copy.t ..................... ok
t/Catmandu/Fix/marc_cut.t ...................... ok
t/Catmandu/Fix/marc_decode_dollar_subfields.t .. ok
t/Catmandu/Fix/marc_in_json.t .................. ok
t/Catmandu/Fix/marc_map.t ...................... ok
t/Catmandu/Fix/marc_paste.t .................... ok
t/Catmandu/Fix/marc_remove.t ................... ok
t/Catmandu/Fix/marc_replace_all.t .............. ok
t/Catmandu/Fix/marc_set.t ...................... ok
t/Catmandu/Fix/marc_sort.t ..................... ok
t/Catmandu/Fix/marc_spec.t ..................... ok
t/Catmandu/Fix/marc_xml.t ...................... ok
t/Catmandu/Importer/MARC.t ..................... ok
t/Catmandu/Importer/MARC/ALEPHSEQ.t ............ ok
t/Catmandu/Importer/MARC/Decoder.t ............. ok
t/Catmandu/Importer/MARC/ISO.t ................. ok
t/Catmandu/Importer/MARC/Line.t ................ ok
t/Catmandu/Importer/MARC/Lint.t ................ ok
t/Catmandu/Importer/MARC/MARCMaker.t ........... ok
t/Catmandu/Importer/MARC/MiJ.t ................. ok
t/Catmandu/Importer/MARC/MicroLIF.t ............ ok
t/Catmandu/Importer/MARC/RAW.t ................. ok
t/Catmandu/Importer/MARC/Record.t .............. ok
t/Catmandu/Importer/MARC/XML.t ................. ok
t/Catmandu/MARC.t .............................. ok
t/Catmandu/Validator/MARC.t .................... ok
t/author-pod-syntax.t .......................... skipped: these tests are for testing by the author
t/deprecate.t .................................. ok
t/inline-fix.t ................................. ok
t/inlineable.t ................................. ok
t/mapping_rules.t .............................. ok
t/mapping_rules_spec.t ......................... ok
t/marc-spec-subspecs.t ......................... ok
t/marc_spec2.t ................................. ok
t/old-new-internal-syntax.t .................... ok
All tests successful.
Files=56, Tests=564, 12 wallclock secs ( 0.16 usr  0.05 sys + 10.94 cusr  1.21 csys = 12.36 CPU)
Result: PASS

------------------------------
PREREQUISITES
------------------------------

Prerequisite modules loaded:

    No requirements found

------------------------------
ENVIRONMENT AND OTHER CONTEXT
------------------------------

Environment variables:

    LANG = de_DE.UTF-8
    LC_CTYPE = de_DE.UTF-8
    PATH = /home/johann.rolschewski/.local/bin:/home/johann.rolschewski/bin:/home/johann.rolschewski/perl5/perlbrew/bin:/home/johann.rolschewski/perl5/perlbrew/perls/perl-5.28.2/bin:/usr/local/bin:/usr/bin:/bin:/usr/local/games:/usr/games
    PERLBREW_HOME = /home/johann.rolschewski/.perlbrew
    PERLBREW_MANPATH = /home/johann.rolschewski/perl5/perlbrew/perls/perl-5.28.2/man
    PERLBREW_PATH = /home/johann.rolschewski/perl5/perlbrew/bin:/home/johann.rolschewski/perl5/perlbrew/perls/perl-5.28.2/bin
    PERLBREW_PERL = perl-5.28.2
    PERLBREW_ROOT = /home/johann.rolschewski/perl5/perlbrew
    PERLBREW_SHELLRC_VERSION = 0.87
    PERLBREW_VERSION = 0.87
    SHELL = /bin/bash
    TERM = xterm

Perl special variables (and OS-specific diagnostics, for MSWin32):

    EGID = 1001 1000 1001
    EUID = 4028
    EXECUTABLE_NAME = /home/johann.rolschewski/perl5/perlbrew/perls/perl-5.28.2/bin/perl
    GID = 1001 1000 1001
    UID = 4028

Perl module toolchain versions installed:

    Module              Have    
    ------------------- --------
    CPAN                2.20    
    CPAN::Meta          2.150010
    Cwd                 3.74    
    ExtUtils::CBuilder  0.280230
    ExtUtils::Command   7.34    
    ExtUtils::Install   2.14    
    ExtUtils::MakeMaker 7.34    
    ExtUtils::Manifest  1.70    
    ExtUtils::ParseXS   3.39    
    File::Spec          3.74    
    JSON                4.02    
    JSON::PP            2.97001 
    Module::Build       0.4229  
    Module::Signature   n/a     
    Parse::CPAN::Meta   2.150010
    Test::Harness       3.42    
    Test::More          1.302168
    YAML                1.29    
    YAML::Syck          n/a     
    version             0.9923  


--

Summary of my perl5 (revision 5 version 28 subversion 2) configuration:
   
  Platform:
    osname=linux
    osvers=4.19.0-6-amd64
    archname=x86_64-linux
    uname='linux b-lx0081 4.19.0-6-amd64 #1 smp debian 4.19.67-2+deb10u2 (2019-11-11) x86_64 gnulinux '
    config_args='-de -Dprefix=/home/johann.rolschewski/perl5/perlbrew/perls/perl-5.28.2 -Aeval:scriptdir=/home/johann.rolschewski/perl5/perlbrew/perls/perl-5.28.2/bin'
    hint=recommended
    useposix=true
    d_sigaction=define
    useithreads=undef
    usemultiplicity=undef
    use64bitint=define
    use64bitall=define
    uselongdouble=undef
    usemymalloc=n
    default_inc_excludes_dot=define
    bincompat5005=undef
  Compiler:
    cc='cc'
    ccflags ='-fwrapv -fno-strict-aliasing -pipe -fstack-protector-strong -I/usr/local/include -D_LARGEFILE_SOURCE -D_FILE_OFFSET_BITS=64'
    optimize='-O2'
    cppflags='-fwrapv -fno-strict-aliasing -pipe -fstack-protector-strong -I/usr/local/include'
    ccversion=''
    gccversion='8.3.0'
    gccosandvers=''
    intsize=4
    longsize=8
    ptrsize=8
    doublesize=8
    byteorder=12345678
    doublekind=3
    d_longlong=define
    longlongsize=8
    d_longdbl=define
    longdblsize=16
    longdblkind=3
    ivtype='long'
    ivsize=8
    nvtype='double'
    nvsize=8
    Off_t='off_t'
    lseeksize=8
    alignbytes=8
    prototype=define
  Linker and Libraries:
    ld='cc'
    ldflags =' -fstack-protector-strong -L/usr/local/lib'
    libpth=/usr/local/lib /usr/lib/gcc/x86_64-linux-gnu/8/include-fixed /usr/include/x86_64-linux-gnu /usr/lib /lib/x86_64-linux-gnu /lib/../lib /usr/lib/x86_64-linux-gnu /usr/lib/../lib /lib /lib64 /usr/lib64
    libs=-lpthread -lnsl -ldl -lm -lcrypt -lutil -lc
    perllibs=-lpthread -lnsl -ldl -lm -lcrypt -lutil -lc
    libc=libc-2.28.so
    so=so
    useshrplib=false
    libperl=libperl.a
    gnulibc_version='2.28'
  Dynamic Linking:
    dlsrc=dl_dlopen.xs
    dlext=so
    d_dlsymun=undef
    ccdlflags='-Wl,-E'
    cccdlflags='-fPIC'
    lddlflags='-shared -O2 -L/usr/local/lib -fstack-protector-strong'


Characteristics of this binary (from libperl): 
  Compile-time options:
    HAS_TIMES
    PERLIO_LAYERS
    PERL_COPY_ON_WRITE
    PERL_DONT_CREATE_GVSV
    PERL_MALLOC_WRAP
    PERL_OP_PARENT
    PERL_PRESERVE_IVUV
    USE_64_BIT_ALL
    USE_64_BIT_INT
    USE_LARGE_FILES
    USE_LOCALE
    USE_LOCALE_COLLATE
    USE_LOCALE_CTYPE
    USE_LOCALE_NUMERIC
    USE_LOCALE_TIME
    USE_PERLIO
    USE_PERL_ATOF
  Locally applied patches:
    Devel::PatchPerl 1.66
  Built under linux
  Compiled at Nov 15 2019 12:19:18
  %ENV:
    PERLBREW_HOME="/home/johann.rolschewski/.perlbrew"
    PERLBREW_MANPATH="/home/johann.rolschewski/perl5/perlbrew/perls/perl-5.28.2/man"
    PERLBREW_PATH="/home/johann.rolschewski/perl5/perlbrew/bin:/home/johann.rolschewski/perl5/perlbrew/perls/perl-5.28.2/bin"
    PERLBREW_PERL="perl-5.28.2"
    PERLBREW_ROOT="/home/johann.rolschewski/perl5/perlbrew"
    PERLBREW_SHELLRC_VERSION="0.87"
    PERLBREW_VERSION="0.87"
  @INC:
    /home/johann.rolschewski/perl5/perlbrew/perls/perl-5.28.2/lib/site_perl/5.28.2/x86_64-linux
    /home/johann.rolschewski/perl5/perlbrew/perls/perl-5.28.2/lib/site_perl/5.28.2
    /home/johann.rolschewski/perl5/perlbrew/perls/perl-5.28.2/lib/5.28.2/x86_64-linux
    /home/johann.rolschewski/perl5/perlbrew/perls/perl-5.28.2/lib/5.28.2