Yancy v1.088 Perl 5 v5.32.1 x86_64-linux-thread-multi

Status
Pass
From
Andreas J. König (ANDK)
Dist
Yancy v1.088
Platform
Perl 5 v5.32.1 x86_64-linux-thread-multi
Date
2022-02-19 05:46:41
ID
503d2b8a-9147-11ec-8683-9782d81d88d2
This distribution has been tested as part of the CPAN Testers
project, supporting the Perl programming language.  See
http://wiki.cpantesters.org/ for more information or email
questions to cpan-testers-discuss@perl.org


--
Dear Doug Bell,

This is a computer-generated report for Yancy-1.088
on perl 5.32.1, created by CPAN-Reporter-1.2018.

Thank you for uploading your work to CPAN.  Congratulations!
All tests were successful.

Sections of this report:

    * Tester comments
    * Program output
    * Prerequisites
    * Environment and other context

------------------------------
TESTER COMMENTS
------------------------------

Additional comments from tester:

this report is from an automated smoke testing program
and was not reviewed by a human for accuracy

------------------------------
PROGRAM OUTPUT
------------------------------

Output from '/usr/bin/make test':

Skip blib/lib/auto/share/dist/Yancy/update_resources.sh (unchanged)
PERL_DL_NONLAZY=1 "/home/sand/src/perl/repoperls/installed-perls/host/k93msid/v5.32.1/29fb/bin/perl" "-MExtUtils::Command::MM" "-MTest::Harness" "-e" "undef *Test::Harness::Switches; test_harness(0, 'blib/lib', 'blib/arch')" t/*.t t/backend/*.t t/command/backend/*.t t/controller/*.t t/examples/*.t t/plugin/*.t t/plugin/auth/*.t t/plugin/form/*.t
t/00-compile.t ............... ok
# 
# Versions for all modules listed in MYMETA.json (including optional ones):
# 
# === Configure Requires ===
# 
#     Module                  Want Have
#     ----------------------- ---- ----
#     ExtUtils::MakeMaker      any 7.64
#     File::ShareDir::Install 0.06 0.13
# 
# === Configure Suggests ===
# 
#     Module      Want Have
#     -------- ------- ----
#     JSON::PP 2.27300 4.04
# 
# === Build Requires ===
# 
#     Module              Want Have
#     ------------------- ---- ----
#     ExtUtils::MakeMaker  any 7.64
# 
# === Test Requires ===
# 
#     Module                  Want     Have
#     ------------------- -------- --------
#     ExtUtils::MakeMaker      any     7.64
#     File::Spec               any     3.78
#     File::Temp            0.2307   0.2311
#     IO::Handle               any     1.42
#     IPC::Open3               any     1.21
#     Test::More          1.001005 1.302188
# 
# === Test Recommends ===
# 
#     Module         Want     Have
#     ---------- -------- --------
#     CPAN::Meta 2.120900 2.150010
# 
# === Runtime Requires ===
# 
#     Module                           Want     Have
#     ---------------------------- -------- --------
#     Class::Method::Modifiers          any     2.13
#     Digest                            any  1.17_01
#     Exporter                          any     5.74
#     File::Spec::Functions             any     3.78
#     FindBin                           any     1.51
#     JSON::Validator                  5.00     5.05
#     Mojolicious                         9     9.22
#     Mojolicious::Plugin::I18N         1.6      1.6
#     Mojolicious::Plugin::OpenAPI     5.00     5.02
#     Role::Tiny                   2.000001 2.002004
#     Scalar::Util                      any     1.61
#     Sys::Hostname                     any     1.23
#     Text::Balanced                    any     2.03
# 
t/00-report-prereqs.t ........ ok
x-view is deprecated and will be removed in v2. Use Yancy::Model or your database's CREATE VIEW instead. at /tmp/loop_over_bdir-547602-4c687k/Yancy-1.088-0/blib/lib/Yancy/Model/Schema.pm line 283.
t/api.t ...................... ok
t/app.t ...................... ok
t/backend/dbic.t ............. skipped: DBIx::Class >= 0.082842 required for this test
t/backend/memory.t ........... ok
t/backend/mysql.t ............ skipped: Mojo::mysql >= 1.0 required for this test
t/backend/pg.t ............... skipped: Mojo::Pg >= 3.0 required for this test
t/backend/sqlite.t ........... skipped: DBD::SQLite >= 1.56 required for this test
x-view is deprecated and will be removed in v2. Use Yancy::Model or your database's CREATE VIEW instead. at /tmp/loop_over_bdir-547602-4c687k/Yancy-1.088-0/blib/lib/Yancy/Model/Schema.pm line 283.
t/command/backend/copy.t ..... ok
x-view is deprecated and will be removed in v2. Use Yancy::Model or your database's CREATE VIEW instead. at /tmp/loop_over_bdir-547602-4c687k/Yancy-1.088-0/blib/lib/Yancy/Model/Schema.pm line 283.
t/config.t ................... ok
x-view is deprecated and will be removed in v2. Use Yancy::Model or your database's CREATE VIEW instead. at /tmp/loop_over_bdir-547602-4c687k/Yancy-1.088-0/blib/lib/Yancy/Model/Schema.pm line 283.
t/controller/multi_tenant.t .. ok
x-view is deprecated and will be removed in v2. Use Yancy::Model or your database's CREATE VIEW instead. at /tmp/loop_over_bdir-547602-4c687k/Yancy-1.088-0/blib/lib/Yancy/Model/Schema.pm line 283.
t/controller/yancy.t ......... ok
t/examples/doc-site.t ........ skipped: Set TEST_YANCY_EXAMPLES to run these tests
t/examples/limited-editor.t .. skipped: Set TEST_YANCY_EXAMPLES to run these tests
t/examples/test-app.t ........ skipped: Set TEST_YANCY_EXAMPLES to run these tests
t/examples/todo-app.t ........ skipped: Set TEST_YANCY_EXAMPLES to run these tests
x-view is deprecated and will be removed in v2. Use Yancy::Model or your database's CREATE VIEW instead. at /tmp/loop_over_bdir-547602-4c687k/Yancy-1.088-0/blib/lib/Yancy/Model/Schema.pm line 283.
[2022-02-19 05:46:03.31398] [552067] [fatal] [KY817DaOiESR] Unknown filter: DOES.NOT.EXIST (schema: user, field: email) at /tmp/loop_over_bdir-547602-4c687k/Yancy-1.088-0/blib/lib/Mojolicious/Plugin/Yancy.pm line 889.

t/filter.t ................... ok
x-view is deprecated and will be removed in v2. Use Yancy::Model or your database's CREATE VIEW instead. at /tmp/loop_over_bdir-547602-4c687k/Yancy-1.088-0/blib/lib/Yancy/Model/Schema.pm line 283.
t/helpers.t .................. ok
x-view is deprecated and will be removed in v2. Use Yancy::Model or your database's CREATE VIEW instead. at /tmp/loop_over_bdir-547602-4c687k/Yancy-1.088-0/blib/lib/Yancy/Model/Schema.pm line 283.
t/i18n.t ..................... ok
t/model.t .................... ok
x-view is deprecated and will be removed in v2. Use Yancy::Model or your database's CREATE VIEW instead. at /tmp/loop_over_bdir-547602-4c687k/Yancy-1.088-0/blib/lib/Yancy/Model/Schema.pm line 283.
t/plugin/auth.t .............. ok
x-view is deprecated and will be removed in v2. Use Yancy::Model or your database's CREATE VIEW instead. at /tmp/loop_over_bdir-547602-4c687k/Yancy-1.088-0/blib/lib/Yancy/Model/Schema.pm line 283.
The Auth::Basic plugin is deprecated and will be removed in Yancy v2.000. Please migrate to the Auth::Password module.
 at /tmp/loop_over_bdir-547602-4c687k/Yancy-1.088-0/blib/lib/Yancy/Plugin/Auth/Basic.pm line 256.
t/plugin/auth/basic.t ........ ok
x-view is deprecated and will be removed in v2. Use Yancy::Model or your database's CREATE VIEW instead. at /tmp/loop_over_bdir-547602-4c687k/Yancy-1.088-0/blib/lib/Yancy/Model/Schema.pm line 283.
t/plugin/auth/github.t ....... ok
x-view is deprecated and will be removed in v2. Use Yancy::Model or your database's CREATE VIEW instead. at /tmp/loop_over_bdir-547602-4c687k/Yancy-1.088-0/blib/lib/Yancy/Model/Schema.pm line 283.
t/plugin/auth/oauth2.t ....... ok
x-view is deprecated and will be removed in v2. Use Yancy::Model or your database's CREATE VIEW instead. at /tmp/loop_over_bdir-547602-4c687k/Yancy-1.088-0/blib/lib/Yancy/Model/Schema.pm line 283.
t/plugin/auth/password.t ..... ok
x-view is deprecated and will be removed in v2. Use Yancy::Model or your database's CREATE VIEW instead. at /tmp/loop_over_bdir-547602-4c687k/Yancy-1.088-0/blib/lib/Yancy/Model/Schema.pm line 283.
t/plugin/auth/token.t ........ ok
t/plugin/editor.t ............ ok
x-view is deprecated and will be removed in v2. Use Yancy::Model or your database's CREATE VIEW instead. at /tmp/loop_over_bdir-547602-4c687k/Yancy-1.088-0/blib/lib/Yancy/Model/Schema.pm line 283.
[2022-02-19 05:46:18.78458] [552501] [warn] *** Cannot verify that admin editor is behind authentication.
Add a Yancy Auth plugin, add a `route` to the Yancy plugin config,
or set `editor.require_user => undef` to silence this warning

t/plugin/file.t .............. ok
x-view is deprecated and will be removed in v2. Use Yancy::Model or your database's CREATE VIEW instead. at /tmp/loop_over_bdir-547602-4c687k/Yancy-1.088-0/blib/lib/Yancy/Model/Schema.pm line 283.
[2022-02-19 05:46:20.02025] [552521] [warn] [3Pw7deIvpViv] form_for() called with incomplete request. CSRF token may not validate!
t/plugin/form/bootstrap4.t ... ok
x-view is deprecated and will be removed in v2. Use Yancy::Model or your database's CREATE VIEW instead. at /tmp/loop_over_bdir-547602-4c687k/Yancy-1.088-0/blib/lib/Yancy/Model/Schema.pm line 283.
t/plugin/roles.t ............. ok
    # Can't locate DBI.pm in @INC (you may need to install the DBI module) (@INC contains: /tmp/loop_over_bdir-547602-4c687k/Yancy-1.088-0/t/lib /tmp/loop_over_bdir-547602-4c687k/Yancy-1.088-0/blib/lib /tmp/loop_over_bdir-547602-4c687k/Yancy-1.088-0/blib/arch /home/sand/src/perl/repoperls/installed-perls/host/k93msid/v5.32.1/29fb/lib/site_perl/5.32.1/x86_64-linux-thread-multi /home/sand/src/perl/repoperls/installed-perls/host/k93msid/v5.32.1/29fb/lib/site_perl/5.32.1 /home/sand/src/perl/repoperls/installed-perls/host/k93msid/v5.32.1/29fb/lib/5.32.1/x86_64-linux-thread-multi /home/sand/src/perl/repoperls/installed-perls/host/k93msid/v5.32.1/29fb/lib/5.32.1 .) at /tmp/loop_over_bdir-547602-4c687k/Yancy-1.088-0/blib/lib/Yancy/Backend/Role/DBI.pm line 27.
    # BEGIN failed--compilation aborted at /tmp/loop_over_bdir-547602-4c687k/Yancy-1.088-0/blib/lib/Yancy/Backend/Role/DBI.pm line 27.
    # Compilation failed in require at /home/sand/src/perl/repoperls/installed-perls/host/k93msid/v5.32.1/29fb/lib/site_perl/5.32.1/Role/Tiny.pm line 51.
    # Compilation failed in require at /home/sand/src/perl/repoperls/installed-perls/host/k93msid/v5.32.1/29fb/lib/site_perl/5.32.1/Mojo/Base.pm line 134.
    # BEGIN failed--compilation aborted at /tmp/loop_over_bdir-547602-4c687k/Yancy-1.088-0/blib/lib/Yancy/Backend/Sqlite.pm line 108.
    # Compilation failed in require at t/register.t line 21.
    # Could not load Pg backend: Mojo::Pg version 4.03 or higher required
    # BEGIN failed--compilation aborted at /tmp/loop_over_bdir-547602-4c687k/Yancy-1.088-0/blib/lib/Yancy/Backend/Pg.pm line 128.
    # Compilation failed in require at t/register.t line 37.
    # Could not load Mysql backend: Mojo::mysql version 1.05 or higher required
    # BEGIN failed--compilation aborted at /tmp/loop_over_bdir-547602-4c687k/Yancy-1.088-0/blib/lib/Yancy/Backend/Mysql.pm line 119.
    # Compilation failed in require at t/register.t line 53.
t/register.t ................. ok
t/util.t ..................... ok
All tests successful.
Files=33, Tests=203, 51 wallclock secs ( 0.31 usr  0.17 sys + 31.48 cusr  4.03 csys = 35.99 CPU)
Result: PASS

------------------------------
PREREQUISITES
------------------------------

Prerequisite modules loaded:

requires:

    Module                       Need     Have    
    ---------------------------- -------- --------
    Class::Method::Modifiers     0        2.13    
    Digest                       0        1.17_01 
    Exporter                     0        5.74    
    File::Spec::Functions        0        3.78    
    FindBin                      0        1.51    
    JSON::Validator              5.00     5.05    
    Mojolicious                  9        9.22    
    Mojolicious::Plugin::I18N    1.6      1.6     
    Mojolicious::Plugin::OpenAPI 5.00     5.02    
    perl                         5.016    5.032001
    Role::Tiny                   2.000001 2.002004
    Scalar::Util                 0        1.61    
    Sys::Hostname                0        1.23    
    Text::Balanced               0        2.03    

build_requires:

    Module                       Need     Have    
    ---------------------------- -------- --------
    ExtUtils::MakeMaker          0        7.64    
    File::Spec                   0        3.78    
    File::Temp                   0.2307   0.2311  
    IO::Handle                   0        1.42    
    IPC::Open3                   0        1.21    
    Test::More                   1.001005 1.302188

configure_requires:

    Module                       Need     Have    
    ---------------------------- -------- --------
    ExtUtils::MakeMaker          0        7.64    
    File::ShareDir::Install      0.06     0.13    


------------------------------
ENVIRONMENT AND OTHER CONTEXT
------------------------------

Environment variables:

    AUTOMATED_TESTING = 1
    LANG = en_US.UTF-8
    PATH = /home/sand/bin:/usr/local/bin:/usr/bin:/bin:/usr/games:/usr/local/perl/bin:/usr/X11/bin:/sbin:/usr/sbin
    PERL5LIB = 
    PERL5OPT = 
    PERL5_CPANPLUS_IS_RUNNING = 547615
    PERL5_CPAN_IS_RUNNING = 547615
    PERL_CANARY_STABILITY_NOPROMPT = 1
    PERL_MM_USE_DEFAULT = 1
    PERL_USE_UNSAFE_INC = 1
    SHELL = /usr/bin/zsh
    TERM = screen

Perl special variables (and OS-specific diagnostics, for MSWin32):

    $^X = /home/sand/src/perl/repoperls/installed-perls/host/k93msid/v5.32.1/29fb/bin/perl
    $UID/$EUID = 1005 / 1005
    $GID = 1005 1005
    $EGID = 1005 1005

Perl module toolchain versions installed:

    Module              Have    
    ------------------- --------
    CPAN                2.33    
    CPAN::Meta          2.150010
    Cwd                 3.78    
    ExtUtils::CBuilder  0.280236
    ExtUtils::Command   7.64    
    ExtUtils::Install   2.14    
    ExtUtils::MakeMaker 7.64    
    ExtUtils::Manifest  1.72    
    ExtUtils::ParseXS   3.40    
    File::Spec          3.78    
    JSON                4.05    
    JSON::PP            4.04    
    Module::Build       0.4231  
    Module::Signature   0.88    
    Parse::CPAN::Meta   2.150010
    Test::Harness       3.42    
    Test::More          1.302188
    YAML                1.30    
    YAML::Syck          1.34    
    version             0.9929  


--

Summary of my perl5 (revision 5 version 32 subversion 1) configuration:
  Commit id: df9d952d734ef94233ed84af97ca318d7972eed0
  Platform:
    osname=linux
    osvers=5.15.0-2-amd64
    archname=x86_64-linux-thread-multi
    uname='linux k93msid 5.15.0-2-amd64 #1 smp debian 5.15.5-2 (2021-12-18) x86_64 gnulinux '
    config_args='-Dprefix=/home/sand/src/perl/repoperls/installed-perls/host/k93msid/v5.32.1/29fb -Dmyhostname=k93msid -Dinstallusrbinperl=n -Uversiononly -Dusedevel -des -Ui_db -Dlibswanted=cl pthread socket inet nsl gdbm dbm malloc dl ld sun m crypt sec util c cposix posix ucb BSD gdbm_compat -Duseithreads -Uuselongdouble -DEBUGGING=both'
    hint=recommended
    useposix=true
    d_sigaction=define
    useithreads=define
    usemultiplicity=define
    use64bitint=define
    use64bitall=define
    uselongdouble=undef
    usemymalloc=n
    default_inc_excludes_dot=define
    bincompat5005=undef
  Compiler:
    cc='cc'
    ccflags ='-D_REENTRANT -D_GNU_SOURCE -fwrapv -DDEBUGGING -fno-strict-aliasing -pipe -fstack-protector-strong -I/usr/local/include -D_LARGEFILE_SOURCE -D_FILE_OFFSET_BITS=64 -D_FORTIFY_SOURCE=2'
    optimize='-O2 -g'
    cppflags='-D_REENTRANT -D_GNU_SOURCE -fwrapv -DDEBUGGING -fno-strict-aliasing -pipe -fstack-protector-strong -I/usr/local/include'
    ccversion=''
    gccversion='11.2.0'
    gccosandvers=''
    intsize=4
    longsize=8
    ptrsize=8
    doublesize=8
    byteorder=12345678
    doublekind=3
    d_longlong=define
    longlongsize=8
    d_longdbl=define
    longdblsize=16
    longdblkind=3
    ivtype='long'
    ivsize=8
    nvtype='double'
    nvsize=8
    Off_t='off_t'
    lseeksize=8
    alignbytes=8
    prototype=define
  Linker and Libraries:
    ld='cc'
    ldflags =' -fstack-protector-strong -L/usr/local/lib'
    libpth=/usr/local/lib /usr/include/x86_64-linux-gnu /usr/lib /lib/x86_64-linux-gnu /lib/../lib /usr/lib/x86_64-linux-gnu /usr/lib/../lib /lib
    libs=-lpthread -lnsl -ldl -lm -lcrypt -lutil -lc
    perllibs=-lpthread -lnsl -ldl -lm -lcrypt -lutil -lc
    libc=libc-2.33.so
    so=so
    useshrplib=false
    libperl=libperl.a
    gnulibc_version='2.33'
  Dynamic Linking:
    dlsrc=dl_dlopen.xs
    dlext=so
    d_dlsymun=undef
    ccdlflags='-Wl,-E'
    cccdlflags='-fPIC'
    lddlflags='-shared -O2 -g -L/usr/local/lib -fstack-protector-strong'


Characteristics of this binary (from libperl): 
  Compile-time options:
    DEBUGGING
    HAS_TIMES
    MULTIPLICITY
    PERLIO_LAYERS
    PERL_COPY_ON_WRITE
    PERL_DONT_CREATE_GVSV
    PERL_IMPLICIT_CONTEXT
    PERL_MALLOC_WRAP
    PERL_OP_PARENT
    PERL_PRESERVE_IVUV
    PERL_TRACK_MEMPOOL
    PERL_USE_DEVEL
    USE_64_BIT_ALL
    USE_64_BIT_INT
    USE_ITHREADS
    USE_LARGE_FILES
    USE_LOCALE
    USE_LOCALE_COLLATE
    USE_LOCALE_CTYPE
    USE_LOCALE_NUMERIC
    USE_LOCALE_TIME
    USE_PERLIO
    USE_PERL_ATOF
    USE_REENTRANT_API
    USE_THREAD_SAFE_LOCALE
  Built under linux
  Compiled at Feb 16 2022 11:03:39
  %ENV:
    PERL5LIB=""
    PERL5OPT=""
    PERL5_CPANPLUS_IS_RUNNING="547615"
    PERL5_CPAN_IS_RUNNING="547615"
    PERL_CANARY_STABILITY_NOPROMPT="1"
    PERL_MM_USE_DEFAULT="1"
    PERL_USE_UNSAFE_INC="1"
  @INC:
    /home/sand/src/perl/repoperls/installed-perls/host/k93msid/v5.32.1/29fb/lib/site_perl/5.32.1/x86_64-linux-thread-multi
    /home/sand/src/perl/repoperls/installed-perls/host/k93msid/v5.32.1/29fb/lib/site_perl/5.32.1
    /home/sand/src/perl/repoperls/installed-perls/host/k93msid/v5.32.1/29fb/lib/5.32.1/x86_64-linux-thread-multi
    /home/sand/src/perl/repoperls/installed-perls/host/k93msid/v5.32.1/29fb/lib/5.32.1
    .