Path-Tiny v0.144 Perl 5 v5.22.1 x86_64-linux-ld
- Status
- Pass
- From
- Andreas J. König (ANDK)
- Dist
-
Path-Tiny v0.144
- Platform
- Perl 5 v5.22.1 x86_64-linux-ld
- Date
- 2024-01-21 03:58:19
- ID
- 500223ee-b811-11ee-be84-ef7386ffe57e
This distribution has been tested as part of the CPAN Testers
project, supporting the Perl programming language. See
http://wiki.cpantesters.org/ for more information or email
questions to cpan-testers-discuss@perl.org
--
Dear David Golden,
This is a computer-generated report for Path-Tiny-0.144
on perl 5.22.1, created by CPAN-Reporter-1.2019.
Thank you for uploading your work to CPAN. Congratulations!
All tests were successful.
Sections of this report:
* Tester comments
* Program output
* Prerequisites
* Environment and other context
------------------------------
TESTER COMMENTS
------------------------------
Additional comments from tester:
this report is from an automated smoke testing program
and was not reviewed by a human for accuracy
------------------------------
PROGRAM OUTPUT
------------------------------
Output from '/usr/bin/make test':
PERL_DL_NONLAZY=1 "/home/sand/src/perl/repoperls/installed-perls/host/k93msid/v5.22.1/fc43/bin/perl" "-MExtUtils::Command::MM" "-MTest::Harness" "-e" "undef *Test::Harness::Switches; test_harness(0, 'blib/lib', 'blib/arch')" t/*.t
#
# Versions for all modules listed in MYMETA.json (including optional ones):
#
# === Configure Requires ===
#
# Module Want Have
# ------------------- ---- ----
# ExtUtils::MakeMaker 6.17 7.70
#
# === Configure Suggests ===
#
# Module Want Have
# -------- ------- ----
# JSON::PP 2.27300 4.16
#
# === Build Requires ===
#
# Module Want Have
# ------------------- ---- ----
# ExtUtils::MakeMaker any 7.70
#
# === Test Requires ===
#
# Module Want Have
# --------------------- ---- --------
# Digest::MD5 any 2.54
# ExtUtils::MakeMaker any 7.70
# File::Basename any 2.85
# File::Spec 0.86 3.75
# File::Spec::Functions any 3.75
# File::Spec::Unix any 3.75
# File::Temp 0.19 0.2311
# Test::More 0.96 1.302198
# lib any 0.63
# open any 1.10
#
# === Test Recommends ===
#
# Module Want Have
# ------------------ -------- --------
# CPAN::Meta 2.120900 2.150010
# Test::FailWarnings any 0.008
# Test::MockRandom any missing
#
# === Runtime Requires ===
#
# Module Want Have
# ------------------ ---- ------
# Carp any 1.36
# Cwd any 3.75
# Digest 1.03 1.17
# Digest::SHA 5.45 6.04
# Encode any 3.20
# Exporter 5.57 5.72
# Fcntl any 1.13
# File::Compare any 1.1006
# File::Copy any 2.30
# File::Glob any 1.24
# File::Path 2.07 2.09
# File::Spec 0.86 3.75
# File::Temp 0.19 0.2311
# File::stat any 1.07
# constant any 1.33
# overload any 1.26
# strict any 1.09
# warnings any 1.34
# warnings::register any 1.04
#
# === Runtime Recommends ===
#
# Module Want Have
# ------------- ---- -------
# Unicode::UTF8 0.58 missing
#
t/00-report-prereqs.t ............. ok
t/basename.t ...................... ok
t/basic.t ......................... ok
t/children.t ...................... ok
t/chmod.t ......................... ok
t/digest.t ........................ ok
t/exception.t ..................... ok
t/exports.t ....................... ok
t/filesystem.t .................... ok
t/has_same_bytes.t ................ ok
t/input_output.t .................. ok
t/input_output_no_PU_UU.t ......... ok
t/input_output_no_UU.t ............ ok
t/locking.t ....................... ok
t/mkdir.t ......................... ok
t/mkpath.t ........................ ok
t/mutable_tree_while_iterating.t .. ok
t/normalize.t ..................... ok
t/overloading.t ................... ok
t/parent.t ........................ ok
t/recurse.t ....................... ok
t/rel-abs.t ....................... ok
t/sig_die.t ....................... ok
t/size.t .......................... ok
t/subsumes.t ...................... ok
t/symlinks.t ...................... ok
t/temp.t .......................... ok
t/visit.t ......................... ok
t/zz-atomic.t ..................... skipped: Test::MockRandom required for atomicity tests
t/zzz-spec.t ...................... ok
All tests successful.
Files=30, Tests=1769, 5 wallclock secs ( 0.31 usr 0.08 sys + 3.27 cusr 0.77 csys = 4.43 CPU)
Result: PASS
------------------------------
PREREQUISITES
------------------------------
Prerequisite modules loaded:
requires:
Module Need Have
--------------------- -------- --------
Carp 0 1.36
constant 0 1.33
Cwd 0 3.75
Digest 1.03 1.17
Digest::SHA 5.45 6.04
Encode 0 3.20
Exporter 5.57 5.72
Fcntl 0 1.13
File::Compare 0 1.1006
File::Copy 0 2.30
File::Glob 0 1.24
File::Path 2.07 2.09
File::Spec 0.86 3.75
File::stat 0 1.07
File::Temp 0.19 0.2311
overload 0 1.26
perl 5.008001 5.022001
strict 0 1.09
warnings 0 1.34
warnings::register 0 1.04
build_requires:
Module Need Have
--------------------- -------- --------
Digest::MD5 0 2.54
ExtUtils::MakeMaker 0 7.70
File::Basename 0 2.85
File::Spec 0.86 3.75
File::Spec::Functions 0 3.75
File::Spec::Unix 0 3.75
File::Temp 0.19 0.2311
lib 0 0.63
open 0 1.10
Test::More 0.96 1.302198
configure_requires:
Module Need Have
--------------------- -------- --------
ExtUtils::MakeMaker 6.17 7.70
perl 5.008001 5.022001
opt_requires:
Module Need Have
--------------------- -------- --------
! Unicode::UTF8 0.58 n/a
------------------------------
ENVIRONMENT AND OTHER CONTEXT
------------------------------
Environment variables:
AUTOMATED_TESTING = 1
LANG = en_US.UTF-8
LANGUAGE = en_US:en
PATH = /home/sand/bin:/usr/local/bin:/usr/bin:/bin:/usr/games:/usr/local/perl/bin:/usr/X11/bin:/sbin:/usr/sbin
PERL5LIB =
PERL5OPT =
PERL5_CPANPLUS_IS_RUNNING = 834696
PERL5_CPAN_IS_RUNNING = 834696
PERL_CANARY_STABILITY_NOPROMPT = 1
PERL_MM_USE_DEFAULT = 1
PERL_USE_UNSAFE_INC = 1
SHELL = /usr/bin/zsh
TERM = screen
Perl special variables (and OS-specific diagnostics, for MSWin32):
$^X = /home/sand/src/perl/repoperls/installed-perls/host/k93msid/v5.22.1/fc43/bin/perl
$UID/$EUID = 1005 / 1005
$GID = 1005 1005
$EGID = 1005 1005
Perl module toolchain versions installed:
Module Have
------------------- --------
CPAN 2.36
CPAN::Meta 2.150010
Cwd 3.75
ExtUtils::CBuilder 0.280236
ExtUtils::Command 7.70
ExtUtils::Install 2.06
ExtUtils::MakeMaker 7.70
ExtUtils::Manifest 1.70
ExtUtils::ParseXS 3.28
File::Spec 3.75
JSON 4.10
JSON::PP 4.16
Module::Build 0.4234
Module::Signature 0.88
Parse::CPAN::Meta 2.150010
Test2 1.302198
Test::Harness 3.48
Test::More 1.302198
YAML 1.31
YAML::Syck 1.34
version 0.9930
--
Summary of my perl5 (revision 5 version 22 subversion 1) configuration:
Derived from: 0ab152a1d10861997fe3e1b985cc92f142f4cec7
Platform:
osname=linux, osvers=6.5.0-5-amd64, archname=x86_64-linux-ld
uname='linux k93msid 6.5.0-5-amd64 #1 smp preempt_dynamic debian 6.5.13-1 (2023-11-29) x86_64 gnulinux '
config_args='-Dprefix=/home/sand/src/perl/repoperls/installed-perls/host/k93msid/v5.22.1/fc43 -Dmyhostname=k93msid -Dinstallusrbinperl=n -Uversiononly -Dusedevel -des -Ui_db -Dlibswanted=cl pthread socket inet nsl gdbm dbm malloc dl ld sun m crypt sec util c cposix posix ucb BSD gdbm_compat -Uuseithreads -Duselongdouble -DEBUGGING=both'
hint=recommended, useposix=true, d_sigaction=define
useithreads=undef, usemultiplicity=undef
use64bitint=define, use64bitall=define, uselongdouble=define
usemymalloc=n, bincompat5005=undef
Compiler:
cc='cc', ccflags ='-fwrapv -DDEBUGGING -fno-strict-aliasing -pipe -fstack-protector-strong -I/usr/local/include -D_LARGEFILE_SOURCE -D_FILE_OFFSET_BITS=64 -D_FORTIFY_SOURCE=2',
optimize='-O2 -g',
cppflags='-fwrapv -DDEBUGGING -fno-strict-aliasing -pipe -fstack-protector-strong -I/usr/local/include'
ccversion='', gccversion='13.2.0', gccosandvers=''
intsize=4, longsize=8, ptrsize=8, doublesize=8, byteorder=12345678, doublekind=3
d_longlong=define, longlongsize=8, d_longdbl=define, longdblsize=16, longdblkind=3
ivtype='long', ivsize=8, nvtype='long double', nvsize=16, Off_t='off_t', lseeksize=8
alignbytes=16, prototype=define
Linker and Libraries:
ld='cc', ldflags =' -fstack-protector-strong -L/usr/local/lib'
libpth=/usr/local/lib /usr/include/x86_64-linux-gnu /usr/lib /lib/x86_64-linux-gnu /lib/../lib /usr/lib/x86_64-linux-gnu /usr/lib/../lib /lib /lib64 /usr/lib64
libs=-lpthread -lnsl -ldl -lm -lcrypt -lutil -lc
perllibs=-lpthread -lnsl -ldl -lm -lcrypt -lutil -lc
libc=/lib/x86_64-linux-gnu/libc.so.6, so=so, useshrplib=false, libperl=libperl.a
gnulibc_version='2.37'
Dynamic Linking:
dlsrc=dl_dlopen.xs, dlext=so, d_dlsymun=undef, ccdlflags='-Wl,-E'
cccdlflags='-fPIC', lddlflags='-shared -O2 -g -L/usr/local/lib -fstack-protector-strong'
Characteristics of this binary (from libperl):
Compile-time options: DEBUGGING HAS_TIMES PERLIO_LAYERS
PERL_DONT_CREATE_GVSV
PERL_HASH_FUNC_ONE_AT_A_TIME_HARD PERL_MALLOC_WRAP
PERL_NEW_COPY_ON_WRITE PERL_PRESERVE_IVUV
PERL_USE_DEVEL USE_64_BIT_ALL USE_64_BIT_INT
USE_LARGE_FILES USE_LOCALE USE_LOCALE_COLLATE
USE_LOCALE_CTYPE USE_LOCALE_NUMERIC USE_LOCALE_TIME
USE_LONG_DOUBLE USE_PERLIO USE_PERL_ATOF
Locally applied patches:
uncommitted-changes
Built under linux
Compiled at Jan 20 2024 06:43:45
%ENV:
PERL5LIB=""
PERL5OPT=""
PERL5_CPANPLUS_IS_RUNNING="834696"
PERL5_CPAN_IS_RUNNING="834696"
PERL_CANARY_STABILITY_NOPROMPT="1"
PERL_MM_USE_DEFAULT="1"
PERL_USE_UNSAFE_INC="1"
@INC:
/home/sand/src/perl/repoperls/installed-perls/host/k93msid/v5.22.1/fc43/lib/site_perl/5.22.1/x86_64-linux-ld
/home/sand/src/perl/repoperls/installed-perls/host/k93msid/v5.22.1/fc43/lib/site_perl/5.22.1
/home/sand/src/perl/repoperls/installed-perls/host/k93msid/v5.22.1/fc43/lib/5.22.1/x86_64-linux-ld
/home/sand/src/perl/repoperls/installed-perls/host/k93msid/v5.22.1/fc43/lib/5.22.1
.