Path-Tiny v0.144 Perl 5 v5.10.1 x86_64-linux
- Status
- Pass
- From
- Lukas Mai
- Dist
-
Path-Tiny v0.144
- Platform
- Perl 5 v5.10.1 x86_64-linux
- Date
- 2023-11-16 17:48:12
- ID
- 4fc0a92e-84a8-11ee-9418-9571bac5a0f4
This distribution has been tested as part of the CPAN Testers
project, supporting the Perl programming language. See
http://wiki.cpantesters.org/ for more information or email
questions to cpan-testers-discuss@perl.org
--
Dear David Golden,
This is a computer-generated report for Path-Tiny-0.144
on perl 5.10.1, created by CPAN-Reporter-1.2019.
Thank you for uploading your work to CPAN. Congratulations!
All tests were successful.
Sections of this report:
* Tester comments
* Program output
* Prerequisites
* Environment and other context
------------------------------
TESTER COMMENTS
------------------------------
Additional comments from tester:
none provided
------------------------------
PROGRAM OUTPUT
------------------------------
Output from '/usr/bin/make test':
PERL_DL_NONLAZY=1 "/home/mauke/perl5/perlbrew/perls/perl-5.10.1/bin/perl" "-MExtUtils::Command::MM" "-MTest::Harness" "-e" "undef *Test::Harness::Switches; test_harness(0, 'blib/lib', 'blib/arch')" t/*.t
#
# Versions for all modules listed in MYMETA.json (including optional ones):
#
# === Configure Requires ===
#
# Module Want Have
# ------------------- ---- ----
# ExtUtils::MakeMaker 6.17 7.70
#
# === Configure Suggests ===
#
# Module Want Have
# -------- ------- ----
# JSON::PP 2.27300 4.16
#
# === Build Requires ===
#
# Module Want Have
# ------------------- ---- ----
# ExtUtils::MakeMaker any 7.70
#
# === Test Requires ===
#
# Module Want Have
# --------------------- ---- --------
# Digest::MD5 any 2.39
# ExtUtils::MakeMaker any 7.70
# File::Basename any 2.77
# File::Spec 0.86 3.30
# File::Spec::Functions any 3.30
# File::Spec::Unix any 3.30
# File::Temp 0.19 0.22
# Test::More 0.96 1.302195
# lib any 0.62
# open any 1.07
#
# === Test Recommends ===
#
# Module Want Have
# ------------------ -------- --------
# CPAN::Meta 2.120900 2.143240
# Test::FailWarnings any missing
# Test::MockRandom any missing
#
# === Runtime Requires ===
#
# Module Want Have
# ------------------ ---- -------
# Carp any 1.50
# Cwd any 3.30
# Digest 1.03 1.16
# Digest::SHA 5.45 5.47
# Encode any 2.35
# Exporter 5.57 5.63
# Fcntl any 1.06
# File::Compare any 1.1006
# File::Copy any 2.14
# File::Glob any 1.06
# File::Path 2.07 2.07_03
# File::Spec 0.86 3.30
# File::Temp 0.19 0.22
# File::stat any 1.01
# constant any 1.17
# overload any 1.07
# strict any 1.04
# warnings any 1.06
# warnings::register any 1.01
#
# === Runtime Recommends ===
#
# Module Want Have
# ------------- ---- -------
# Unicode::UTF8 0.58 missing
#
t/00-report-prereqs.t ............. ok
t/basename.t ...................... ok
t/basic.t ......................... ok
t/children.t ...................... ok
t/chmod.t ......................... ok
t/digest.t ........................ ok
t/exception.t ..................... ok
t/exports.t ....................... ok
t/filesystem.t .................... ok
t/has_same_bytes.t ................ ok
t/input_output.t .................. ok
t/input_output_no_PU_UU.t ......... ok
t/input_output_no_UU.t ............ ok
t/locking.t ....................... ok
t/mkdir.t ......................... ok
t/mkpath.t ........................ ok
t/mutable_tree_while_iterating.t .. ok
t/normalize.t ..................... ok
t/overloading.t ................... ok
t/parent.t ........................ ok
t/recurse.t ....................... ok
t/rel-abs.t ....................... ok
t/sig_die.t ....................... ok
t/size.t .......................... ok
t/subsumes.t ...................... ok
t/symlinks.t ...................... ok
t/temp.t .......................... ok
t/visit.t ......................... ok
t/zz-atomic.t ..................... skipped: Test::MockRandom required for atomicity tests
t/zzz-spec.t ...................... ok
All tests successful.
Files=30, Tests=1769, 2 wallclock secs ( 0.20 usr 0.04 sys + 1.78 cusr 0.32 csys = 2.34 CPU)
Result: PASS
------------------------------
PREREQUISITES
------------------------------
Prerequisite modules loaded:
requires:
Module Need Have
--------------------- -------- --------
Carp 0 1.50
constant 0 1.17
Cwd 0 3.30
Digest 1.03 1.16
Digest::SHA 5.45 5.47
Encode 0 2.35
Exporter 5.57 5.63
Fcntl 0 1.06
File::Compare 0 1.1006
File::Copy 0 2.14
File::Glob 0 1.06
File::Path 2.07 2.07_03
File::Spec 0.86 3.30
File::stat 0 1.01
File::Temp 0.19 0.22
overload 0 1.07
perl 5.008001 5.010001
strict 0 1.04
warnings 0 1.06
warnings::register 0 1.01
build_requires:
Module Need Have
--------------------- -------- --------
Digest::MD5 0 2.39
ExtUtils::MakeMaker 0 7.70
File::Basename 0 2.77
File::Spec 0.86 3.30
File::Spec::Functions 0 3.30
File::Spec::Unix 0 3.30
File::Temp 0.19 0.22
lib 0 0.62
open 0 1.07
Test::More 0.96 1.302195
configure_requires:
Module Need Have
--------------------- -------- --------
ExtUtils::MakeMaker 6.17 7.70
perl 5.008001 5.010001
opt_requires:
Module Need Have
--------------------- -------- --------
! Unicode::UTF8 0.58 n/a
opt_build_requires:
Module Need Have
--------------------- -------- --------
CPAN::Meta 2.120900 2.143240
! Test::FailWarnings 0 n/a
! Test::MockRandom 0 n/a
------------------------------
ENVIRONMENT AND OTHER CONTEXT
------------------------------
Environment variables:
LANG = en_US.UTF-8
LANGUAGE = en_US:en
LC_ADDRESS = de_DE.UTF-8
LC_COLLATE = POSIX
LC_IDENTIFICATION = de_DE.UTF-8
LC_MEASUREMENT = de_DE.UTF-8
LC_MONETARY = de_DE.UTF-8
LC_NAME = de_DE.UTF-8
LC_NUMERIC = en_US.UTF-8
LC_PAPER = de_DE.UTF-8
LC_TELEPHONE = de_DE.UTF-8
LC_TIME = de_DE.UTF-8
NONINTERACTIVE_TESTING = 1
PATH = /home/mauke/perl5/perlbrew/bin:/home/mauke/perl5/perlbrew/perls/perl-5.38.0/bin:/home/mauke/bin:/home/mauke/.local/bin:/home/mauke/.cargo/bin:/home/mauke/.ghcup/bin:/usr/local/sbin:/usr/local/bin:/usr/sbin:/usr/bin:/sbin:/bin:/usr/games:/usr/local/games:/snap/bin:/snap/bin
PERL5LIB =
PERL5OPT =
PERL5_CPANPLUS_IS_RUNNING = 635926
PERL5_CPAN_IS_RUNNING = 635926
PERLBREW_BASHRC_VERSION = 0.74
PERLBREW_HOME = /home/mauke/.perlbrew
PERLBREW_MANPATH = /home/mauke/perl5/perlbrew/perls/perl-5.38.0/man
PERLBREW_PATH = /home/mauke/perl5/perlbrew/bin:/home/mauke/perl5/perlbrew/perls/perl-5.38.0/bin
PERLBREW_PERL = perl-5.38.0
PERLBREW_ROOT = /home/mauke/perl5/perlbrew
PERLBREW_VERSION = 0.94
PERLDOC = -oman
PERL_MM_USE_DEFAULT = 1
PERL_UNICODE = SAL
PERL_USE_UNSAFE_INC = 1
SHELL = /bin/bash
TERM = tmux-256color
Perl special variables (and OS-specific diagnostics, for MSWin32):
$^X = /home/mauke/perl5/perlbrew/perls/perl-5.10.1/bin/perl
$UID/$EUID = 1000 / 1000
$GID = 1000 4 24 27 29 30 44 46 113 129 144 1000
$EGID = 1000 4 24 27 29 30 44 46 113 129 144 1000
Perl module toolchain versions installed:
Module Have
------------------- --------
CPAN 2.36
CPAN::Meta 2.143240
Cwd 3.30
ExtUtils::CBuilder 0.2602
ExtUtils::Command 7.70
ExtUtils::Install 2.06
ExtUtils::MakeMaker 7.70
ExtUtils::Manifest 1.70
ExtUtils::ParseXS 2.2002
File::Spec 3.30
JSON n/a
JSON::PP 4.16
Module::Build 0.340201
Module::Signature n/a
Parse::CPAN::Meta 1.4414
Test2 1.302195
Test::Harness 3.48
Test::More 1.302195
YAML n/a
YAML::Syck n/a
version 0.9930
--
Summary of my perl5 (revision 5 version 10 subversion 1) configuration:
Platform:
osname=linux, osvers=6.5.0-10008-tuxedo, archname=x86_64-linux
uname='linux luum 6.5.0-10008-tuxedo #8 smp preempt_dynamic mon nov 6 14:48:30 utc 2023 x86_64 x86_64 x86_64 gnulinux '
config_args='-de -Dprefix=/home/mauke/perl5/perlbrew/perls/perl-5.10.1 -Dcc=cgcc -Aeval:scriptdir=/home/mauke/perl5/perlbrew/perls/perl-5.10.1/bin'
hint=recommended, useposix=true, d_sigaction=define
useithreads=undef, usemultiplicity=undef
useperlio=define, d_sfio=undef, uselargefiles=define, usesocks=undef
use64bitint=define, use64bitall=define, uselongdouble=undef
usemymalloc=n, bincompat5005=undef
Compiler:
cc='cgcc', ccflags ='-fwrapv -fno-strict-aliasing -pipe -fstack-protector -I/usr/local/include -D_LARGEFILE_SOURCE -D_FILE_OFFSET_BITS=64',
optimize='-O2',
cppflags='-fwrapv -fno-strict-aliasing -pipe -fstack-protector -I/usr/local/include'
ccversion='', gccversion='11.4.0', gccosandvers=''
intsize=4, longsize=8, ptrsize=8, doublesize=8, byteorder=12345678
d_longlong=define, longlongsize=8, d_longdbl=define, longdblsize=16
ivtype='long', ivsize=8, nvtype='double', nvsize=8, Off_t='off_t', lseeksize=8
alignbytes=8, prototype=define
Linker and Libraries:
ld='cgcc', ldflags =' -fstack-protector -L/usr/local/lib'
libpth=/usr/local/lib /lib/x86_64-linux-gnu /lib/../lib /usr/lib/x86_64-linux-gnu /usr/lib/../lib /lib /usr/lib /lib64 /usr/lib64
libs=-lnsl -ldb -ldl -lm -lcrypt -lutil -lc
perllibs=-lnsl -ldl -lm -lcrypt -lutil -lc
libc=/lib/x86_64-linux-gnu/libc.so.6, so=so, useshrplib=false, libperl=libperl.a
gnulibc_version='2.35'
Dynamic Linking:
dlsrc=dl_dlopen.xs, dlext=so, d_dlsymun=undef, ccdlflags='-Wl,-E'
cccdlflags='-fPIC', lddlflags='-shared -O2 -L/usr/local/lib -fstack-protector'
Characteristics of this binary (from libperl):
Compile-time options: PERL_DONT_CREATE_GVSV PERL_MALLOC_WRAP USE_64_BIT_ALL
USE_64_BIT_INT USE_LARGE_FILES USE_PERLIO
Locally applied patches:
Devel::PatchPerl 2.08
Built under linux
Compiled at Nov 16 2023 18:26:41
%ENV:
PERL5LIB=""
PERL5OPT=""
PERL5_CPANPLUS_IS_RUNNING="635926"
PERL5_CPAN_IS_RUNNING="635926"
PERLBREW_BASHRC_VERSION="0.74"
PERLBREW_HOME="/home/mauke/.perlbrew"
PERLBREW_MANPATH="/home/mauke/perl5/perlbrew/perls/perl-5.38.0/man"
PERLBREW_PATH="/home/mauke/perl5/perlbrew/bin:/home/mauke/perl5/perlbrew/perls/perl-5.38.0/bin"
PERLBREW_PERL="perl-5.38.0"
PERLBREW_ROOT="/home/mauke/perl5/perlbrew"
PERLBREW_VERSION="0.94"
PERLDOC="-oman"
PERL_MM_USE_DEFAULT="1"
PERL_UNICODE="SAL"
PERL_USE_UNSAFE_INC="1"
@INC:
/home/mauke/perl5/perlbrew/perls/perl-5.10.1/lib/5.10.1/x86_64-linux
/home/mauke/perl5/perlbrew/perls/perl-5.10.1/lib/5.10.1
/home/mauke/perl5/perlbrew/perls/perl-5.10.1/lib/site_perl/5.10.1/x86_64-linux
/home/mauke/perl5/perlbrew/perls/perl-5.10.1/lib/site_perl/5.10.1
.