FunctionalPerl v0.72.76 Perl 5 v5.36.0 amd64-freebsd-ld
- Status
- Pass
- From
- Slaven Rezić
- Dist
-
FunctionalPerl v0.72.76
- Platform
- Perl 5 v5.36.0 amd64-freebsd-ld
- Date
- 2023-01-22 15:27:41
- ID
- 4faa3eb6-9a69-11ed-8995-50f26d8775ea
This distribution has been tested as part of the CPAN Testers
project, supporting the Perl programming language. See
http://wiki.cpantesters.org/ for more information or email
questions to cpan-testers-discuss@perl.org
--
Dear Christian Jaeger,
This is a computer-generated report for FunctionalPerl-0.72.76
on perl 5.36.0, created by CPAN-Reporter-1.2018.
Thank you for uploading your work to CPAN. Congratulations!
All tests were successful.
Sections of this report:
* Tester comments
* Program output
* Prerequisites
* Environment and other context
------------------------------
TESTER COMMENTS
------------------------------
Additional comments from tester:
none provided
------------------------------
PROGRAM OUTPUT
------------------------------
Output from '/usr/bin/make test':
PERL_DL_NONLAZY=1 "/usr/perl5.36.0Dp/bin/perl" "-MExtUtils::Command::MM" "-MTest::Harness" "-e" "undef *Test::Harness::Switches; test_harness(0, 'blib/lib', 'blib/arch')" t/*.t
t/csv_to_xml.t ........................... ok
t/dbi.t .................................. ok
t/examples-csv-to-json.t ................. ok
times for fib: user = 0.09375, system = 0, cuser = 0, csystem = 0
times for fibonacci: user = 1, system = 0, cuser = 0, csystem = 0
t/examples-fibs.t ........................ ok
t/examples-functional-classes.t .......... ok
not activating since running in test mode at examples//../lib/FP/Repl/Trap.pm line 47.
t/examples-hiring-without-whiteboards.t .. ok
not activating since running in test mode at examples//../lib/FP/Repl/Trap.pm line 47.
t/examples-logic.t ....................... ok
t/examples-perlweekly-111-1.t ............ ok
times: user = 0.015625, system = 0.0078125, cuser = 0, csystem = 0
times: user = 0.03125, system = 0, cuser = 0, csystem = 0
times: user = 0.03125, system = 0, cuser = 0, csystem = 0
t/examples-perlweekly-113-1.t ............ ok
t/examples-perlweekly-113-2.t ............ ok
t/examples-primes.t ...................... skipped: could not use Method::Signatures
t/functional_XML-t-div.t ................. ok
t/functional_XML-test.t .................. ok
Use of @_ in list assignment with signatured subroutine is experimental at ../.htmlgen/FunctionalPerl/Htmlgen/PathTranslate.pm line 77.
Implicit use of @_ in goto with signatured subroutine is experimental at ../.htmlgen/FunctionalPerl/Htmlgen/PathTranslate.pm line 77.
Use of @_ in list assignment with signatured subroutine is experimental at ../.htmlgen/FunctionalPerl/Htmlgen/PathTranslate.pm line 81.
Implicit use of @_ in goto with signatured subroutine is experimental at ../.htmlgen/FunctionalPerl/Htmlgen/PathTranslate.pm line 81.
Use of @_ in list assignment with signatured subroutine is experimental at ../.htmlgen/FunctionalPerl/Htmlgen/PathTranslate.pm line 83.
Implicit use of @_ in goto with signatured subroutine is experimental at ../.htmlgen/FunctionalPerl/Htmlgen/PathTranslate.pm line 83.
t/htmlgen.t .............................. ok
not activating since running in test mode at intro//../lib/FP/Repl/AutoTrap.pm line 64.
t/intro-basics.t ......................... ok
t/perl-goto-leak.t ....................... ok
t/perl-weaken-coderef-correctness.t ...... ok
t/perl-weaken-coderef.t .................. ok
Exception: Label not found for "last T2_SUBTEST_WRAPPER" at /usr/perl5.36.0Dp/lib/site_perl/5.36.0/Test2/Hub/Subtest.pm line 67.
at /usr/perl5.36.0Dp/lib/site_perl/5.36.0/Test2/Hub/Subtest.pm line 67.
Test2::Hub::Subtest::terminate(Test2::Hub::Subtest=HASH(0x84a67b558), 0, Test2::Event::Plan=HASH(0x84a65eee8), HASH(0x84a682d20)) called at /usr/perl5.36.0Dp/lib/site_perl/5.36.0/Test2/Hub.pm line 386
Test2::Hub::process(Test2::Hub::Subtest=HASH(0x84a67b558), Test2::Event::Plan=HASH(0x84a65eee8)) called at /usr/perl5.36.0Dp/lib/site_perl/5.36.0/Test2/Hub.pm line 306
Test2::Hub::send(Test2::Hub::Subtest=HASH(0x84a67b558), Test2::Event::Plan=HASH(0x84a65eee8)) called at /usr/perl5.36.0Dp/lib/site_perl/5.36.0/Test2/Hub/Subtest.pm line 34
Test2::Hub::Subtest::send(Test2::Hub::Subtest=HASH(0x84a67b558), Test2::Event::Plan=HASH(0x84a65eee8)) called at /usr/perl5.36.0Dp/lib/site_perl/5.36.0/Test2/API/Context.pm line 272
Test2::API::Context::send_event(Test2::API::Context=HASH(0x84a682c90), "Plan", "max", 0, "directive", "SKIP", "reason", "FunctionalPerl::Dependencies::ChjBin import: these programs a"...) called at /usr/perl5.36.0Dp/lib/site_perl/5.36.0/Test2/API/Context.pm line 448
Test2::API::Context::plan(Test2::API::Context=HASH(0x84a682c90), 0, "SKIP", "FunctionalPerl::Dependencies::ChjBin import: these programs a"...) called at /usr/perl5.36.0Dp/lib/site_perl/5.36.0/Test/Builder.pm line 660
Test::Builder::skip_all(Test::Builder=HASH(0x82f79c1b0), "FunctionalPerl::Dependencies::ChjBin import: these programs a"...) called at /usr/perl5.36.0Dp/lib/site_perl/5.36.0/Test/Requires.pm line 44
Test::Requires::__ANON__("FunctionalPerl::Dependencies::ChjBin import: these programs a"...) called at /usr/perl5.36.0Dp/lib/site_perl/5.36.0/Test/Requires.pm line 71
Test::Requires::test_requires("FunctionalPerl::Dependencies::ChjBin", "\"trigger-listen\"", "t_pod_snippets_112") called at /usr/perl5.36.0Dp/lib/site_perl/5.36.0/Test/Requires.pm line 21
Test::Requires::import("Test::Requires", HASH(0x844860360)) called at meta/FunctionalPerl/Dependencies/ChjBin.pm line 19
t_pod_snippets_112::BEGIN() called at meta/FunctionalPerl/Dependencies/ChjBin.pm line 19
eval {...} called at meta/FunctionalPerl/Dependencies/ChjBin.pm line 19
eval 'package main; package t_pod_snippets_112; use Test::More ;
{
no warnings;
use strict; # things are likely to be sloppy
ok 1 => \'the tests compile\';
#line 16 meta/FunctionalPerl/Dependencies/ChjBin.pm
use Chj::TEST use => \'FunctionalPerl::Dependencies::ChjBin\';
# or
use Test::Requires +{
\'FunctionalPerl::Dependencies::ChjBin\' => \'"trigger-listen"\' };
# or
# list in FunctionalPerl::Dependencies\'s %dependencies
;
ok 1 => \'we reached the end!\';
}
;
1' called at lib/FP/Repl/WithRepl.pm line 75
FP::Repl::WithRepl::WithRepl_eval("package t_pod_snippets_112; use Test::More ;\x{a}{\x{a}no warnings;\x{a}u"...) called at t/pod_snippets.t line 37
main::myeval("package t_pod_snippets_112; use Test::More ;\x{a}{\x{a}no warnings;\x{a}u"...) called at t/pod_snippets.t line 158
main::__ANON__() called at /usr/perl5.36.0Dp/lib/site_perl/5.36.0/Test/Builder.pm line 374
eval {...} called at /usr/perl5.36.0Dp/lib/site_perl/5.36.0/Test/Builder.pm line 374
Test::Builder::subtest(Test::Builder=HASH(0x82f79c1b0), "pod snippets in FunctionalPerl::Dependencies::ChjBin", CODE(0x839951c90)) called at /usr/perl5.36.0Dp/lib/site_perl/5.36.0/Test/More.pm line 809
Test::More::subtest("pod snippets in FunctionalPerl::Dependencies::ChjBin", CODE(0x839951c90)) called at t/pod_snippets.t line 183
BEGIN failed--compilation aborted at meta/FunctionalPerl/Dependencies/ChjBin.pm line 19.
at meta/FunctionalPerl/Dependencies/ChjBin.pm line 19.
eval 'package main; package t_pod_snippets_112; use Test::More ;
{
no warnings;
use strict; # things are likely to be sloppy
ok 1 => \'the tests compile\';
#line 16 meta/FunctionalPerl/Dependencies/ChjBin.pm
use Chj::TEST use => \'FunctionalPerl::Dependencies::ChjBin\';
# or
use Test::Requires +{
\'FunctionalPerl::Dependencies::ChjBin\' => \'"trigger-listen"\' };
# or
# list in FunctionalPerl::Dependencies\'s %dependencies
;
ok 1 => \'we reached the end!\';
}
;
1' called at lib/FP/Repl/WithRepl.pm line 75
FP::Repl::WithRepl::WithRepl_eval("package t_pod_snippets_112; use Test::More ;\x{a}{\x{a}no warnings;\x{a}u"...) called at t/pod_snippets.t line 37
main::myeval("package t_pod_snippets_112; use Test::More ;\x{a}{\x{a}no warnings;\x{a}u"...) called at t/pod_snippets.t line 158
main::__ANON__() called at /usr/perl5.36.0Dp/lib/site_perl/5.36.0/Test/Builder.pm line 374
eval {...} called at /usr/perl5.36.0Dp/lib/site_perl/5.36.0/Test/Builder.pm line 374
Test::Builder::subtest(Test::Builder=HASH(0x82f79c1b0), "pod snippets in FunctionalPerl::Dependencies::ChjBin", CODE(0x839951c90)) called at /usr/perl5.36.0Dp/lib/site_perl/5.36.0/Test/More.pm line 809
Test::More::subtest("pod snippets in FunctionalPerl::Dependencies::ChjBin", CODE(0x839951c90)) called at t/pod_snippets.t line 183
# Failed test 'pod snippets in FunctionalPerl::Dependencies::ChjBin'
# at t/pod_snippets.t line 177.
# Looks like you failed 1 test of 1.
t/pod_snippets.t ......................... ok
t/predicates.t ........................... ok
t/repl.t ................................. ok
Use of @_ in list assignment with signatured subroutine is experimental at .htmlgen/FunctionalPerl/Htmlgen/PathTranslate.pm line 77.
Implicit use of @_ in goto with signatured subroutine is experimental at .htmlgen/FunctionalPerl/Htmlgen/PathTranslate.pm line 77.
Use of @_ in list assignment with signatured subroutine is experimental at .htmlgen/FunctionalPerl/Htmlgen/PathTranslate.pm line 81.
Implicit use of @_ in goto with signatured subroutine is experimental at .htmlgen/FunctionalPerl/Htmlgen/PathTranslate.pm line 81.
Use of @_ in list assignment with signatured subroutine is experimental at .htmlgen/FunctionalPerl/Htmlgen/PathTranslate.pm line 83.
Implicit use of @_ in goto with signatured subroutine is experimental at .htmlgen/FunctionalPerl/Htmlgen/PathTranslate.pm line 83.
not activating since running in test mode at lib/FP/Repl/AutoTrap.pm line 64.
not activating since running in test mode at lib/FP/Repl/Trap.pm line 47.
Reference is already weak at lib/FP/Stream.pm line 770.
t/require_and_run_tests.t ................ ok
t/skip-internal.t ........................ ok
t/skip-leak.t ............................ ok
t/skip.t ................................. ok
t/testlazy.t ............................. ok
t/testlazy10.t ........................... ok
t/trampoline-fix.t ....................... skipped: Test requires module 'Method::Signatures' but it's not found
All tests successful.
Files=28, Tests=182, 17 wallclock secs ( 0.24 usr 0.05 sys + 14.98 cusr 1.81 csys = 17.09 CPU)
Result: PASS
------------------------------
PREREQUISITES
------------------------------
Prerequisite modules loaded:
requires:
Module Need Have
------------------- -------- --------
autobox 0 v3.0.1
base 0 2.27
Digest 0 1.20
File::Path 0 2.18
Getopt::Long 0 2.52
Import::Into 0 1.002005
Math::BigInt 0 1.999837
NEXT 0 0.69
perl 5.016004 5.036000
PerlIO::utf8_strict 0 0.009
Safe::Isa 0 1.000010
Scalar::Util 0 1.63
Symbol 0 1.09
Test::More 0.96 1.302191
utf8 0 1.24
build_requires:
Module Need Have
------------------- -------- --------
BSD::Resource 0 1.2911
Capture::Tiny 0 0.48
DBD::CSV 0 0.60
DBI 0 1.643
ExtUtils::MakeMaker 0 7.66
File::chdir 0 0.1010
Sub::Util 0 1.63
Test::Pod::Snippets 0 0.07
Test::Requires 0 0.11
Text::CSV 0 2.02
URI 0 5.16
configure_requires:
Module Need Have
------------------- -------- --------
ExtUtils::MakeMaker 0 7.66
------------------------------
ENVIRONMENT AND OTHER CONTEXT
------------------------------
Environment variables:
PATH = /usr/local/bin:/usr/bin:/bin:/usr/local/sbin:/usr/sbin:/sbin:/home/cpansand/bin/sh:/home/cpansand/bin:/usr/games:/home/cpansand/devel:/usr/home/eserte/src/srezic-misc/scripts
PERL5LIB = /home/cpansand/.cpan/build/2023012215/Test-Pod-Snippets-0.07-1/blib/arch:/home/cpansand/.cpan/build/2023012215/Test-Pod-Snippets-0.07-1/blib/lib:/home/cpansand/.cpan/build/2023012215/Module-Locate-1.80-1/blib/arch:/home/cpansand/.cpan/build/2023012215/Module-Locate-1.80-1/blib/lib:/home/cpansand/.cpan/build/2023012215/BSD-Resource-1.2911-1/blib/arch:/home/cpansand/.cpan/build/2023012215/BSD-Resource-1.2911-1/blib/lib
PERL5OPT =
PERL5_CPANPLUS_IS_RUNNING = 65007
PERL5_CPAN_IS_RUNNING = 65007
PERL5_CPAN_IS_RUNNING_IN_RECURSION = 64060,65007
PERL_BATCH = yes
PERL_CANARY_STABILITY_NOPROMPT = 1
PERL_CPAN_REPORTER_CONFIG = /var/tmp/cpansmoker-1023/2023012215/cpanreporter_000_config.ini
PERL_EXTUTILS_AUTOINSTALL = --defaultdeps
PERL_USE_UNSAFE_INC = 1
SHELL = /bin/sh
TMPDIR = /var/tmp/cpansmoker-1023/2023012215
Perl special variables (and OS-specific diagnostics, for MSWin32):
$^X = /usr/perl5.36.0Dp/bin/perl
$UID/$EUID = 1023 / 1023
$GID = 1023 1023
$EGID = 1023 1023
Perl module toolchain versions installed:
Module Have
------------------- --------
CPAN 2.33
CPAN::Meta 2.150010
Cwd 3.84
ExtUtils::CBuilder 0.280236
ExtUtils::Command 7.66
ExtUtils::Install 2.20
ExtUtils::MakeMaker 7.66
ExtUtils::Manifest 1.73
ExtUtils::ParseXS 3.45
File::Spec 3.84
JSON 4.09
JSON::PP 4.15
Module::Build 0.4231
Module::Signature n/a
Parse::CPAN::Meta 2.150010
Test::Harness 3.44
Test::More 1.302191
YAML 1.30
YAML::Syck 1.34
version 0.9929
--
Summary of my perl5 (revision 5 version 36 subversion 0) configuration:
Platform:
osname=freebsd
osvers=13.1-stable
archname=amd64-freebsd-ld
uname='freebsd cloud10.bbbike.org 13.1-stable freebsd 13.1-stable #1 stable13-249d205cb: thu may 5 07:39:11 utc 2022 root@cloud10.bbbike.org:usrobjusrhomeprojectsfreebsd-srcamd64.amd64sysgeneric amd64 '
config_args='-ds -e -Dprefix=/usr/perl5.36.0Dp -Duselongdouble -Dcf_email=srezic@cpan.org -Doptimize=-O2 -pipe'
hint=recommended
useposix=true
d_sigaction=define
useithreads=undef
usemultiplicity=undef
use64bitint=define
use64bitall=define
uselongdouble=define
usemymalloc=n
default_inc_excludes_dot=define
Compiler:
cc='cc'
ccflags ='-DHAS_FPSETMASK -DHAS_FLOATINGPOINT_H -fno-strict-aliasing -pipe -fstack-protector-strong -I/usr/local/include'
optimize='-O2 -pipe'
cppflags='-DHAS_FPSETMASK -DHAS_FLOATINGPOINT_H -fno-strict-aliasing -pipe -fstack-protector-strong -I/usr/local/include'
ccversion=''
gccversion='FreeBSD Clang 13.0.0 (git@github.com:llvm/llvm-project.git llvmorg-13.0.0-0-gd7b669b3a303)'
gccosandvers=''
intsize=4
longsize=8
ptrsize=8
doublesize=8
byteorder=12345678
doublekind=3
d_longlong=define
longlongsize=8
d_longdbl=define
longdblsize=16
longdblkind=3
ivtype='long'
ivsize=8
nvtype='long double'
nvsize=16
Off_t='off_t'
lseeksize=8
alignbytes=16
prototype=define
Linker and Libraries:
ld='cc'
ldflags ='-pthread -Wl,-E -fstack-protector-strong -L/usr/local/lib'
libpth=/usr/lib /usr/local/lib /usr/lib/clang/13.0.0/lib
libs=-lpthread -lgdbm -ldl -lm -lcrypt -lutil -lc
perllibs=-lpthread -ldl -lm -lcrypt -lutil -lc
libc=
so=so
useshrplib=false
libperl=libperl.a
gnulibc_version=''
Dynamic Linking:
dlsrc=dl_dlopen.xs
dlext=so
d_dlsymun=undef
ccdlflags=' '
cccdlflags='-DPIC -fPIC'
lddlflags='-shared -L/usr/local/lib -fstack-protector-strong'
Characteristics of this binary (from libperl):
Compile-time options:
HAS_TIMES
PERLIO_LAYERS
PERL_COPY_ON_WRITE
PERL_DONT_CREATE_GVSV
PERL_MALLOC_WRAP
PERL_OP_PARENT
PERL_PRESERVE_IVUV
USE_64_BIT_ALL
USE_64_BIT_INT
USE_LARGE_FILES
USE_LOCALE
USE_LOCALE_COLLATE
USE_LOCALE_CTYPE
USE_LOCALE_NUMERIC
USE_LOCALE_TIME
USE_LONG_DOUBLE
USE_PERLIO
USE_PERL_ATOF
Built under freebsd
Compiled at May 31 2022 04:58:10
%ENV:
PERL5LIB="/home/cpansand/.cpan/build/2023012215/Test-Pod-Snippets-0.07-1/blib/arch:/home/cpansand/.cpan/build/2023012215/Test-Pod-Snippets-0.07-1/blib/lib:/home/cpansand/.cpan/build/2023012215/Module-Locate-1.80-1/blib/arch:/home/cpansand/.cpan/build/2023012215/Module-Locate-1.80-1/blib/lib:/home/cpansand/.cpan/build/2023012215/BSD-Resource-1.2911-1/blib/arch:/home/cpansand/.cpan/build/2023012215/BSD-Resource-1.2911-1/blib/lib"
PERL5OPT=""
PERL5_CPANPLUS_IS_RUNNING="65007"
PERL5_CPAN_IS_RUNNING="65007"
PERL5_CPAN_IS_RUNNING_IN_RECURSION="64060,65007"
PERL_BATCH="yes"
PERL_CANARY_STABILITY_NOPROMPT="1"
PERL_CPAN_REPORTER_CONFIG="/var/tmp/cpansmoker-1023/2023012215/cpanreporter_000_config.ini"
PERL_EXTUTILS_AUTOINSTALL="--defaultdeps"
PERL_USE_UNSAFE_INC="1"
@INC:
/home/cpansand/.cpan/build/2023012215/Test-Pod-Snippets-0.07-1/blib/arch
/home/cpansand/.cpan/build/2023012215/Test-Pod-Snippets-0.07-1/blib/lib
/home/cpansand/.cpan/build/2023012215/Module-Locate-1.80-1/blib/arch
/home/cpansand/.cpan/build/2023012215/Module-Locate-1.80-1/blib/lib
/home/cpansand/.cpan/build/2023012215/BSD-Resource-1.2911-1/blib/arch
/home/cpansand/.cpan/build/2023012215/BSD-Resource-1.2911-1/blib/lib
/usr/perl5.36.0Dp/lib/site_perl/5.36.0/amd64-freebsd-ld
/usr/perl5.36.0Dp/lib/site_perl/5.36.0
/usr/perl5.36.0Dp/lib/5.36.0/amd64-freebsd-ld
/usr/perl5.36.0Dp/lib/5.36.0
.