Path-Tiny v0.144 Perl 5 v5.32.0 i86pc-solaris-thread-multi-64
- Status
- Pass
- From
- Dist
-
Path-Tiny v0.144
- Platform
- Perl 5 v5.32.0 i86pc-solaris-thread-multi-64
- Date
- 2023-06-11 19:15:20
- ID
- 4ec4ae14-088c-11ee-9ee2-8a62c0543ede
This distribution has been tested as part of the CPAN Testers
project, supporting the Perl programming language. See
http://wiki.cpantesters.org/ for more information or email
questions to cpan-testers-discuss@perl.org
--
Dear David Golden,
This is a computer-generated report for Path-Tiny-0.144
on perl 5.32.0, created by CPAN-Reporter-1.2019.
Thank you for uploading your work to CPAN. Congratulations!
All tests were successful.
Sections of this report:
* Tester comments
* Program output
* Prerequisites
* Environment and other context
------------------------------
TESTER COMMENTS
------------------------------
Additional comments from tester:
none provided
------------------------------
PROGRAM OUTPUT
------------------------------
Output from '/usr/bin/make test':
PERL_DL_NONLAZY=1 "/usr/perl5/5.32/bin/perl" "-MExtUtils::Command::MM" "-MTest::Harness" "-e" "undef *Test::Harness::Switches; test_harness(0, 'blib/lib', 'blib/arch')" t/*.t
#
# Versions for all modules listed in MYMETA.json (including optional ones):
#
# === Configure Requires ===
#
# Module Want Have
# ------------------- ---- ----
# ExtUtils::MakeMaker 6.17 7.44
#
# === Configure Suggests ===
#
# Module Want Have
# -------- ------- ----
# JSON::PP 2.27300 4.04
#
# === Build Requires ===
#
# Module Want Have
# ------------------- ---- ----
# ExtUtils::MakeMaker any 7.44
#
# === Test Requires ===
#
# Module Want Have
# --------------------- ---- --------
# Digest::MD5 any 2.55_01
# ExtUtils::MakeMaker any 7.44
# File::Basename any 2.85
# File::Spec 0.86 3.78
# File::Spec::Functions any 3.78
# File::Spec::Unix any 3.78
# File::Temp 0.19 0.2309
# Test::More 0.96 1.302195
# lib any 0.65
# open any 1.12
#
# === Test Recommends ===
#
# Module Want Have
# ------------------ -------- --------
# CPAN::Meta 2.120900 2.150010
# Test::FailWarnings any missing
# Test::MockRandom any missing
#
# === Runtime Requires ===
#
# Module Want Have
# ------------------ ---- -------
# Carp any 1.50
# Cwd any 3.78
# Digest 1.03 1.17_01
# Digest::SHA 5.45 6.02
# Encode any 3.06
# Exporter 5.57 5.74
# Fcntl any 1.13
# File::Compare any 1.1006
# File::Copy any 2.34
# File::Glob any 1.33
# File::Path 2.07 2.16
# File::Spec 0.86 3.78
# File::Temp 0.19 0.2309
# File::stat any 1.09
# constant any 1.33
# overload any 1.31
# strict any 1.11
# warnings any 1.47
# warnings::register any 1.04
#
# === Runtime Recommends ===
#
# Module Want Have
# ------------- ---- -------
# Unicode::UTF8 0.58 missing
#
t/00-report-prereqs.t ............. ok
t/basename.t ...................... ok
t/basic.t ......................... ok
t/children.t ...................... ok
t/chmod.t ......................... ok
t/digest.t ........................ ok
t/exception.t ..................... ok
t/exports.t ....................... ok
t/filesystem.t .................... ok
t/has_same_bytes.t ................ ok
t/input_output.t .................. ok
t/input_output_no_PU_UU.t ......... ok
t/input_output_no_UU.t ............ ok
t/locking.t ....................... ok
t/mkdir.t ......................... ok
t/mkpath.t ........................ ok
t/mutable_tree_while_iterating.t .. ok
t/normalize.t ..................... ok
t/overloading.t ................... ok
t/parent.t ........................ ok
t/recurse.t ....................... ok
t/rel-abs.t ....................... ok
t/sig_die.t ....................... ok
t/size.t .......................... ok
t/subsumes.t ...................... ok
t/symlinks.t ...................... ok
t/temp.t .......................... ok
t/visit.t ......................... ok
t/zz-atomic.t ..................... skipped: Test::MockRandom required for atomicity tests
t/zzz-spec.t ...................... ok
All tests successful.
Files=30, Tests=1769, 6 wallclock secs ( 0.31 usr 0.12 sys + 3.46 cusr 0.76 csys = 4.65 CPU)
Result: PASS
------------------------------
PREREQUISITES
------------------------------
Prerequisite modules loaded:
requires:
Module Need Have
--------------------- -------- --------
Carp 0 1.50
constant 0 1.33
Cwd 0 3.78
Digest 1.03 1.17_01
Digest::SHA 5.45 6.02
Encode 0 3.06
Exporter 5.57 5.74
Fcntl 0 1.13
File::Compare 0 1.1006
File::Copy 0 2.34
File::Glob 0 1.33
File::Path 2.07 2.16
File::Spec 0.86 3.78
File::stat 0 1.09
File::Temp 0.19 0.2309
overload 0 1.31
perl 5.008001 5.032000
strict 0 1.11
warnings 0 1.47
warnings::register 0 1.04
build_requires:
Module Need Have
--------------------- -------- --------
Digest::MD5 0 2.55_01
ExtUtils::MakeMaker 0 7.44
File::Basename 0 2.85
File::Spec 0.86 3.78
File::Spec::Functions 0 3.78
File::Spec::Unix 0 3.78
File::Temp 0.19 0.2309
lib 0 0.65
open 0 1.12
Test::More 0.96 1.302195
configure_requires:
Module Need Have
--------------------- -------- --------
ExtUtils::MakeMaker 6.17 7.44
perl 5.008001 5.032000
opt_requires:
Module Need Have
--------------------- -------- --------
! Unicode::UTF8 0.58 n/a
opt_build_requires:
Module Need Have
--------------------- -------- --------
CPAN::Meta 2.120900 2.150010
! Test::FailWarnings 0 n/a
! Test::MockRandom 0 n/a
------------------------------
ENVIRONMENT AND OTHER CONTEXT
------------------------------
Environment variables:
LANG = en_US.UTF-8
LC_ALL =
LC_COLLATE =
LC_CTYPE =
LC_MESSAGES =
NONINTERACTIVE_TESTING = 1
PATH = /usr/bin:/usr/sbin
PERL5LIB =
PERL5OPT =
PERL5_CPANPLUS_IS_RUNNING = 23550
PERL5_CPAN_IS_RUNNING = 23550
PERL_MM_USE_DEFAULT = 1
PERL_USE_UNSAFE_INC = 1
SHELL = /usr/bin/bash
TERM = xterm-256color
Perl special variables (and OS-specific diagnostics, for MSWin32):
$^X = /usr/perl5/5.32/bin/perl
$UID/$EUID = 0 / 0
$GID = 0 0 1 2 3 4 6 7 8 12
$EGID = 0 0 1 2 3 4 6 7 8 12
Perl module toolchain versions installed:
Module Have
------------------- --------
CPAN 2.27
CPAN::Meta 2.150010
Cwd 3.78
ExtUtils::CBuilder 0.280234
ExtUtils::Command 7.44
ExtUtils::Install 2.14
ExtUtils::MakeMaker 7.44
ExtUtils::Manifest 1.72
ExtUtils::ParseXS 3.40
File::Spec 3.78
JSON n/a
JSON::PP 4.04
Module::Build 0.4234
Module::Signature n/a
Parse::CPAN::Meta 2.150010
Test2 1.302195
Test::Harness 3.42
Test::More 1.302195
YAML n/a
YAML::Syck n/a
version 0.9924
--
Summary of my perl5 (revision 5 version 32 subversion 0) configuration:
Platform:
osname=solaris
osvers=2.11
archname=i86pc-solaris-thread-multi-64
uname='sunos localhost 5.11 i86pc i386 i86pc'
config_args='-de -Dmksymlinks -Ulocincpth= -Dbin=/usr/perl5/5.32/bin -Dcc=gcc -Dcf_by=perl-bugs -Dcf_email=first.last@example.invalid -Dlibperl=libperl.so -Dmyhostname=localhost -Dmydomain=foobar.example.org -Dperl_static_inline=static -Dprefix=/usr/perl5/5.32 -Dprivlib=/usr/perl5/5.32/lib -Dsitelib=/usr/perl5/site_perl/5.32 -Dsiteprefix=/usr/perl5/5.32 -Dvendorlib=/usr/perl5/vendor_perl/5.32 -Dvendorprefix=/usr/perl5/5.32 -Duseshrplib -Dusedtrace -Duse64bitall -Dusethreads -Dlibpth=/lib/64 /usr/lib/64 -Doptimize=-O3 '
hint=recommended
useposix=true
d_sigaction=define
useithreads=define
usemultiplicity=define
use64bitint=define
use64bitall=define
uselongdouble=undef
usemymalloc=n
default_inc_excludes_dot=define
bincompat5005=undef
Compiler:
cc='gcc'
ccflags ='-D_REENTRANT -m64 -fwrapv -fno-strict-aliasing -pipe -fstack-protector-strong -D_LARGEFILE64_SOURCE -D_FORTIFY_SOURCE=2 -DPERL_USE_SAFE_PUTENV'
optimize='-O3 '
cppflags='-D_REENTRANT -m64 -fwrapv -fno-strict-aliasing -pipe -fstack-protector-strong'
ccversion=''
gccversion='10.3.0'
gccosandvers=''
intsize=4
longsize=8
ptrsize=8
doublesize=8
byteorder=12345678
doublekind=3
d_longlong=define
longlongsize=8
d_longdbl=define
longdblsize=16
longdblkind=3
ivtype='long'
ivsize=8
nvtype='double'
nvsize=8
Off_t='off_t'
lseeksize=8
alignbytes=8
prototype=define
Linker and Libraries:
ld='gcc'
ldflags =' -m64 -fstack-protector-strong -L/usr/gnu/lib '
libpth=/lib/64 /usr/lib/64 /usr/gcc/10/lib /usr/gcc/10/lib/gcc/x86_64-pc-solaris2.11/10.3.0/include-fixed /usr/lib /usr/gnu/lib /usr/ccs/lib
libs=-lpthread -lsocket -lnsl -lgdbm -ldb -ldl -lm -lc
perllibs=-lpthread -lsocket -lnsl -ldl -lm -lc
libc=/lib/libc.so
so=so
useshrplib=true
libperl=libperl.so
gnulibc_version=''
Dynamic Linking:
dlsrc=dl_dlopen.xs
dlext=so
d_dlsymun=undef
ccdlflags=' -R /usr/perl5/5.32/lib/i86pc-solaris-thread-multi-64/CORE'
cccdlflags='-fPIC'
lddlflags=' -shared -m64 -L/usr/gnu/lib -fstack-protector-strong'
Characteristics of this binary (from libperl):
Compile-time options:
HAS_TIMES
MULTIPLICITY
PERLIO_LAYERS
PERL_COPY_ON_WRITE
PERL_DONT_CREATE_GVSV
PERL_IMPLICIT_CONTEXT
PERL_MALLOC_WRAP
PERL_OP_PARENT
PERL_PRESERVE_IVUV
PERL_USE_SAFE_PUTENV
USE_64_BIT_ALL
USE_64_BIT_INT
USE_ITHREADS
USE_LARGE_FILES
USE_LOCALE
USE_LOCALE_COLLATE
USE_LOCALE_CTYPE
USE_LOCALE_NUMERIC
USE_LOCALE_TIME
USE_PERLIO
USE_PERL_ATOF
USE_REENTRANT_API
USE_THREAD_SAFE_LOCALE
Built under solaris
Compiled at Nov 19 2021 12:12:16
%ENV:
PERL5LIB=""
PERL5OPT=""
PERL5_CPANPLUS_IS_RUNNING="23550"
PERL5_CPAN_IS_RUNNING="23550"
PERL_MM_USE_DEFAULT="1"
PERL_USE_UNSAFE_INC="1"
@INC:
/usr/perl5/site_perl/5.32/i86pc-solaris-thread-multi-64
/usr/perl5/site_perl/5.32
/usr/perl5/vendor_perl/5.32/i86pc-solaris-thread-multi-64
/usr/perl5/vendor_perl/5.32
/usr/perl5/5.32/lib/i86pc-solaris-thread-multi-64
/usr/perl5/5.32/lib
.