Path-Tiny v0.144 Perl 5 v5.34.0 cygwin-thread-multi
- Status
- Pass
- From
- Nigel Horne
- Dist
-
Path-Tiny v0.144
- Platform
- Perl 5 v5.34.0 cygwin-thread-multi
- Date
- 2023-01-07 21:00:23
- ID
- 4d967758-8ece-11ed-8712-8f455abea565
This distribution has been tested as part of the CPAN Testers
project, supporting the Perl programming language. See
http://wiki.cpantesters.org/ for more information or email
questions to cpan-testers-discuss@perl.org
--
Dear David Golden,
This is a computer-generated report for Path-Tiny-0.144
on perl 5.34.0, created by CPAN-Reporter-1.2018.
Thank you for uploading your work to CPAN. Congratulations!
All tests were successful.
Sections of this report:
* Tester comments
* Program output
* Prerequisites
* Environment and other context
------------------------------
TESTER COMMENTS
------------------------------
Additional comments from tester:
none provided
------------------------------
PROGRAM OUTPUT
------------------------------
Output from '/usr/bin/make test':
PERL_DL_NONLAZY=1 "/home/Nigel/perl5/perlbrew/perls/perl-5.34.0-64all/bin/perl5.34.0.exe" "-MExtUtils::Command::MM" "-MTest::Harness" "-e" "undef *Test::Harness::Switches; test_harness(0, 'blib/lib', 'blib/arch')" t/*.t
t/basename.t ...................... ok
#
# Versions for all modules listed in MYMETA.json (including optional ones):
#
# === Configure Requires ===
#
# Module Want Have
# ------------------- ---- ----
# ExtUtils::MakeMaker 6.17 7.62
#
# === Configure Suggests ===
#
# Module Want Have
# -------- ------- ----
# JSON::PP 2.27300 4.06
#
# === Build Requires ===
#
# Module Want Have
# ------------------- ---- ----
# ExtUtils::MakeMaker any 7.62
#
# === Test Requires ===
#
# Module Want Have
# --------------------- ---- --------
# Digest::MD5 any 2.58
# ExtUtils::MakeMaker any 7.62
# File::Basename any 2.85
# File::Spec 0.86 3.80
# File::Spec::Functions any 3.80
# File::Spec::Unix any 3.80
# File::Temp 0.19 0.2311
# Test::More 0.96 1.302183
# lib any 0.65
# open any 1.12
#
# === Test Recommends ===
#
# Module Want Have
# ------------------ -------- --------
# CPAN::Meta 2.120900 2.150010
# Test::FailWarnings any missing
# Test::MockRandom any missing
#
# === Runtime Requires ===
#
# Module Want Have
# ------------------ ---- ------
# Carp any 1.52
# Cwd any 3.80
# Digest 1.03 1.19
# Digest::SHA 5.45 6.02
# Encode any 3.08
# Exporter 5.57 5.76
# Fcntl any 1.14
# File::Compare any 1.1006
# File::Copy any 2.35
# File::Glob any 1.33
# File::Path 2.07 2.18
# File::Spec 0.86 3.80
# File::Temp 0.19 0.2311
# File::stat any 1.09
# constant any 1.33
# overload any 1.33
# strict any 1.12
# warnings any 1.51
# warnings::register any 1.04
#
# === Runtime Recommends ===
#
# Module Want Have
# ------------- ---- -------
# Unicode::UTF8 0.58 missing
#
t/00-report-prereqs.t ............. ok
t/basic.t ......................... ok
t/children.t ...................... ok
t/exports.t ....................... ok
t/exception.t ..................... ok
t/digest.t ........................ ok
t/chmod.t ......................... ok
t/has_same_bytes.t ................ ok
t/filesystem.t .................... ok
t/input_output.t .................. ok
t/input_output_no_PU_UU.t ......... ok
t/locking.t ....................... ok
t/mutable_tree_while_iterating.t .. ok
t/mkpath.t ........................ ok
t/mkdir.t ......................... ok
t/input_output_no_UU.t ............ ok
t/normalize.t ..................... ok
t/parent.t ........................ ok
t/overloading.t ................... ok
t/recurse.t ....................... ok
t/size.t .......................... ok
t/subsumes.t ...................... ok
t/rel-abs.t ....................... ok
t/zz-atomic.t ..................... skipped: Test::MockRandom required for atomicity tests
t/visit.t ......................... ok
t/sig_die.t ....................... ok
t/temp.t .......................... ok
t/symlinks.t ...................... ok
t/zzz-spec.t ...................... ok
All tests successful.
Files=30, Tests=1766, 6 wallclock secs ( 0.53 usr 0.89 sys + 6.39 cusr 20.48 csys = 28.29 CPU)
Result: PASS
------------------------------
PREREQUISITES
------------------------------
Prerequisite modules loaded:
requires:
Module Need Have
--------------------- -------- --------
Carp 0 1.52
constant 0 1.33
Cwd 0 3.80
Digest 1.03 1.19
Digest::SHA 5.45 6.02
Encode 0 3.08
Exporter 5.57 5.76
Fcntl 0 1.14
File::Compare 0 1.1006
File::Copy 0 2.35
File::Glob 0 1.33
File::Path 2.07 2.18
File::Spec 0.86 3.80
File::stat 0 1.09
File::Temp 0.19 0.2311
overload 0 1.33
perl 5.008001 5.034000
strict 0 1.12
warnings 0 1.51
warnings::register 0 1.04
build_requires:
Module Need Have
--------------------- -------- --------
Digest::MD5 0 2.58
ExtUtils::MakeMaker 0 7.62
File::Basename 0 2.85
File::Spec 0.86 3.80
File::Spec::Functions 0 3.80
File::Spec::Unix 0 3.80
File::Temp 0.19 0.2311
lib 0 0.65
open 0 1.12
Test::More 0.96 1.302183
configure_requires:
Module Need Have
--------------------- -------- --------
ExtUtils::MakeMaker 6.17 7.62
perl 5.008001 5.034000
------------------------------
ENVIRONMENT AND OTHER CONTEXT
------------------------------
Environment variables:
COMSPEC = C:\WINDOWS\system32\cmd.exe
HARNESS_OPTIONS = c:j6
LC_CTYPE = en_GB.UTF-8
NONINTERACTIVE_TESTING = 1
NUMBER_OF_PROCESSORS = 12
PATH = /home/Nigel/perl5/perlbrew/bin:/home/Nigel/perl5/perlbrew/perls/perl-5.34.0-64all/bin:/home/Nigel/perl5/perlbrew/bin:/home/Nigel/bin::/home/Nigel/bin:/usr/local/bin:/usr/bin:/bin
PERL5LIB =
PERL5OPT =
PERL5_CPANPLUS_IS_RUNNING = 3449
PERL5_CPAN_IS_RUNNING = 3449
PERLBREW_HOME = /home/Nigel/.perlbrew
PERLBREW_LIB =
PERLBREW_MANPATH = /home/Nigel/perl5/perlbrew/perls/perl-5.34.0-64all/man
PERLBREW_PATH = /home/Nigel/perl5/perlbrew/bin:/home/Nigel/perl5/perlbrew/perls/perl-5.34.0-64all/bin
PERLBREW_PERL = perl-5.34.0-64all
PERLBREW_ROOT = /home/Nigel/perl5/perlbrew
PERLBREW_SHELLRC_VERSION = 0.92
PERLBREW_VERSION = 0.92
PERL_LOCAL_LIB_ROOT =
PERL_MM_USE_DEFAULT = 1
PERL_USE_UNSAFE_INC = 1
PROCESSOR_IDENTIFIER = Intel64 Family 6 Model 62 Stepping 4, GenuineIntel
SHELL = /bin/bash
TEMP = /cygdrive/j/temp
TERM = xterm
TMPDIR = /cygdrive/j/temp
Perl special variables (and OS-specific diagnostics, for MSWin32):
$^X = /home/Nigel/perl5/perlbrew/perls/perl-5.34.0-64all/bin/perl5.34.0
$UID/$EUID = 1001 / 1001
$GID = 11001 401408 1002 559 545 4 66049 11 15 68354 113 4095 66048 262180
$EGID = 11001 401408 1002 559 545 4 66049 11 15 68354 113 4095 66048 262180
Perl module toolchain versions installed:
Module Have
------------------- --------
CPAN 2.28
CPAN::Meta 2.150010
Cwd 3.80
ExtUtils::CBuilder 0.280236
ExtUtils::Command 7.62
ExtUtils::Install 2.20
ExtUtils::MakeMaker 7.62
ExtUtils::Manifest 1.73
ExtUtils::ParseXS 3.43
File::Spec 3.80
JSON n/a
JSON::PP 4.06
Module::Build 0.4231
Module::Signature n/a
Parse::CPAN::Meta 2.150010
Test::Harness 3.43
Test::More 1.302183
YAML 1.30
YAML::Syck 1.34
version 0.9928
--
Summary of my perl5 (revision 5 version 34 subversion 0) configuration:
Platform:
osname=cygwin
osvers=3.2.0(0.34053)
archname=cygwin-thread-multi
uname='cygwin_nt-10.0 cyberpower 3.2.0(0.34053) 2021-03-29 08:42 x86_64 cygwin '
config_args='-de -Dprefix=/home/Nigel/perl5/perlbrew/perls/perl-5.34.0-64all -Dusedevel -Duse64bitall -Accflags=-O2 -W -Wformat=2 -Wswitch -Wshadow -Wwrite-strings -Wuninitialized -Wall -pipe -mtune=native -march=native -fomit-frame-pointer -msse2 -msse -mmmx -mfpmath=sse -D_FORTIFY_SOURCE=2 -Wpointer-arith -Wstrict-prototypes -fstack-protector -Wstack-protector -Wextra -Wbad-function-cast -Wcast-align -Wcast-qual -Wdisabled-optimization -Wendif-labels -Wfloat-equal -Wformat-nonliteral -Winline -Wmissing-declarations -Wmissing-prototypes -Wnested-externs -Wpointer-arith -Wundef -Wformat-security -ftree-vectorize -mtune=native -march=native -Aeval:scriptdir=/home/Nigel/perl5/perlbrew/perls/perl-5.34.0-64all/bin'
hint=recommended
useposix=true
d_sigaction=define
useithreads=define
usemultiplicity=define
use64bitint=define
use64bitall=define
uselongdouble=undef
usemymalloc=n
default_inc_excludes_dot=define
Compiler:
cc='gcc'
ccflags ='-DPERL_USE_SAFE_PUTENV -U__STRICT_ANSI__ -O2 -W -Wformat=2 -Wswitch -Wshadow -Wwrite-strings -Wuninitialized -Wall -pipe -mtune=native -march=native -fomit-frame-pointer -msse2 -msse -mmmx -mfpmath=sse -D_FORTIFY_SOURCE=2 -Wpointer-arith -Wstrict-prototypes -fstack-protector -Wstack-protector -Wextra -Wbad-function-cast -Wcast-align -Wcast-qual -Wdisabled-optimization -Wendif-labels -Wfloat-equal -Wformat-nonliteral -Winline -Wmissing-declarations -Wmissing-prototypes -Wnested-externs -Wpointer-arith -Wundef -Wformat-security -ftree-vectorize -mtune=native -march=native -fwrapv -fno-strict-aliasing -fstack-protector-strong'
optimize='-O3'
cppflags='-DPERL_USE_SAFE_PUTENV -U__STRICT_ANSI__ -O2 -W -Wformat=2 -Wswitch -Wshadow -Wwrite-strings -Wuninitialized -Wall -pipe -mtune=native -march=native -fomit-frame-pointer -msse2 -msse -mmmx -mfpmath=sse -D_FORTIFY_SOURCE=2 -Wpointer-arith -Wstrict-prototypes -fstack-protector -Wstack-protector -Wextra -Wbad-function-cast -Wcast-align -Wcast-qual -Wdisabled-optimization -Wendif-labels -Wfloat-equal -Wformat-nonliteral -Winline -Wmissing-declarations -Wmissing-prototypes -Wnested-externs -Wpointer-arith -Wundef -Wformat-security -ftree-vectorize -mtune=native -march=native -fwrapv -fno-strict-aliasing -fstack-protector-strong'
ccversion=''
gccversion='10.2.0'
gccosandvers=''
intsize=4
longsize=8
ptrsize=8
doublesize=8
byteorder=12345678
doublekind=3
d_longlong=define
longlongsize=8
d_longdbl=define
longdblsize=16
longdblkind=3
ivtype='long'
ivsize=8
nvtype='double'
nvsize=8
Off_t='off_t'
lseeksize=8
alignbytes=8
prototype=define
Linker and Libraries:
ld='g++'
ldflags =' -Wl,--enable-auto-import -Wl,--export-all-symbols -Wl,--enable-auto-image-base -fstack-protector-strong -L/usr/local/lib'
libpth=/usr/lib /usr/lib/w32api /usr/local/lib /lib
libs=-lpthread -ldl
perllibs=-lpthread -ldl
libc=/usr/lib/libc.a
so=dll
useshrplib=true
libperl=cygperl5_34_0.dll
gnulibc_version=''
Dynamic Linking:
dlsrc=dl_dlopen.xs
dlext=dll
d_dlsymun=undef
ccdlflags=' '
cccdlflags=' '
lddlflags=' --shared -Wl,--enable-auto-import -Wl,--export-all-symbols -Wl,--enable-auto-image-base -L/usr/local/lib -fstack-protector-strong'
Characteristics of this binary (from libperl):
Compile-time options:
HAS_TIMES
MULTIPLICITY
PERLIO_LAYERS
PERL_COPY_ON_WRITE
PERL_DONT_CREATE_GVSV
PERL_IMPLICIT_CONTEXT
PERL_MALLOC_WRAP
PERL_OP_PARENT
PERL_PRESERVE_IVUV
PERL_USE_DEVEL
PERL_USE_SAFE_PUTENV
USE_64_BIT_ALL
USE_64_BIT_INT
USE_ITHREADS
USE_LARGE_FILES
USE_LOCALE
USE_LOCALE_COLLATE
USE_LOCALE_CTYPE
USE_LOCALE_NUMERIC
USE_LOCALE_TIME
USE_PERLIO
USE_PERL_ATOF
USE_REENTRANT_API
USE_THREAD_SAFE_LOCALE
Built under cygwin
Compiled at May 25 2021 10:16:58
%ENV:
PERL5LIB=""
PERL5OPT=""
PERL5_CPANPLUS_IS_RUNNING="3449"
PERL5_CPAN_IS_RUNNING="3449"
PERLBREW_HOME="/home/Nigel/.perlbrew"
PERLBREW_LIB=""
PERLBREW_MANPATH="/home/Nigel/perl5/perlbrew/perls/perl-5.34.0-64all/man"
PERLBREW_PATH="/home/Nigel/perl5/perlbrew/bin:/home/Nigel/perl5/perlbrew/perls/perl-5.34.0-64all/bin"
PERLBREW_PERL="perl-5.34.0-64all"
PERLBREW_ROOT="/home/Nigel/perl5/perlbrew"
PERLBREW_SHELLRC_VERSION="0.92"
PERLBREW_VERSION="0.92"
PERL_LOCAL_LIB_ROOT=""
PERL_MM_USE_DEFAULT="1"
PERL_USE_UNSAFE_INC="1"
@INC:
/home/Nigel/perl5/perlbrew/perls/perl-5.34.0-64all/lib/site_perl/5.34.0/cygwin-thread-multi
/home/Nigel/perl5/perlbrew/perls/perl-5.34.0-64all/lib/site_perl/5.34.0
/home/Nigel/perl5/perlbrew/perls/perl-5.34.0-64all/lib/5.34.0/cygwin-thread-multi
/home/Nigel/perl5/perlbrew/perls/perl-5.34.0-64all/lib/5.34.0
.