Path-Tiny v0.144 Perl 5 v5.36.0 x86_64-linux-thread-multi
- Status
- Pass
- From
- Daniel Èuteu
- Dist
-
Path-Tiny v0.144
- Platform
- Perl 5 v5.36.0 x86_64-linux-thread-multi
- Date
- 2022-12-06 23:54:20
- ID
- 4d81d99a-75c1-11ed-ba6a-a69f6de22172
This distribution has been tested as part of the CPAN Testers
project, supporting the Perl programming language. See
https://wiki.cpantesters.org/ for more information or email
questions to cpan-testers-discuss@perl.org
--
Dear DAGOLDEN,
This is a computer-generated report for Path-Tiny-0.144
on perl 5.36.0, created by App::cpanminus::reporter 0.17 (1.7046).
Thank you for uploading your work to CPAN. Congratulations!
All tests were successful.
Sections of this report:
* Tester comments
* Program output
* Prerequisites
* Environment and other context
------------------------------
TESTER COMMENTS
------------------------------
Additional comments from tester:
none provided
------------------------------
PROGRAM OUTPUT
------------------------------
Output from '':
Building and testing Path-Tiny-0.144
[proxychains] DLL init: proxychains-ng 4.16
[proxychains] DLL init: proxychains-ng 4.16
[proxychains] DLL init: proxychains-ng 4.16
[proxychains] DLL init: proxychains-ng 4.16
[proxychains] DLL init: proxychains-ng 4.16
[proxychains] DLL init: proxychains-ng 4.16
[proxychains] DLL init: proxychains-ng 4.16
[proxychains] DLL init: proxychains-ng 4.16
[proxychains] DLL init: proxychains-ng 4.16
[proxychains] DLL init: proxychains-ng 4.16
[proxychains] DLL init: proxychains-ng 4.16
[proxychains] DLL init: proxychains-ng 4.16
[proxychains] DLL init: proxychains-ng 4.16
[proxychains] DLL init: proxychains-ng 4.16
[proxychains] DLL init: proxychains-ng 4.16
[proxychains] DLL init: proxychains-ng 4.16
[proxychains] DLL init: proxychains-ng 4.16
[proxychains] DLL init: proxychains-ng 4.16
[proxychains] DLL init: proxychains-ng 4.16
[proxychains] DLL init: proxychains-ng 4.16
[proxychains] DLL init: proxychains-ng 4.16
[proxychains] DLL init: proxychains-ng 4.16
[proxychains] DLL init: proxychains-ng 4.16
[proxychains] DLL init: proxychains-ng 4.16
[proxychains] DLL init: proxychains-ng 4.16
[proxychains] DLL init: proxychains-ng 4.16
[proxychains] DLL init: proxychains-ng 4.16
[proxychains] DLL init: proxychains-ng 4.16
[proxychains] DLL init: proxychains-ng 4.16
[proxychains] DLL init: proxychains-ng 4.16
[proxychains] DLL init: proxychains-ng 4.16
[proxychains] DLL init: proxychains-ng 4.16
[proxychains] DLL init: proxychains-ng 4.16
[proxychains] DLL init: proxychains-ng 4.16
cp lib/Path/Tiny.pm blib/lib/Path/Tiny.pm
[proxychains] DLL init: proxychains-ng 4.16
[proxychains] DLL init: proxychains-ng 4.16
[proxychains] DLL init: proxychains-ng 4.16
[proxychains] DLL init: proxychains-ng 4.16
[proxychains] DLL init: proxychains-ng 4.16
[proxychains] DLL init: proxychains-ng 4.16
[proxychains] DLL init: proxychains-ng 4.16
[proxychains] DLL init: proxychains-ng 4.16
[proxychains] DLL init: proxychains-ng 4.16
[proxychains] DLL init: proxychains-ng 4.16
[proxychains] DLL init: proxychains-ng 4.16
[proxychains] DLL init: proxychains-ng 4.16
Manifying 1 pod document
[proxychains] DLL init: proxychains-ng 4.16
[proxychains] DLL init: proxychains-ng 4.16
[proxychains] DLL init: proxychains-ng 4.16
[proxychains] DLL init: proxychains-ng 4.16
[proxychains] DLL init: proxychains-ng 4.16
[proxychains] DLL init: proxychains-ng 4.16
[proxychains] DLL init: proxychains-ng 4.16
[proxychains] DLL init: proxychains-ng 4.16
[proxychains] DLL init: proxychains-ng 4.16
[proxychains] DLL init: proxychains-ng 4.16
[proxychains] DLL init: proxychains-ng 4.16
PERL_DL_NONLAZY=1 "/usr/bin/perl" "-MExtUtils::Command::MM" "-MTest::Harness" "-e" "undef *Test::Harness::Switches; test_harness(0, 'blib/lib', 'blib/arch')" t/*.t
[proxychains] DLL init: proxychains-ng 4.16
[proxychains] DLL init: proxychains-ng 4.16
[proxychains] DLL init: proxychains-ng 4.16
[proxychains] DLL init: proxychains-ng 4.16
[proxychains] DLL init: proxychains-ng 4.16
#
# Versions for all modules listed in MYMETA.json (including optional ones):
#
# === Configure Requires ===
#
# Module Want Have
# ------------------- ---- ----
# ExtUtils::MakeMaker 6.17 7.64
#
# === Configure Suggests ===
#
# Module Want Have
# -------- ------- ----
# JSON::PP 2.27300 4.12
#
# === Build Requires ===
#
# Module Want Have
# ------------------- ---- ----
# ExtUtils::MakeMaker any 7.64
#
# === Test Requires ===
#
# Module Want Have
# --------------------- ---- --------
# Digest::MD5 any 2.58
# ExtUtils::MakeMaker any 7.64
# File::Basename any 2.85
# File::Spec 0.86 3.84
# File::Spec::Functions any 3.84
# File::Spec::Unix any 3.84
# File::Temp 0.19 0.2311
# Test::More 0.96 1.302191
# lib any 0.65
# open any 1.13
#
# === Test Recommends ===
#
# Module Want Have
# ------------------ -------- --------
# CPAN::Meta 2.120900 2.150010
# Test::FailWarnings any 0.008
# Test::MockRandom any 1.01
#
# === Runtime Requires ===
#
# Module Want Have
# ------------------ ---- ------
# Carp any 1.52
# Cwd any 3.84
# Digest 1.03 1.20
# Digest::SHA 5.45 6.03
# Encode any 3.19
# Exporter 5.57 5.74
# Fcntl any 1.15
# File::Compare any 1.1007
# File::Copy any 2.39
# File::Glob any 1.37
# File::Path 2.07 2.18
# File::Spec 0.86 3.84
# File::Temp 0.19 0.2311
# File::stat any 1.12
# constant any 1.33
# overload any 1.35
# strict any 1.12
# warnings any 1.58
# warnings::register any 1.04
#
# === Runtime Recommends ===
#
# Module Want Have
# ------------- ---- ----
# Unicode::UTF8 0.58 0.62
#
t/00-report-prereqs.t ............. ok
[proxychains] DLL init: proxychains-ng 4.16
t/basename.t ...................... ok
[proxychains] DLL init: proxychains-ng 4.16
t/basic.t ......................... ok
[proxychains] DLL init: proxychains-ng 4.16
t/children.t ...................... ok
[proxychains] DLL init: proxychains-ng 4.16
t/chmod.t ......................... ok
[proxychains] DLL init: proxychains-ng 4.16
t/digest.t ........................ ok
[proxychains] DLL init: proxychains-ng 4.16
t/exception.t ..................... ok
[proxychains] DLL init: proxychains-ng 4.16
t/exports.t ....................... ok
[proxychains] DLL init: proxychains-ng 4.16
t/filesystem.t .................... ok
[proxychains] DLL init: proxychains-ng 4.16
t/has_same_bytes.t ................ ok
[proxychains] DLL init: proxychains-ng 4.16
t/input_output.t .................. ok
[proxychains] DLL init: proxychains-ng 4.16
t/input_output_no_PU_UU.t ......... ok
[proxychains] DLL init: proxychains-ng 4.16
t/input_output_no_UU.t ............ ok
[proxychains] DLL init: proxychains-ng 4.16
[proxychains] DLL init: proxychains-ng 4.16
[proxychains] DLL init: proxychains-ng 4.16
t/locking.t ....................... ok
[proxychains] DLL init: proxychains-ng 4.16
t/mkdir.t ......................... ok
[proxychains] DLL init: proxychains-ng 4.16
t/mkpath.t ........................ ok
[proxychains] DLL init: proxychains-ng 4.16
t/mutable_tree_while_iterating.t .. ok
[proxychains] DLL init: proxychains-ng 4.16
t/normalize.t ..................... ok
[proxychains] DLL init: proxychains-ng 4.16
t/overloading.t ................... ok
[proxychains] DLL init: proxychains-ng 4.16
t/parent.t ........................ ok
[proxychains] DLL init: proxychains-ng 4.16
t/recurse.t ....................... ok
[proxychains] DLL init: proxychains-ng 4.16
t/rel-abs.t ....................... ok
[proxychains] DLL init: proxychains-ng 4.16
t/sig_die.t ....................... ok
[proxychains] DLL init: proxychains-ng 4.16
t/size.t .......................... ok
[proxychains] DLL init: proxychains-ng 4.16
t/subsumes.t ...................... ok
[proxychains] DLL init: proxychains-ng 4.16
t/symlinks.t ...................... ok
[proxychains] DLL init: proxychains-ng 4.16
t/temp.t .......................... ok
[proxychains] DLL init: proxychains-ng 4.16
t/visit.t ......................... ok
[proxychains] DLL init: proxychains-ng 4.16
t/zz-atomic.t ..................... ok
[proxychains] DLL init: proxychains-ng 4.16
t/zzz-spec.t ...................... ok
All tests successful.
Files=30, Tests=1770, 6 wallclock secs ( 0.40 usr 0.05 sys + 3.77 cusr 0.57 csys = 4.79 CPU)
Result: PASS
------------------------------
PREREQUISITES
------------------------------
Prerequisite modules loaded:
No requirements found
------------------------------
ENVIRONMENT AND OTHER CONTEXT
------------------------------
Environment variables:
CCFLAGS = -march=native -O3 -pipe -fno-plt -fexceptions -Wp,-D_FORTIFY_SOURCE=2 -Wformat -Werror=format-security -fstack-clash-protection -fcf-protection
LANG = en_US.UTF-8
LANGUAGE =
LC_ADDRESS =
LC_COLLATE =
LC_CTYPE =
LC_IDENTIFICATION =
LC_MEASUREMENT =
LC_MESSAGES =
LC_MONETARY =
LC_NAME =
LC_NUMERIC =
LC_PAPER =
LC_TELEPHONE =
LC_TIME =
LDFLAGS = -Wl,-O1,--sort-common,--as-needed,-z,relro,-z,now
PATH = /usr/lib/ccache/bin:/usr/local/sbin:/usr/local/bin:/usr/bin:/opt/android-sdk/platform-tools:/usr/lib/jvm/default/bin:/usr/bin/site_perl:/usr/bin/vendor_perl:/usr/bin/core_perl:/usr/share/perl6/vendor/bin:/home/swampyx/.raku/bin:/opt/android-ndk/toolchains/llvm/prebuilt/linux-x86_64/bin
PERL_MM_OPT = OPTIMIZE="-march=native -O3 -pipe -fno-plt -fstack-clash-protection -fcf-protection"
SHELL = /usr/bin/zsh
TEMP = /tmp
TERM = xterm
Perl special variables (and OS-specific diagnostics, for MSWin32):
EGID = 100 50 91 92 93 95 98 100 108
EUID = 1000
EXECUTABLE_NAME = /usr/bin/perl
GID = 100 50 91 92 93 95 98 100 108
UID = 1000
Perl module toolchain versions installed:
Module Have
------------------- --------
CPAN 2.34
CPAN::Meta 2.150010
Cwd 3.84
ExtUtils::CBuilder 0.280236
ExtUtils::Command 7.64
ExtUtils::Install 2.20
ExtUtils::MakeMaker 7.64
ExtUtils::Manifest 1.73
ExtUtils::ParseXS 3.44
File::Spec 3.84
JSON 4.10
JSON::PP 4.12
Module::Build 0.4231
Module::Signature 0.88
Parse::CPAN::Meta 2.150010
Test::Harness 3.44
Test::More 1.302191
YAML 1.30
YAML::Syck n/a
version 0.9929
--
Summary of my perl5 (revision 5 version 36 subversion 0) configuration:
Platform:
osname=linux
osvers=5.12.15-arch1-1
archname=x86_64-linux-thread-multi
uname='archlinux'
config_args='-des -Dusethreads -Duseshrplib -Doptimize=-march=x86-64 -mtune=generic -O2 -pipe -fno-plt -fexceptions -Wp,-D_FORTIFY_SOURCE=2 -Wformat -Werror=format-security -fstack-clash-protection -fcf-protection -flto -Dprefix=/usr -Dvendorprefix=/usr -Dprivlib=/usr/share/perl5/core_perl -Darchlib=/usr/lib/perl5/5.36/core_perl -Dsitelib=/usr/share/perl5/site_perl -Dsitearch=/usr/lib/perl5/5.36/site_perl -Dvendorlib=/usr/share/perl5/vendor_perl -Dvendorarch=/usr/lib/perl5/5.36/vendor_perl -Dscriptdir=/usr/bin/core_perl -Dsitescript=/usr/bin/site_perl -Dvendorscript=/usr/bin/vendor_perl -Dinc_version_list=none -Dman1ext=1perl -Dman3ext=3perl -Dcccdlflags='-fPIC' -Dlddlflags=-shared -Wl,-O1,--sort-common,--as-needed,-z,relro,-z,now -flto -Dldflags=-Wl,-O1,--sort-common,--as-needed,-z,relro,-z,now -flto'
hint=recommended
useposix=true
d_sigaction=define
useithreads=define
usemultiplicity=define
use64bitint=define
use64bitall=define
uselongdouble=undef
usemymalloc=n
default_inc_excludes_dot=define
Compiler:
cc='cc'
ccflags ='-D_REENTRANT -D_GNU_SOURCE -fwrapv -fno-strict-aliasing -pipe -fstack-protector-strong -I/usr/local/include -D_LARGEFILE_SOURCE -D_FILE_OFFSET_BITS=64'
optimize='-march=x86-64 -mtune=generic -O2 -pipe -fno-plt -fexceptions -Wp,-D_FORTIFY_SOURCE=2 -Wformat -Werror=format-security -fstack-clash-protection -fcf-protection -flto'
cppflags='-D_REENTRANT -D_GNU_SOURCE -fwrapv -fno-strict-aliasing -pipe -fstack-protector-strong -I/usr/local/include'
ccversion=''
gccversion='12.1.0'
gccosandvers=''
intsize=4
longsize=8
ptrsize=8
doublesize=8
byteorder=12345678
doublekind=3
d_longlong=define
longlongsize=8
d_longdbl=define
longdblsize=16
longdblkind=3
ivtype='long'
ivsize=8
nvtype='double'
nvsize=8
Off_t='off_t'
lseeksize=8
alignbytes=8
prototype=define
Linker and Libraries:
ld='cc'
ldflags ='-Wl,-O1,--sort-common,--as-needed,-z,relro,-z,now -flto -fstack-protector-strong -L/usr/local/lib'
libpth=/usr/local/lib /usr/lib
libs=-lpthread -lgdbm -ldb -ldl -lm -lcrypt -lutil -lc -lgdbm_compat
perllibs=-lpthread -ldl -lm -lcrypt -lutil -lc
libc=/lib/../lib/libc.so.6
so=so
useshrplib=true
libperl=libperl.so
gnulibc_version='2.35'
Dynamic Linking:
dlsrc=dl_dlopen.xs
dlext=so
d_dlsymun=undef
ccdlflags='-Wl,-E -Wl,-rpath,/usr/lib/perl5/5.36/core_perl/CORE'
cccdlflags='-fPIC'
lddlflags='-shared -Wl,-O1,--sort-common,--as-needed,-z,relro,-z,now -flto -L/usr/local/lib -fstack-protector-strong'
Characteristics of this binary (from libperl):
Compile-time options:
HAS_TIMES
MULTIPLICITY
PERLIO_LAYERS
PERL_COPY_ON_WRITE
PERL_DONT_CREATE_GVSV
PERL_MALLOC_WRAP
PERL_OP_PARENT
PERL_PRESERVE_IVUV
USE_64_BIT_ALL
USE_64_BIT_INT
USE_ITHREADS
USE_LARGE_FILES
USE_LOCALE
USE_LOCALE_COLLATE
USE_LOCALE_CTYPE
USE_LOCALE_NUMERIC
USE_LOCALE_TIME
USE_PERLIO
USE_PERL_ATOF
USE_REENTRANT_API
USE_THREAD_SAFE_LOCALE
Built under linux
Compiled at May 29 2022 08:49:34
%ENV:
PERL_MM_OPT="OPTIMIZE="-march=native -O3 -pipe -fno-plt -fstack-clash-protection -fcf-protection""
@INC:
/usr/lib/perl5/5.36/site_perl
/usr/share/perl5/site_perl
/usr/lib/perl5/5.36/vendor_perl
/usr/share/perl5/vendor_perl
/usr/lib/perl5/5.36/core_perl
/usr/share/perl5/core_perl