Perl-Critic-Dancer2 v0.4000 Perl 5 v5.14.2 i86pc-solaris-thread-multi-64

Status
Pass
From
Chris Williams (BINGOS)
Dist
Perl-Critic-Dancer2 v0.4000
Platform
Perl 5 v5.14.2 i86pc-solaris-thread-multi-64
Date
2022-07-08 01:43:01
ID
4d5ec36c-fe5f-11ec-8f4e-c962458f5e5b
This distribution has been tested as part of the CPAN Testers
project, supporting the Perl programming language.  See
http://wiki.cpantesters.org/ for more information or email
questions to cpan-testers-discuss@perl.org


--

Dear GEEKRUTH,

This is a computer-generated error report created automatically by
CPANPLUS, version 0.9914. Testers personal comments may appear
at the end of this report.


Thank you for uploading your work to CPAN.  Congratulations!
All tests were successful.

TEST RESULTS:

Below is the error stack from stage 'make test':

PERL_DL_NONLAZY=1 "/home/cpan/pit/thr/perl-5.14.2/bin/perl" "-MExtUtils::Command::MM" "-MTest::Harness" "-e" "undef *Test::Harness::Switches; test_harness(0, 'blib/lib', 'blib/arch')" t/*.t
t/00-compile.t ..................... ok
# 
# Versions for all modules listed in MYMETA.json (including optional ones):
# 
# === Configure Requires ===
# 
#     Module              Want Have
#     ------------------- ---- ----
#     ExtUtils::MakeMaker  any 7.64
# 
# === Build Requires ===
# 
#     Module              Want Have
#     ------------------- ---- ----
#     ExtUtils::MakeMaker  any 7.64
# 
# === Test Requires ===
# 
#     Module                  Want     Have
#     ----------------------- ---- --------
#     Dancer2                  any 0.400000
#     ExtUtils::MakeMaker      any     7.64
#     File::Slurp              any  9999.32
#     File::Spec               any     3.75
#     IO::Handle               any     1.31
#     IPC::Open3               any     1.09
#     Perl::Critic::TestUtils  any    1.140
#     Test2::V0                any 0.000145
#     Test::More               any 1.302190
#     lib                      any     0.63
# 
# === Test Recommends ===
# 
#     Module         Want     Have
#     ---------- -------- --------
#     CPAN::Meta 2.120900 2.150010
# 
# === Runtime Requires ===
# 
#     Module                   Want       Have
#     ------------------------ ---- ----------
#     Carp                      any       1.50
#     Modern::Perl              any 1.20220515
#     Perl::Critic::Policy      any      1.140
#     Perl::Critic::Utils       any      1.140
#     Perl::Critic::Utils::PPI  any      1.140
#     Readonly                  any       2.05
#     base                      any       2.16
#     strict                    any       1.04
#     warnings                  any       1.12
# 
t/00-report-prereqs.t .............. ok
t/ProhibitDeprecatedKeywords.t ..... ok
t/ProhibitUnrecommendedKeywords.t .. ok
All tests successful.
Files=4, Tests=8,  4 wallclock secs ( 0.05 usr  0.03 sys +  3.40 cusr  0.70 csys =  4.18 CPU)
Result: PASS


PREREQUISITES:

Here is a list of prerequisites you specified and versions we
managed to load:

	  Module Name                        Have     Want
	  Carp                               1.50        0
	  Dancer2                        0.400000        0
	  ExtUtils::MakeMaker                7.64        0
	  File::Slurp                     9999.32        0
	  File::Spec                         3.75        0
	  IO::Handle                         1.31        0
	  IPC::Open3                         1.09        0
	  Modern::Perl                   1.20220515        0
	  Perl::Critic::Policy              1.140        0
	  Perl::Critic::TestUtils           1.140        0
	  Perl::Critic::Utils               1.140        0
	  Perl::Critic::Utils::PPI          1.140        0
	  Readonly                           2.05        0
	  Test2::V0                      0.000145        0
	  Test::More                     1.302190        0
	  base                               2.16        0
	  lib                                0.63        0
	  strict                             1.04        0
	  warnings                           1.12        0

Perl module toolchain versions installed:
	Module Name                        Have
	CPANPLUS                         0.9914
	CPANPLUS::Dist::Build              0.90
	Cwd                                3.75
	ExtUtils::CBuilder             0.280236
	ExtUtils::Command                  7.64
	ExtUtils::Install                  2.20
	ExtUtils::MakeMaker                7.64
	ExtUtils::Manifest                 1.73
	ExtUtils::ParseXS                  3.44
	File::Spec                         3.75
	Module::Build                    0.4231
	Pod::Parser                        1.37
	Pod::Simple                        3.16
	Test2                          1.302190
	Test::Harness                      3.44
	Test::More                     1.302190
	version                          0.9929

******************************** NOTE ********************************
The comments above are created mechanically, possibly without manual
checking by the sender.  As there are many people performing automatic
tests on each upload to CPAN, it is likely that you will receive
identical messages about the same problem.

If you believe that the message is mistaken, please reply to the first
one with correction and/or additional informations, and do not take
it personally.  We appreciate your patience. :)
**********************************************************************

Additional comments:


This report was machine-generated by CPANPLUS::Dist::YACSmoke 1.08.
Powered by minismokebox version 0.68

CPANPLUS is prefering Build.PL

------------------------------
ENVIRONMENT AND OTHER CONTEXT
------------------------------

Environment variables:

    AUTOMATED_TESTING = 1
    LANG = en_GB.UTF-8
    NONINTERACTIVE_TESTING = 1
    PATH = /usr/bin:/usr/sbin:/sbin:/opt/ooce/bin:/usr/gnu/bin
    PERL5LIB = /home/cpan/pit/jail/vxycv1ZvYY/lib/perl5:/home/cpan/pit/thr/conf/perl-5.14.2/.cpanplus/5.14.2/build/yRgwItknDV/Perl-Critic-Dancer2-0.4000/blib/lib:/home/cpan/pit/thr/conf/perl-5.14.2/.cpanplus/5.14.2/build/yRgwItknDV/Perl-Critic-Dancer2-0.4000/blib/arch
    PERL5_CPANPLUS_IS_RUNNING = 12749
    PERL5_CPANPLUS_IS_VERSION = 0.9914
    PERL5_MINISMOKEBOX = 0.68
    PERL5_YACSMOKE_BASE = /home/cpan/pit/thr/conf/perl-5.14.2
    PERL_EXTUTILS_AUTOINSTALL = --defaultdeps
    PERL_LOCAL_LIB_ROOT = /home/cpan/pit/jail/vxycv1ZvYY
    PERL_MB_OPT = --install_base "/home/cpan/pit/jail/vxycv1ZvYY"
    PERL_MM_OPT = INSTALL_BASE=/home/cpan/pit/jail/vxycv1ZvYY
    PERL_MM_USE_DEFAULT = 1
    SHELL = /bin/bash
    TERM = screen.xterm-256color

Perl special variables (and OS-specific diagnostics, for MSWin32):

    Perl: $^X = /home/cpan/pit/thr/perl-5.14.2/bin/perl
    UID:  $<  = 101
    EUID: $>  = 101
    GID:  $(  = 101 101
    EGID: $)  = 101 101


-------------------------------


--

Summary of my perl5 (revision 5 version 14 subversion 2) configuration:
   
  Platform:
    osname=solaris, osvers=2.11, archname=i86pc-solaris-thread-multi-64
    uname='sunos ouzel 5.11 omnios-r151034-0d278a0cc5 i86pc i386 i86pc '
    config_args='-des -Dprefix=/home/cpan/pit/thr/perl-5.14.2 -Dusethreads -Duse64bitall -Dcc=gcc'
    hint=recommended, useposix=true, d_sigaction=define
    useithreads=define, usemultiplicity=define
    useperlio=define, d_sfio=undef, uselargefiles=define, usesocks=undef
    use64bitint=define, use64bitall=define, uselongdouble=undef
    usemymalloc=n, bincompat5005=undef
  Compiler:
    cc='gcc', ccflags ='-D_REENTRANT -m64 -fwrapv -fno-strict-aliasing -pipe -fstack-protector -D_LARGEFILE_SOURCE -D_FILE_OFFSET_BITS=64 -DPERL_USE_SAFE_PUTENV',
    optimize='-O',
    cppflags='-D_REENTRANT -m64 -fwrapv -fno-strict-aliasing -pipe -fstack-protector'
    ccversion='', gccversion='9.3.0', gccosandvers=''
    intsize=4, longsize=8, ptrsize=8, doublesize=8, byteorder=12345678
    d_longlong=define, longlongsize=8, d_longdbl=define, longdblsize=16
    ivtype='long', ivsize=8, nvtype='double', nvsize=8, Off_t='off_t', lseeksize=8
    alignbytes=8, prototype=define
  Linker and Libraries:
    ld='gcc', ldflags =' -m64 -fstack-protector -L/usr/gnu/lib '
    libpth=/usr/gnu/lib /usr/lib /usr/ccs/lib
    libs=-lsocket -lnsl -ldl -lm -lpthread -lc
    perllibs=-lsocket -lnsl -ldl -lm -lpthread -lc
    libc=/lib/libc.so, so=so, useshrplib=true, libperl=libperl.so
    gnulibc_version=''
  Dynamic Linking:
    dlsrc=dl_dlopen.xs, dlext=so, d_dlsymun=undef, ccdlflags='  -R /home/cpan/pit/thr/perl-5.14.2/lib/5.14.2/i86pc-solaris-thread-multi-64/CORE'
    cccdlflags='-fPIC', lddlflags=' -shared -m64 -L/usr/gnu/lib -fstack-protector'


Characteristics of this binary (from libperl): 
  Compile-time options: MULTIPLICITY PERL_DONT_CREATE_GVSV
                        PERL_IMPLICIT_CONTEXT PERL_MALLOC_WRAP
                        PERL_PRESERVE_IVUV PERL_USE_SAFE_PUTENV
                        USE_64_BIT_ALL USE_64_BIT_INT USE_ITHREADS
                        USE_LARGE_FILES USE_PERLIO USE_PERL_ATOF
                        USE_REENTRANT_API
  Locally applied patches:
	Devel::PatchPerl 2.00
  Built under solaris
  Compiled at Aug 20 2020 00:13:58
  %ENV:
    PERL5LIB="/home/cpan/pit/jail/vxycv1ZvYY/lib/perl5:/home/cpan/pit/thr/conf/perl-5.14.2/.cpanplus/5.14.2/build/yRgwItknDV/Perl-Critic-Dancer2-0.4000/blib/lib:/home/cpan/pit/thr/conf/perl-5.14.2/.cpanplus/5.14.2/build/yRgwItknDV/Perl-Critic-Dancer2-0.4000/blib/arch"
    PERL5_CPANPLUS_IS_RUNNING="12749"
    PERL5_CPANPLUS_IS_VERSION="0.9914"
    PERL5_MINISMOKEBOX="0.68"
    PERL5_YACSMOKE_BASE="/home/cpan/pit/thr/conf/perl-5.14.2"
    PERL_EXTUTILS_AUTOINSTALL="--defaultdeps"
    PERL_LOCAL_LIB_ROOT="/home/cpan/pit/jail/vxycv1ZvYY"
    PERL_MB_OPT="--install_base "/home/cpan/pit/jail/vxycv1ZvYY""
    PERL_MM_OPT="INSTALL_BASE=/home/cpan/pit/jail/vxycv1ZvYY"
    PERL_MM_USE_DEFAULT="1"
  @INC:
    /home/cpan/pit/jail/vxycv1ZvYY/lib/perl5/5.14.2/i86pc-solaris-thread-multi-64
    /home/cpan/pit/jail/vxycv1ZvYY/lib/perl5/5.14.2
    /home/cpan/pit/jail/vxycv1ZvYY/lib/perl5/i86pc-solaris-thread-multi-64
    /home/cpan/pit/jail/vxycv1ZvYY/lib/perl5
    /home/cpan/pit/thr/conf/perl-5.14.2/.cpanplus/5.14.2/build/yRgwItknDV/Perl-Critic-Dancer2-0.4000/blib/lib
    /home/cpan/pit/thr/conf/perl-5.14.2/.cpanplus/5.14.2/build/yRgwItknDV/Perl-Critic-Dancer2-0.4000/blib/arch
    /home/cpan/pit/thr/perl-5.14.2/lib/site_perl/5.14.2/i86pc-solaris-thread-multi-64
    /home/cpan/pit/thr/perl-5.14.2/lib/site_perl/5.14.2
    /home/cpan/pit/thr/perl-5.14.2/lib/5.14.2/i86pc-solaris-thread-multi-64
    /home/cpan/pit/thr/perl-5.14.2/lib/5.14.2
    .