Path-Tiny v0.144 Perl 5 v5.34.1 x86_64-linux-thread-multi-ld
- Status
- Pass
- From
- Nigel Horne
- Dist
-
Path-Tiny v0.144
- Platform
- Perl 5 v5.34.1 x86_64-linux-thread-multi-ld
- Date
- 2023-07-22 13:54:37
- ID
- 4c271356-2897-11ee-a0a4-897eaf4b5bef
This distribution has been tested as part of the CPAN Testers
project, supporting the Perl programming language. See
http://wiki.cpantesters.org/ for more information or email
questions to cpan-testers-discuss@perl.org
--
Dear David Golden,
This is a computer-generated report for Path-Tiny-0.144
on perl 5.34.1, created by CPAN-Reporter-1.2018.
Thank you for uploading your work to CPAN. Congratulations!
All tests were successful.
Sections of this report:
* Tester comments
* Program output
* Prerequisites
* Environment and other context
------------------------------
TESTER COMMENTS
------------------------------
Additional comments from tester:
none provided
------------------------------
PROGRAM OUTPUT
------------------------------
Output from '/usr/bin/make test':
PERL_DL_NONLAZY=1 "/home/njh/perl5/perlbrew/perls/perl-5.34.1-thread-multi-ld/bin/perl5.34.1" "-MExtUtils::Command::MM" "-MTest::Harness" "-e" "undef *Test::Harness::Switches; test_harness(0, 'blib/lib', 'blib/arch')" t/*.t
t/basename.t ...................... ok
t/children.t ...................... ok
t/exports.t ....................... ok
t/digest.t ........................ ok
t/exception.t ..................... ok
t/basic.t ......................... ok
t/has_same_bytes.t ................ ok
#
# Versions for all modules listed in MYMETA.json (including optional ones):
#
# === Configure Requires ===
#
# Module Want Have
# ------------------- ---- ----
# ExtUtils::MakeMaker 6.17 7.64
#
# === Configure Suggests ===
#
# Module Want Have
# -------- ------- ----
# JSON::PP 2.27300 4.06
#
# === Build Requires ===
#
# Module Want Have
# ------------------- ---- ----
# ExtUtils::MakeMaker any 7.64
#
# === Test Requires ===
#
# Module Want Have
# --------------------- ---- --------
# Digest::MD5 any 2.58
# ExtUtils::MakeMaker any 7.64
# File::Basename any 2.85
# File::Spec 0.86 3.80
# File::Spec::Functions any 3.80
# File::Spec::Unix any 3.80
# File::Temp 0.19 0.2311
# Test::More 0.96 1.302183
# lib any 0.65
# open any 1.12
#
# === Test Recommends ===
#
# Module Want Have
# ------------------ -------- --------
# CPAN::Meta 2.120900 2.150010
# Test::FailWarnings any missing
# Test::MockRandom any missing
#
# === Runtime Requires ===
#
# Module Want Have
# ------------------ ---- -------
# Carp any 1.52
# Cwd any 3.80
# Digest 1.03 1.19
# Digest::SHA 5.45 6.02
# Encode any 3.08_01
# Exporter 5.57 5.76
# Fcntl any 1.14
# File::Compare any 1.1006
# File::Copy any 2.35
# File::Glob any 1.33
# File::Path 2.07 2.18
# File::Spec 0.86 3.80
# File::Temp 0.19 0.2311
# File::stat any 1.09
# constant any 1.33
# overload any 1.33
# strict any 1.12
# warnings any 1.51
# warnings::register any 1.04
#
# === Runtime Recommends ===
#
# Module Want Have
# ------------- ---- -------
# Unicode::UTF8 0.58 missing
#
t/00-report-prereqs.t ............. ok
t/mkdir.t ......................... ok
t/filesystem.t .................... ok
t/locking.t ....................... ok
t/mkpath.t ........................ ok
t/mutable_tree_while_iterating.t .. ok
t/normalize.t ..................... ok
t/input_output.t .................. ok
t/overloading.t ................... ok
t/input_output_no_UU.t ............ ok
t/input_output_no_PU_UU.t ......... ok
t/chmod.t ......................... ok
t/recurse.t ....................... ok
t/rel-abs.t ....................... ok
t/sig_die.t ....................... ok
t/parent.t ........................ ok
t/zz-atomic.t ..................... skipped: Test::MockRandom required for atomicity tests
t/visit.t ......................... ok
t/symlinks.t ...................... ok
t/size.t .......................... ok
t/subsumes.t ...................... ok
t/temp.t .......................... ok
t/zzz-spec.t ...................... ok
All tests successful.
Files=30, Tests=1769, 0 wallclock secs ( 0.25 usr 0.03 sys + 2.63 cusr 0.40 csys = 3.31 CPU)
Result: PASS
------------------------------
PREREQUISITES
------------------------------
Prerequisite modules loaded:
requires:
Module Need Have
--------------------- -------- --------
Carp 0 1.52
constant 0 1.33
Cwd 0 3.80
Digest 1.03 1.19
Digest::SHA 5.45 6.02
Encode 0 3.08_01
Exporter 5.57 5.76
Fcntl 0 1.14
File::Compare 0 1.1006
File::Copy 0 2.35
File::Glob 0 1.33
File::Path 2.07 2.18
File::Spec 0.86 3.80
File::stat 0 1.09
File::Temp 0.19 0.2311
overload 0 1.33
perl 5.008001 5.034001
strict 0 1.12
warnings 0 1.51
warnings::register 0 1.04
build_requires:
Module Need Have
--------------------- -------- --------
Digest::MD5 0 2.58
ExtUtils::MakeMaker 0 7.64
File::Basename 0 2.85
File::Spec 0.86 3.80
File::Spec::Functions 0 3.80
File::Spec::Unix 0 3.80
File::Temp 0.19 0.2311
lib 0 0.65
open 0 1.12
Test::More 0.96 1.302183
configure_requires:
Module Need Have
--------------------- -------- --------
ExtUtils::MakeMaker 6.17 7.64
perl 5.008001 5.034001
opt_requires:
Module Need Have
--------------------- -------- --------
! Unicode::UTF8 0.58 n/a
opt_build_requires:
Module Need Have
--------------------- -------- --------
CPAN::Meta 2.120900 2.150010
! Test::FailWarnings 0 n/a
! Test::MockRandom 0 n/a
------------------------------
ENVIRONMENT AND OTHER CONTEXT
------------------------------
Environment variables:
HARNESS_OPTIONS = j10:c
LANG = en_GB.UTF-8
LD_LIBRARY_PATH = /usr/local/lib::
NONINTERACTIVE_TESTING = 1
PATH = /home/njh/perl5/perlbrew/bin:/home/njh/perl5/perlbrew/perls/perl-5.34.1-thread-multi-ld/bin:/home/njh/perl5/perlbrew/bin:/usr/local/bin:/usr/bin:/bin:/usr/local/games:/usr/games:/home/njh/bin
PERL5LIB =
PERL5OPT =
PERL5_CPANPLUS_IS_RUNNING = 49912
PERL5_CPAN_IS_RUNNING = 49912
PERLBREW_HOME = /home/njh/.perlbrew
PERLBREW_LIB =
PERLBREW_MANPATH = /home/njh/perl5/perlbrew/perls/perl-5.34.1-thread-multi-ld/man
PERLBREW_PATH = /home/njh/perl5/perlbrew/bin:/home/njh/perl5/perlbrew/perls/perl-5.34.1-thread-multi-ld/bin
PERLBREW_PERL = perl-5.34.1-thread-multi-ld
PERLBREW_ROOT = /home/njh/perl5/perlbrew
PERLBREW_SHELLRC_VERSION = 0.96
PERLBREW_VERSION = 0.97
PERL_LOCAL_LIB_ROOT =
PERL_MM_USE_DEFAULT = 1
PERL_USE_UNSAFE_INC = 1
SHELL = /bin/bash
TEMP = /tmp/user/1000
TERM = xterm-256color
TMPDIR = /tmp/user/1000
Perl special variables (and OS-specific diagnostics, for MSWin32):
$^X = /home/njh/perl5/perlbrew/perls/perl-5.34.1-thread-multi-ld/bin/perl5.34.1
$UID/$EUID = 1000 / 1000
$GID = 1000 4 24 25 29 30 44 46 107 996 1000
$EGID = 1000 4 24 25 29 30 44 46 107 996 1000
Perl module toolchain versions installed:
Module Have
------------------- --------
CPAN 2.34
CPAN::Meta 2.150010
Cwd 3.80
ExtUtils::CBuilder 0.280236
ExtUtils::Command 7.64
ExtUtils::Install 2.20
ExtUtils::MakeMaker 7.64
ExtUtils::Manifest 1.73
ExtUtils::ParseXS 3.43
File::Spec 3.80
JSON n/a
JSON::PP 4.06
Module::Build n/a
Module::Signature n/a
Parse::CPAN::Meta 2.150010
Test::Harness 3.43
Test::More 1.302183
YAML 1.30
YAML::Syck 1.34
version 0.9928
--
Summary of my perl5 (revision 5 version 34 subversion 1) configuration:
Platform:
osname=linux
osvers=5.15.0-3-amd64
archname=x86_64-linux-thread-multi-ld
uname='linux microcenter 5.15.0-3-amd64 #1 smp debian 5.15.15-1 (2022-01-18) x86_64 gnulinux '
config_args='-de -Dprefix=/home/njh/perl5/perlbrew/perls/perl-5.34.1-thread-multi-ld -Dusedevel -Duselongdouble -Dusemultiplicity -Dusethreads -Accflags=-O2 -W -Wformat=2 -Wswitch -Wshadow -Wwrite-strings -Wuninitialized -Wall -pipe -fomit-frame-pointer -pedantic -D_FORTIFY_SOURCE=2 -Wpointer-arith -Wstrict-prototypes -fstack-protector -Wstack-protector -Wextra -Wbad-function-cast -Wcast-align -Wcast-qual -Wdisabled-optimization -Wendif-labels -Wfloat-equal -Wformat-nonliteral -Winline -Wmissing-declarations -Wmissing-prototypes -Wnested-externs -Wpointer-arith -Wundef -Wformat-security -ftree-vectorize -msse -mfpmath=sse -msse2 -mssse3 -msse4.1 -msse4.2 -maes -fdiagnostics-color=auto -mtune=native -march=native -flto -Aeval:scriptdir=/home/njh/perl5/perlbrew/perls/perl-5.34.1-thread-multi-ld/bin'
hint=recommended
useposix=true
d_sigaction=define
useithreads=define
usemultiplicity=define
use64bitint=define
use64bitall=define
uselongdouble=define
usemymalloc=n
default_inc_excludes_dot=define
Compiler:
cc='cc'
ccflags ='-D_REENTRANT -D_GNU_SOURCE -O2 -W -Wformat=2 -Wswitch -Wshadow -Wwrite-strings -Wuninitialized -Wall -pipe -fomit-frame-pointer -pedantic -D_FORTIFY_SOURCE=2 -Wpointer-arith -Wstrict-prototypes -fstack-protector -Wstack-protector -Wextra -Wbad-function-cast -Wcast-align -Wcast-qual -Wdisabled-optimization -Wendif-labels -Wfloat-equal -Wformat-nonliteral -Winline -Wmissing-declarations -Wmissing-prototypes -Wnested-externs -Wpointer-arith -Wundef -Wformat-security -ftree-vectorize -msse -mfpmath=sse -msse2 -mssse3 -msse4.1 -msse4.2 -maes -fdiagnostics-color=auto -mtune=native -march=native -flto -fwrapv -fno-strict-aliasing -fstack-protector-strong -I/usr/local/include -D_LARGEFILE_SOURCE -D_FILE_OFFSET_BITS=64'
optimize='-O2'
cppflags='-D_REENTRANT -D_GNU_SOURCE -O2 -W -Wformat=2 -Wswitch -Wshadow -Wwrite-strings -Wuninitialized -Wall -pipe -fomit-frame-pointer -pedantic -D_FORTIFY_SOURCE=2 -Wpointer-arith -Wstrict-prototypes -fstack-protector -Wstack-protector -Wextra -Wbad-function-cast -Wcast-align -Wcast-qual -Wdisabled-optimization -Wendif-labels -Wfloat-equal -Wformat-nonliteral -Winline -Wmissing-declarations -Wmissing-prototypes -Wnested-externs -Wpointer-arith -Wundef -Wformat-security -ftree-vectorize -msse -mfpmath=sse -msse2 -mssse3 -msse4.1 -msse4.2 -maes -fdiagnostics-color=auto -mtune=native -march=native -flto -fwrapv -fno-strict-aliasing -fstack-protector-strong -I/usr/local/include'
ccversion=''
gccversion='11.2.0'
gccosandvers=''
intsize=4
longsize=8
ptrsize=8
doublesize=8
byteorder=12345678
doublekind=3
d_longlong=define
longlongsize=8
d_longdbl=define
longdblsize=16
longdblkind=3
ivtype='long'
ivsize=8
nvtype='long double'
nvsize=16
Off_t='off_t'
lseeksize=8
alignbytes=16
prototype=define
Linker and Libraries:
ld='cc'
ldflags =' -fstack-protector-strong -L/usr/local/lib'
libpth=/usr/local/lib /usr/lib/x86_64-linux-gnu /usr/lib /lib/x86_64-linux-gnu /lib
libs=-lpthread -lnsl -lgdbm -ldb -ldl -lm -lcrypt -lutil -lc
perllibs=-lpthread -lnsl -ldl -lm -lcrypt -lutil -lc
libc=libc-2.33.so
so=so
useshrplib=false
libperl=libperl.a
gnulibc_version='2.33'
Dynamic Linking:
dlsrc=dl_dlopen.xs
dlext=so
d_dlsymun=undef
ccdlflags='-Wl,-E'
cccdlflags='-fPIC'
lddlflags='-shared -O2 -L/usr/local/lib -fstack-protector-strong'
Characteristics of this binary (from libperl):
Compile-time options:
HAS_TIMES
MULTIPLICITY
PERLIO_LAYERS
PERL_COPY_ON_WRITE
PERL_DONT_CREATE_GVSV
PERL_IMPLICIT_CONTEXT
PERL_MALLOC_WRAP
PERL_OP_PARENT
PERL_PRESERVE_IVUV
PERL_USE_DEVEL
USE_64_BIT_ALL
USE_64_BIT_INT
USE_ITHREADS
USE_LARGE_FILES
USE_LOCALE
USE_LOCALE_COLLATE
USE_LOCALE_CTYPE
USE_LOCALE_NUMERIC
USE_LOCALE_TIME
USE_LONG_DOUBLE
USE_PERLIO
USE_PERL_ATOF
USE_REENTRANT_API
USE_THREAD_SAFE_LOCALE
Built under linux
Compiled at Mar 24 2022 19:15:12
%ENV:
PERL5LIB=""
PERL5OPT=""
PERL5_CPANPLUS_IS_RUNNING="49912"
PERL5_CPAN_IS_RUNNING="49912"
PERLBREW_HOME="/home/njh/.perlbrew"
PERLBREW_LIB=""
PERLBREW_MANPATH="/home/njh/perl5/perlbrew/perls/perl-5.34.1-thread-multi-ld/man"
PERLBREW_PATH="/home/njh/perl5/perlbrew/bin:/home/njh/perl5/perlbrew/perls/perl-5.34.1-thread-multi-ld/bin"
PERLBREW_PERL="perl-5.34.1-thread-multi-ld"
PERLBREW_ROOT="/home/njh/perl5/perlbrew"
PERLBREW_SHELLRC_VERSION="0.96"
PERLBREW_VERSION="0.97"
PERL_LOCAL_LIB_ROOT=""
PERL_MM_USE_DEFAULT="1"
PERL_USE_UNSAFE_INC="1"
@INC:
/home/njh/perl5/perlbrew/perls/perl-5.34.1-thread-multi-ld/lib/site_perl/5.34.1/x86_64-linux-thread-multi-ld
/home/njh/perl5/perlbrew/perls/perl-5.34.1-thread-multi-ld/lib/site_perl/5.34.1
/home/njh/perl5/perlbrew/perls/perl-5.34.1-thread-multi-ld/lib/5.34.1/x86_64-linux-thread-multi-ld
/home/njh/perl5/perlbrew/perls/perl-5.34.1-thread-multi-ld/lib/5.34.1
.