Dancer2-Plugin-Auth-Extensible-Provider-DBIxClass v0.0902 Perl 5 v5.34.0 x86_64-linux-thread-multi

Status
Pass
From
Andreas J. König (ANDK)
Dist
Dancer2-Plugin-Auth-Extensible-Provider-DBIxClass v0.0902
Platform
Perl 5 v5.34.0 x86_64-linux-thread-multi
Date
2022-11-13 05:52:03
ID
4c1aa6b6-6317-11ed-a985-bbd86453daea
This distribution has been tested as part of the CPAN Testers
project, supporting the Perl programming language.  See
http://wiki.cpantesters.org/ for more information or email
questions to cpan-testers-discuss@perl.org


--
Dear D Ruth Holloway,

This is a computer-generated report for Dancer2-Plugin-Auth-Extensible-Provider-DBIxClass-0.0902
on perl 5.34.0, created by CPAN-Reporter-1.2018.

Thank you for uploading your work to CPAN.  Congratulations!
All tests were successful.

Sections of this report:

    * Tester comments
    * Program output
    * Prerequisites
    * Environment and other context

------------------------------
TESTER COMMENTS
------------------------------

Additional comments from tester:

this report is from an automated smoke testing program
and was not reviewed by a human for accuracy

------------------------------
PROGRAM OUTPUT
------------------------------

Output from '/usr/bin/make test':

PERL_DL_NONLAZY=1 "/home/sand/src/perl/repoperls/installed-perls/host/k93stretch/v5.34.0/2cd7/bin/perl" "-MExtUtils::Command::MM" "-MTest::Harness" "-e" "undef *Test::Harness::Switches; test_harness(0, 'blib/lib', 'blib/arch')" t/*.t
t/00-compile.t ....................... ok
# 
# Versions for all modules listed in MYMETA.json (including optional ones):
# 
# === Configure Requires ===
# 
#     Module              Want Have
#     ------------------- ---- ----
#     ExtUtils::MakeMaker  any 7.64
# 
# === Build Requires ===
# 
#     Module              Want Have
#     ------------------- ---- ----
#     ExtUtils::MakeMaker  any 7.64
# 
# === Test Requires ===
# 
#     Module                                        Want       Have
#     -------------------------------------------- ----- ----------
#     DBIx::Class::Core                              any      undef
#     DBIx::Class::Schema                            any      undef
#     Dancer2                                        any   0.400000
#     Dancer2::Plugin::Auth::Extensible            0.620      0.710
#     Dancer2::Plugin::Auth::Extensible::Test        any      0.710
#     Dancer2::Plugin::Auth::Extensible::Test::App   any      0.710
#     Dancer2::Plugin::DBIx::Class                   any     1.1001
#     DateTime::Format::SQLite                       any       0.11
#     ExtUtils::MakeMaker                            any       7.64
#     File::Spec                                     any       3.80
#     HTTP::Cookies                                  any       6.10
#     HTTP::Request::Common                          any       6.36
#     IO::Handle                                     any       1.48
#     IPC::Open3                                     any       1.21
#     Plack::Test                                    any      undef
#     SQL::Translator                                any       1.62
#     Test::Deep                                     any      1.130
#     Test::MockObject                               any 1.20200122
#     Test::More                                     any   1.302190
#     Test::Warn                                     any       0.36
#     base                                           any       2.27
#     lib                                            any       0.65
#     strict                                         any       1.12
#     warnings                                       any       1.51
# 
# === Test Recommends ===
# 
#     Module         Want     Have
#     ---------- -------- --------
#     CPAN::Meta 2.120900 2.150010
# 
# === Runtime Requires ===
# 
#     Module                                            Want       Have
#     ------------------------------------------------- ---- ----------
#     Carp                                               any       1.52
#     DBIx::Class::ResultClass::HashRefInflator          any      undef
#     Dancer2::Core::Types                               any   0.400000
#     Dancer2::Plugin::Auth::Extensible::Role::Provider  any      0.710
#     DateTime                                           any       1.57
#     Modern::Perl                                       any 1.20200211
#     Moo                                                any   2.005004
#     Scalar::Util                                       any       1.62
#     String::CamelCase                                  any       0.04
#     namespace::clean                                   any       0.27
# 
t/00-report-prereqs.t ................ ok
t/01-deprecation.t ................... ok
t/02-provider-dbixclass.t ............ ok
t/03-provider-dbic-user_as_object.t .. ok
All tests successful.
Files=5, Tests=60, 10 wallclock secs ( 0.17 usr  0.02 sys +  7.91 cusr  0.47 csys =  8.57 CPU)
Result: PASS

------------------------------
PREREQUISITES
------------------------------

Prerequisite modules loaded:

requires:

    Module                                            Need  Have      
    ------------------------------------------------- ----- ----------
    Carp                                              0     1.52      
    Dancer2::Core::Types                              0     0.400000  
    Dancer2::Plugin::Auth::Extensible::Role::Provider 0     0.710     
    DateTime                                          0     1.57      
    DBIx::Class::ResultClass::HashRefInflator         0     0         
    Modern::Perl                                      0     1.20200211
    Moo                                               0     2.005004  
    namespace::clean                                  0     0.27      
    perl                                              5.006 5.034000  
    Scalar::Util                                      0     1.62      
    String::CamelCase                                 0     0.04      

build_requires:

    Module                                            Need  Have      
    ------------------------------------------------- ----- ----------
    base                                              0     2.27      
    Dancer2                                           0     0.400000  
    Dancer2::Plugin::Auth::Extensible                 0.620 0.710     
    Dancer2::Plugin::Auth::Extensible::Test           0     0.710     
  ! Dancer2::Plugin::Auth::Extensible::Test::App      0     broken    
    Dancer2::Plugin::DBIx::Class                      0     1.1001    
    DateTime::Format::SQLite                          0     0.11      
    DBIx::Class::Core                                 0     0         
    DBIx::Class::Schema                               0     0         
    ExtUtils::MakeMaker                               0     7.64      
    File::Spec                                        0     3.80      
    HTTP::Cookies                                     0     6.10      
    HTTP::Request::Common                             0     6.36      
    IO::Handle                                        0     1.48      
    IPC::Open3                                        0     1.21      
    lib                                               0     0.65      
    Plack::Test                                       0     0         
    SQL::Translator                                   0     1.62      
    strict                                            0     1.12      
    Test::Deep                                        0     1.130     
    Test::MockObject                                  0     1.20200122
    Test::More                                        0     1.302190  
    Test::Warn                                        0     0.36      
    warnings                                          0     1.51      

configure_requires:

    Module                                            Need  Have      
    ------------------------------------------------- ----- ----------
    ExtUtils::MakeMaker                               0     7.64      
    perl                                              5.006 5.034000  


------------------------------
ENVIRONMENT AND OTHER CONTEXT
------------------------------

Environment variables:

    AUTOMATED_TESTING = 1
    LANG = en_US.UTF-8
    LANGUAGE = en_US:en
    PATH = /home/sand/bin:/usr/local/bin:/usr/bin:/bin:/usr/games:/usr/local/perl/bin:/usr/X11/bin:/sbin:/usr/sbin
    PERL5LIB = /tmp/loop_over_bdir-8537-1sP4y1/Dancer2-Plugin-DBIx-Class-1.1001-0/blib/arch:/tmp/loop_over_bdir-8537-1sP4y1/Dancer2-Plugin-DBIx-Class-1.1001-0/blib/lib:/tmp/loop_over_bdir-8537-1sP4y1/Dancer2-Plugin-Ajax-0.400000-0/blib/arch:/tmp/loop_over_bdir-8537-1sP4y1/Dancer2-Plugin-Ajax-0.400000-0/blib/lib:/tmp/loop_over_bdir-8537-1sP4y1/DBIx-Class-TemporalRelations-0.9000-0/blib/arch:/tmp/loop_over_bdir-8537-1sP4y1/DBIx-Class-TemporalRelations-0.9000-0/blib/lib:/tmp/loop_over_bdir-8537-1sP4y1/Test-DBIx-Class-0.52-0/blib/arch:/tmp/loop_over_bdir-8537-1sP4y1/Test-DBIx-Class-0.52-0/blib/lib:/tmp/loop_over_bdir-8537-1sP4y1/DBIx-Class-TimeStamp-0.14-0/blib/arch:/tmp/loop_over_bdir-8537-1sP4y1/DBIx-Class-TimeStamp-0.14-0/blib/lib:/tmp/loop_over_bdir-8537-1sP4y1/Time-Warp-0.55-0/blib/arch:/tmp/loop_over_bdir-8537-1sP4y1/Time-Warp-0.55-0/blib/lib:/tmp/loop_over_bdir-8537-1sP4y1/DBIx-Class-Schema-PopulateMore-0.19-0/blib/arch:/tmp/loop_over_bdir-8537-1sP4y1/DBIx-Class-Schema-PopulateMore-0.19-0/blib/lib:/tmp/loop_over_bdir-8537-1sP4y1/DateTimeX-Easy-0.091-0/blib/arch:/tmp/loop_over_bdir-8537-1sP4y1/DateTimeX-Easy-0.091-0/blib/lib:/tmp/loop_over_bdir-8537-1sP4y1/Lingua-EN-Inflexion-0.002007-0/blib/arch:/tmp/loop_over_bdir-8537-1sP4y1/Lingua-EN-Inflexion-0.002007-0/blib/lib:/tmp/loop_over_bdir-8537-1sP4y1/Lingua-EN-Nums2Words-1.16-0/blib/arch:/tmp/loop_over_bdir-8537-1sP4y1/Lingua-EN-Nums2Words-1.16-0/blib/lib:/tmp/loop_over_bdir-8537-1sP4y1/DBIx-Class-Schema-ResultSetNames-1.0301-0/blib/arch:/tmp/loop_over_bdir-8537-1sP4y1/DBIx-Class-Schema-ResultSetNames-1.0301-0/blib/lib:/tmp/loop_over_bdir-8537-1sP4y1/Code-TidyAll-Plugin-Test-Vars-0.04-0/blib/arch:/tmp/loop_over_bdir-8537-1sP4y1/Code-TidyAll-Plugin-Test-Vars-0.04-0/blib/lib
    PERL5OPT = 
    PERL5_CPANPLUS_IS_RUNNING = 22572
    PERL5_CPAN_IS_RUNNING = 22572
    PERL_CANARY_STABILITY_NOPROMPT = 1
    PERL_MM_USE_DEFAULT = 1
    PERL_USE_UNSAFE_INC = 1
    SHELL = /usr/bin/zsh
    TERM = screen

Perl special variables (and OS-specific diagnostics, for MSWin32):

    $^X = /home/sand/src/perl/repoperls/installed-perls/host/k93stretch/v5.34.0/2cd7/bin/perl
    $UID/$EUID = 1005 / 1005
    $GID = 1005 1005
    $EGID = 1005 1005

Perl module toolchain versions installed:

    Module              Have    
    ------------------- --------
    CPAN                2.34    
    CPAN::Meta          2.150010
    Cwd                 3.80    
    ExtUtils::CBuilder  0.280236
    ExtUtils::Command   7.64    
    ExtUtils::Install   2.20    
    ExtUtils::MakeMaker 7.64    
    ExtUtils::Manifest  1.73    
    ExtUtils::ParseXS   3.44    
    File::Spec          3.80    
    JSON                4.05    
    JSON::PP            4.08    
    Module::Build       0.4231  
    Module::Signature   0.88    
    Parse::CPAN::Meta   2.150010
    Test::Harness       3.43    
    Test::More          1.302190
    YAML                1.30    
    YAML::Syck          1.34    
    version             0.9929  


--

Summary of my perl5 (revision 5 version 34 subversion 0) configuration:
  Commit id: 79a7b254d85a10b65126ad99bf10e70480569d68
  Platform:
    osname=linux
    osvers=4.9.0-18-amd64
    archname=x86_64-linux-thread-multi
    uname='linux k93stretch 4.9.0-18-amd64 #1 smp debian 4.9.303-1 (2022-03-07) x86_64 gnulinux '
    config_args='-Dprefix=/home/sand/src/perl/repoperls/installed-perls/host/k93stretch/v5.34.0/2cd7 -Dmyhostname=k93stretch -Dinstallusrbinperl=n -Uversiononly -Dusedevel -des -Ui_db -Dlibswanted=cl pthread socket inet nsl gdbm dbm malloc dl ld sun m crypt sec util c cposix posix ucb BSD gdbm_compat -Duseithreads -Uuselongdouble -DEBUGGING=both'
    hint=recommended
    useposix=true
    d_sigaction=define
    useithreads=define
    usemultiplicity=define
    use64bitint=define
    use64bitall=define
    uselongdouble=undef
    usemymalloc=n
    default_inc_excludes_dot=define
  Compiler:
    cc='cc'
    ccflags ='-D_REENTRANT -D_GNU_SOURCE -fwrapv -DDEBUGGING -fno-strict-aliasing -pipe -fstack-protector-strong -I/usr/local/include -D_LARGEFILE_SOURCE -D_FILE_OFFSET_BITS=64 -D_FORTIFY_SOURCE=2'
    optimize='-O2 -g'
    cppflags='-D_REENTRANT -D_GNU_SOURCE -fwrapv -DDEBUGGING -fno-strict-aliasing -pipe -fstack-protector-strong -I/usr/local/include'
    ccversion=''
    gccversion='6.3.0 20170516'
    gccosandvers=''
    intsize=4
    longsize=8
    ptrsize=8
    doublesize=8
    byteorder=12345678
    doublekind=3
    d_longlong=define
    longlongsize=8
    d_longdbl=define
    longdblsize=16
    longdblkind=3
    ivtype='long'
    ivsize=8
    nvtype='double'
    nvsize=8
    Off_t='off_t'
    lseeksize=8
    alignbytes=8
    prototype=define
  Linker and Libraries:
    ld='cc'
    ldflags =' -fstack-protector-strong -L/usr/local/lib'
    libpth=/usr/local/lib /usr/lib/x86_64-linux-gnu /usr/lib /lib/x86_64-linux-gnu /lib
    libs=-lpthread -lnsl -ldl -lm -lcrypt -lutil -lc
    perllibs=-lpthread -lnsl -ldl -lm -lcrypt -lutil -lc
    libc=libc-2.24.so
    so=so
    useshrplib=false
    libperl=libperl.a
    gnulibc_version='2.24'
  Dynamic Linking:
    dlsrc=dl_dlopen.xs
    dlext=so
    d_dlsymun=undef
    ccdlflags='-Wl,-E'
    cccdlflags='-fPIC'
    lddlflags='-shared -O2 -g -L/usr/local/lib -fstack-protector-strong'


Characteristics of this binary (from libperl): 
  Compile-time options:
    DEBUGGING
    HAS_TIMES
    MULTIPLICITY
    PERLIO_LAYERS
    PERL_COPY_ON_WRITE
    PERL_DONT_CREATE_GVSV
    PERL_IMPLICIT_CONTEXT
    PERL_MALLOC_WRAP
    PERL_OP_PARENT
    PERL_PRESERVE_IVUV
    PERL_TRACK_MEMPOOL
    PERL_USE_DEVEL
    USE_64_BIT_ALL
    USE_64_BIT_INT
    USE_ITHREADS
    USE_LARGE_FILES
    USE_LOCALE
    USE_LOCALE_COLLATE
    USE_LOCALE_CTYPE
    USE_LOCALE_NUMERIC
    USE_LOCALE_TIME
    USE_PERLIO
    USE_PERL_ATOF
    USE_REENTRANT_API
    USE_THREAD_SAFE_LOCALE
  Built under linux
  Compiled at Apr 15 2022 19:27:34
  %ENV:
    PERL5LIB="/tmp/loop_over_bdir-8537-1sP4y1/Dancer2-Plugin-DBIx-Class-1.1001-0/blib/arch:/tmp/loop_over_bdir-8537-1sP4y1/Dancer2-Plugin-DBIx-Class-1.1001-0/blib/lib:/tmp/loop_over_bdir-8537-1sP4y1/Dancer2-Plugin-Ajax-0.400000-0/blib/arch:/tmp/loop_over_bdir-8537-1sP4y1/Dancer2-Plugin-Ajax-0.400000-0/blib/lib:/tmp/loop_over_bdir-8537-1sP4y1/DBIx-Class-TemporalRelations-0.9000-0/blib/arch:/tmp/loop_over_bdir-8537-1sP4y1/DBIx-Class-TemporalRelations-0.9000-0/blib/lib:/tmp/loop_over_bdir-8537-1sP4y1/Test-DBIx-Class-0.52-0/blib/arch:/tmp/loop_over_bdir-8537-1sP4y1/Test-DBIx-Class-0.52-0/blib/lib:/tmp/loop_over_bdir-8537-1sP4y1/DBIx-Class-TimeStamp-0.14-0/blib/arch:/tmp/loop_over_bdir-8537-1sP4y1/DBIx-Class-TimeStamp-0.14-0/blib/lib:/tmp/loop_over_bdir-8537-1sP4y1/Time-Warp-0.55-0/blib/arch:/tmp/loop_over_bdir-8537-1sP4y1/Time-Warp-0.55-0/blib/lib:/tmp/loop_over_bdir-8537-1sP4y1/DBIx-Class-Schema-PopulateMore-0.19-0/blib/arch:/tmp/loop_over_bdir-8537-1sP4y1/DBIx-Class-Schema-PopulateMore-0.19-0/blib/lib:/tmp/loop_over_bdir-8537-1sP4y1/DateTimeX-Easy-0.091-0/blib/arch:/tmp/loop_over_bdir-8537-1sP4y1/DateTimeX-Easy-0.091-0/blib/lib:/tmp/loop_over_bdir-8537-1sP4y1/Lingua-EN-Inflexion-0.002007-0/blib/arch:/tmp/loop_over_bdir-8537-1sP4y1/Lingua-EN-Inflexion-0.002007-0/blib/lib:/tmp/loop_over_bdir-8537-1sP4y1/Lingua-EN-Nums2Words-1.16-0/blib/arch:/tmp/loop_over_bdir-8537-1sP4y1/Lingua-EN-Nums2Words-1.16-0/blib/lib:/tmp/loop_over_bdir-8537-1sP4y1/DBIx-Class-Schema-ResultSetNames-1.0301-0/blib/arch:/tmp/loop_over_bdir-8537-1sP4y1/DBIx-Class-Schema-ResultSetNames-1.0301-0/blib/lib:/tmp/loop_over_bdir-8537-1sP4y1/Code-TidyAll-Plugin-Test-Vars-0.04-0/blib/arch:/tmp/loop_over_bdir-8537-1sP4y1/Code-TidyAll-Plugin-Test-Vars-0.04-0/blib/lib"
    PERL5OPT=""
    PERL5_CPANPLUS_IS_RUNNING="22572"
    PERL5_CPAN_IS_RUNNING="22572"
    PERL_CANARY_STABILITY_NOPROMPT="1"
    PERL_MM_USE_DEFAULT="1"
    PERL_USE_UNSAFE_INC="1"
  @INC:
    /tmp/loop_over_bdir-8537-1sP4y1/Dancer2-Plugin-DBIx-Class-1.1001-0/blib/arch
    /tmp/loop_over_bdir-8537-1sP4y1/Dancer2-Plugin-DBIx-Class-1.1001-0/blib/lib
    /tmp/loop_over_bdir-8537-1sP4y1/Dancer2-Plugin-Ajax-0.400000-0/blib/arch
    /tmp/loop_over_bdir-8537-1sP4y1/Dancer2-Plugin-Ajax-0.400000-0/blib/lib
    /tmp/loop_over_bdir-8537-1sP4y1/DBIx-Class-TemporalRelations-0.9000-0/blib/arch
    /tmp/loop_over_bdir-8537-1sP4y1/DBIx-Class-TemporalRelations-0.9000-0/blib/lib
    /tmp/loop_over_bdir-8537-1sP4y1/Test-DBIx-Class-0.52-0/blib/arch
    /tmp/loop_over_bdir-8537-1sP4y1/Test-DBIx-Class-0.52-0/blib/lib
    /tmp/loop_over_bdir-8537-1sP4y1/DBIx-Class-TimeStamp-0.14-0/blib/arch
    /tmp/loop_over_bdir-8537-1sP4y1/DBIx-Class-TimeStamp-0.14-0/blib/lib
    /tmp/loop_over_bdir-8537-1sP4y1/Time-Warp-0.55-0/blib/arch
    /tmp/loop_over_bdir-8537-1sP4y1/Time-Warp-0.55-0/blib/lib
    /tmp/loop_over_bdir-8537-1sP4y1/DBIx-Class-Schema-PopulateMore-0.19-0/blib/arch
    /tmp/loop_over_bdir-8537-1sP4y1/DBIx-Class-Schema-PopulateMore-0.19-0/blib/lib
    /tmp/loop_over_bdir-8537-1sP4y1/DateTimeX-Easy-0.091-0/blib/arch
    /tmp/loop_over_bdir-8537-1sP4y1/DateTimeX-Easy-0.091-0/blib/lib
    /tmp/loop_over_bdir-8537-1sP4y1/Lingua-EN-Inflexion-0.002007-0/blib/arch
    /tmp/loop_over_bdir-8537-1sP4y1/Lingua-EN-Inflexion-0.002007-0/blib/lib
    /tmp/loop_over_bdir-8537-1sP4y1/Lingua-EN-Nums2Words-1.16-0/blib/arch
    /tmp/loop_over_bdir-8537-1sP4y1/Lingua-EN-Nums2Words-1.16-0/blib/lib
    /tmp/loop_over_bdir-8537-1sP4y1/DBIx-Class-Schema-ResultSetNames-1.0301-0/blib/arch
    /tmp/loop_over_bdir-8537-1sP4y1/DBIx-Class-Schema-ResultSetNames-1.0301-0/blib/lib
    /tmp/loop_over_bdir-8537-1sP4y1/Code-TidyAll-Plugin-Test-Vars-0.04-0/blib/arch
    /tmp/loop_over_bdir-8537-1sP4y1/Code-TidyAll-Plugin-Test-Vars-0.04-0/blib/lib
    /home/sand/src/perl/repoperls/installed-perls/host/k93stretch/v5.34.0/2cd7/lib/site_perl/5.34.0/x86_64-linux-thread-multi
    /home/sand/src/perl/repoperls/installed-perls/host/k93stretch/v5.34.0/2cd7/lib/site_perl/5.34.0
    /home/sand/src/perl/repoperls/installed-perls/host/k93stretch/v5.34.0/2cd7/lib/5.34.0/x86_64-linux-thread-multi
    /home/sand/src/perl/repoperls/installed-perls/host/k93stretch/v5.34.0/2cd7/lib/5.34.0
    .