Path-Tiny v0.144 Perl 5 v5.20.3 darwin-thread-multi-2level
- Status
- Pass
- From
- Roland van Ipenburg (IPENBURG)
- Dist
-
Path-Tiny v0.144
- Platform
- Perl 5 v5.20.3 darwin-thread-multi-2level
- Date
- 2023-08-18 03:42:45
- ID
- 4ad7de58-3d79-11ee-bcf6-2410cff7296b
This distribution has been tested as part of the CPAN Testers
project, supporting the Perl programming language. See
http://wiki.cpantesters.org/ for more information or email
questions to cpan-testers-discuss@perl.org
--
Dear David Golden,
This is a computer-generated report for Path-Tiny-0.144
on perl 5.20.3, created by CPAN-Reporter-1.2019.
Thank you for uploading your work to CPAN. Congratulations!
All tests were successful.
Sections of this report:
* Tester comments
* Program output
* Prerequisites
* Environment and other context
------------------------------
TESTER COMMENTS
------------------------------
Additional comments from tester:
none provided
------------------------------
PROGRAM OUTPUT
------------------------------
Output from '/usr/bin/make test':
PERL_DL_NONLAZY=1 /opt/local/bin/perl5.20 "-MExtUtils::Command::MM" "-MTest::Harness" "-e" "undef *Test::Harness::Switches; test_harness(0, 'blib/lib', 'blib/arch')" t/*.t
#
# Versions for all modules listed in MYMETA.json (including optional ones):
#
# === Configure Requires ===
#
# Module Want Have
# ------------------- ---- ----
# ExtUtils::MakeMaker 6.17 6.98
#
# === Configure Suggests ===
#
# Module Want Have
# -------- ------- ----
# JSON::PP 2.27300 4.16
#
# === Build Requires ===
#
# Module Want Have
# ------------------- ---- ----
# ExtUtils::MakeMaker any 6.98
#
# === Test Requires ===
#
# Module Want Have
# --------------------- ---- --------
# Digest::MD5 any 2.53
# ExtUtils::MakeMaker any 6.98
# File::Basename any 2.85
# File::Spec 0.86 3.48_01
# File::Spec::Functions any 3.48_01
# File::Spec::Unix any 3.48_01
# File::Temp 0.19 0.2304
# Test::More 0.96 1.302195
# lib any 0.63
# open any 1.10
#
# === Test Recommends ===
#
# Module Want Have
# ------------------ -------- --------
# CPAN::Meta 2.120900 2.150010
# Test::FailWarnings any missing
# Test::MockRandom any missing
#
# === Runtime Requires ===
#
# Module Want Have
# ------------------ ---- -------
# Carp any 1.3301
# Cwd any 3.48_01
# Digest 1.03 1.17
# Digest::SHA 5.45 5.88
# Encode any 2.60
# Exporter 5.57 5.71
# Fcntl any 1.11
# File::Compare any 1.1006
# File::Copy any 2.30
# File::Glob any 1.23
# File::Path 2.07 2.09
# File::Spec 0.86 3.48_01
# File::Temp 0.19 0.2304
# File::stat any 1.07
# constant any 1.31
# overload any 1.22
# strict any 1.08
# warnings any 1.23
# warnings::register any 1.03
#
# === Runtime Recommends ===
#
# Module Want Have
# ------------- ---- -------
# Unicode::UTF8 0.58 missing
#
t/00-report-prereqs.t ............. ok
t/basename.t ...................... ok
t/basic.t ......................... ok
t/children.t ...................... ok
t/chmod.t ......................... ok
t/digest.t ........................ ok
t/exception.t ..................... ok
t/exports.t ....................... ok
t/filesystem.t .................... ok
t/has_same_bytes.t ................ ok
t/input_output.t .................. ok
t/input_output_no_PU_UU.t ......... ok
t/input_output_no_UU.t ............ ok
t/locking.t ....................... ok
t/mkdir.t ......................... ok
t/mkpath.t ........................ ok
t/mutable_tree_while_iterating.t .. ok
t/normalize.t ..................... ok
t/overloading.t ................... ok
t/parent.t ........................ ok
t/recurse.t ....................... ok
t/rel-abs.t ....................... ok
t/sig_die.t ....................... ok
t/size.t .......................... ok
t/subsumes.t ...................... ok
t/symlinks.t ...................... ok
t/temp.t .......................... ok
t/visit.t ......................... ok
t/zz-atomic.t ..................... skipped: Test::MockRandom required for atomicity tests
t/zzz-spec.t ...................... ok
All tests successful.
Files=30, Tests=1769, 10 wallclock secs ( 0.59 usr 0.18 sys + 8.17 cusr 1.46 csys = 10.40 CPU)
Result: PASS
------------------------------
PREREQUISITES
------------------------------
Prerequisite modules loaded:
requires:
Module Need Have
--------------------- -------- --------
Carp 0 1.3301
constant 0 1.31
Cwd 0 3.48_01
Digest 1.03 1.17
Digest::SHA 5.45 5.88
Encode 0 2.60
Exporter 5.57 5.71
Fcntl 0 1.11
File::Compare 0 1.1006
File::Copy 0 2.30
File::Glob 0 1.23
File::Path 2.07 2.09
File::Spec 0.86 3.48_01
File::stat 0 1.07
File::Temp 0.19 0.2304
overload 0 1.22
perl 5.008001 5.020003
strict 0 1.08
warnings 0 1.23
warnings::register 0 1.03
build_requires:
Module Need Have
--------------------- -------- --------
Digest::MD5 0 2.53
ExtUtils::MakeMaker 0 6.98
File::Basename 0 2.85
File::Spec 0.86 3.48_01
File::Spec::Functions 0 3.48_01
File::Spec::Unix 0 3.48_01
File::Temp 0.19 0.2304
lib 0 0.63
open 0 1.10
Test::More 0.96 1.302195
configure_requires:
Module Need Have
--------------------- -------- --------
ExtUtils::MakeMaker 6.17 6.98
perl 5.008001 5.020003
opt_requires:
Module Need Have
--------------------- -------- --------
! Unicode::UTF8 0.58 n/a
opt_build_requires:
Module Need Have
--------------------- -------- --------
CPAN::Meta 2.120900 2.150010
! Test::FailWarnings 0 n/a
! Test::MockRandom 0 n/a
------------------------------
ENVIRONMENT AND OTHER CONTEXT
------------------------------
Environment variables:
NONINTERACTIVE_TESTING = 1
PATH = /Users/roland/perl5/bin:/opt/local/bin:/opt/local/sbin:/bin:/sbin:/usr/bin:/usr/sbin
PERL5LIB = /Users/roland/perl5/lib/perl5
PERL5OPT =
PERL5_CPANPLUS_IS_RUNNING = 20634
PERL5_CPAN_IS_RUNNING = 20634
PERL_LOCAL_LIB_ROOT = /Users/roland/perl5
PERL_MB_OPT = --install_base "/Users/roland/perl5"
PERL_MM_OPT = INSTALL_BASE=/Users/roland/perl5
PERL_MM_USE_DEFAULT = 1
SHELL = /bin/bash
TERM = screen
Perl special variables (and OS-specific diagnostics, for MSWin32):
$^X = /opt/local/bin/perl5.20
$UID/$EUID = 501 / 501
$GID = 501 501 81 79 80
$EGID = 501 501 81 79 80
Perl module toolchain versions installed:
Module Have
------------------- --------
CPAN 2.05
CPAN::Meta 2.150010
Cwd 3.48_01
ExtUtils::CBuilder 0.280217
ExtUtils::Command 1.18
ExtUtils::Install 1.67
ExtUtils::MakeMaker 6.98
ExtUtils::Manifest 1.63
ExtUtils::ParseXS 3.24
File::Spec 3.48_01
JSON n/a
JSON::PP 4.16
Module::Build 0.4234
Module::Signature n/a
Parse::CPAN::Meta 2.150010
Test2 1.302195
Test::Harness 3.30
Test::More 1.302195
YAML n/a
YAML::Syck n/a
version 0.9909
--
Summary of my perl5 (revision 5 version 20 subversion 3) configuration:
Platform:
osname=darwin, osvers=8.11.1, archname=darwin-thread-multi-2level
uname='darwin paterson-wired.fritz.box 8.11.1 darwin kernel version 8.11.1: wed oct 10 18:23:28 pdt 2007; root:xnu-792.25.20~1release_i386 i386 i386 '
config_args='-des -Dprefix=/opt/local -Dscriptdir=/opt/local/bin -Dvendorprefix=/opt/local -Dusemultiplicity=y -Dusethreads -Duseshrplib -Dcc=/usr/bin/cc -Dman1ext=1pm -Dman3ext=3pm -Dinstallstyle=lib/perl5 -Dman1dir=/opt/local/share/man/man1p -Dman3dir=/opt/local/share/man/man3p -Dsitebin=/opt/local/libexec/perl5.20/sitebin -Dsiteman1dir=/opt/local/share/perl5.20/siteman/man1 -Dsiteman3dir=/opt/local/share/perl5.20/siteman/man3 -Dvendorbin=/opt/local/libexec/perl5.20 -Dvendorman1dir=/opt/local/share/perl5.20/man/man1 -Dvendorman3dir=/opt/local/share/perl5.20/man/man3 -Dpager=/usr/bin/less -sR -Dperlpath=/opt/local/bin/perl5.20 -Dstartperl=#!/opt/local/bin/perl5.20 -Acppflags=-I/opt/local/include -Accflags=-pipe -Os -Alddlflags=-L/opt/local/lib -Wl,-headerpad_max_install_names -Aldflags=-L/opt/local/lib -Wl,-headerpad_max_install_names '
hint=recommended, useposix=true, d_sigaction=define
useithreads=define, usemultiplicity=define
use64bitint=undef, use64bitall=undef, uselongdouble=undef
usemymalloc=n, bincompat5005=undef
Compiler:
cc='/usr/bin/cc', ccflags ='-fno-common -DPERL_DARWIN -pipe -Os -fno-strict-aliasing -I/opt/local/include',
optimize='-O3',
cppflags='-I/opt/local/include -fno-common -DPERL_DARWIN -pipe -Os -fno-strict-aliasing -I/opt/local/include'
ccversion='', gccversion='4.2.1 (Apple Inc. build 5666) (dot 3) (MacPorts apple-gcc42 5666.3_16)', gccosandvers=''
intsize=4, longsize=4, ptrsize=4, doublesize=8, byteorder=1234
d_longlong=define, longlongsize=8, d_longdbl=define, longdblsize=16
ivtype='long', ivsize=4, nvtype='double', nvsize=8, Off_t='off_t', lseeksize=8
alignbytes=8, prototype=define
Linker and Libraries:
ld='env MACOSX_DEPLOYMENT_TARGET=10.3 /usr/bin/cc', ldflags =' -L/opt/local/lib -Wl,-headerpad_max_install_names '
libpth=/opt/local/lib /usr/lib
libs=-lpthread -lgdbm -ldbm -ldl -lm -lc
perllibs=-lpthread -ldl -lm -lc
libc=, so=dylib, useshrplib=true, libperl=libperl.dylib
gnulibc_version=''
Dynamic Linking:
dlsrc=dl_dlopen.xs, dlext=bundle, d_dlsymun=undef, ccdlflags=' '
cccdlflags=' ', lddlflags=' -bundle -undefined dynamic_lookup -L/opt/local/lib -Wl,-headerpad_max_install_names '
Characteristics of this binary (from libperl):
Compile-time options: HAS_TIMES MULTIPLICITY PERLIO_LAYERS
PERL_DONT_CREATE_GVSV
PERL_HASH_FUNC_ONE_AT_A_TIME_HARD
PERL_IMPLICIT_CONTEXT PERL_MALLOC_WRAP
PERL_NEW_COPY_ON_WRITE PERL_PRESERVE_IVUV
USE_ITHREADS USE_LARGE_FILES USE_LOCALE
USE_LOCALE_COLLATE USE_LOCALE_CTYPE
USE_LOCALE_NUMERIC USE_PERLIO USE_PERL_ATOF
USE_REENTRANT_API
Built under darwin
Compiled at Jul 25 2023 09:01:40
%ENV:
PERL5LIB="/Users/roland/perl5/lib/perl5"
PERL5OPT=""
PERL5_CPANPLUS_IS_RUNNING="20634"
PERL5_CPAN_IS_RUNNING="20634"
PERL_LOCAL_LIB_ROOT="/Users/roland/perl5"
PERL_MB_OPT="--install_base "/Users/roland/perl5""
PERL_MM_OPT="INSTALL_BASE=/Users/roland/perl5"
PERL_MM_USE_DEFAULT="1"
@INC:
/Users/roland/perl5/lib/perl5/darwin-thread-multi-2level
/Users/roland/perl5/lib/perl5
/opt/local/lib/perl5/site_perl/5.20/darwin-thread-multi-2level
/opt/local/lib/perl5/site_perl/5.20
/opt/local/lib/perl5/vendor_perl/5.20/darwin-thread-multi-2level
/opt/local/lib/perl5/vendor_perl/5.20
/opt/local/lib/perl5/5.20/darwin-thread-multi-2level
/opt/local/lib/perl5/5.20
.