App-perlimports v0.000025 Perl 5 v5.34.0 armv6l-linux
- Status
- Pass
- From
- gregor herrmann
- Dist
-
App-perlimports v0.000025
- Platform
- Perl 5 v5.34.0 armv6l-linux
- Date
- 2021-10-14 12:57:30
- ID
- 4a5579ce-2cee-11ec-96aa-4e2b6ae0c0b8
This distribution has been tested as part of the CPAN Testers
project, supporting the Perl programming language. See
http://wiki.cpantesters.org/ for more information or email
questions to cpan-testers-discuss@perl.org
--
Dear Olaf Alders,
This is a computer-generated report for App-perlimports-0.000025
on perl 5.34.0, created by CPAN-Reporter-1.2018.
Thank you for uploading your work to CPAN. Congratulations!
All tests were successful.
Sections of this report:
* Tester comments
* Program output
* Prerequisites
* Environment and other context
------------------------------
TESTER COMMENTS
------------------------------
Additional comments from tester:
this report is from an automated smoke testing program
and was not reviewed by a human for accuracy
------------------------------
PROGRAM OUTPUT
------------------------------
Output from '/usr/bin/make test':
PERL_DL_NONLAZY=1 "/srv/smoker/perl5/perlbrew/perls/perl-5.34.0/bin/perl" "-MExtUtils::Command::MM" "-MTest::Harness" "-e" "undef *Test::Harness::Switches; test_harness(0, 'blib/lib', 'blib/arch')" t/*.t t/ExportInspector/*.t t/cpan-modules/*.t
#
# Versions for all modules listed in MYMETA.json (including optional ones):
#
# === Configure Requires ===
#
# Module Want Have
# ------------------- ---- -------
# ExtUtils::MakeMaker any 7.63_05
#
# === Build Requires ===
#
# Module Want Have
# ------------------- ---- -------
# ExtUtils::MakeMaker any 7.63_05
#
# === Test Requires ===
#
# Module Want Have
# ---------------------- ---- --------
# ExtUtils::MakeMaker any 7.63_05
# File::Spec any 3.80
# Log::Dispatch::Array any 1.003
# Sub::Exporter any 0.988
# Test::Differences any 0.68
# Test::More any 1.302188
# Test::Needs any 0.002006
# Test::RequiresInternet any 0.05
# Test::Script 1.27 1.29
# Test::Warnings any 0.031
# lib any 0.65
#
# === Test Recommends ===
#
# Module Want Have
# ---------- -------- --------
# CPAN::Meta 2.120900 2.150010
#
# === Runtime Requires ===
#
# Module Want Have
# ---------------------------- -------- --------
# Capture::Tiny any 0.48
# Class::Inspector 1.36 1.36
# Data::Dumper any 2.183
# Data::UUID any 1.226
# File::Basename any 2.85
# Getopt::Long::Descriptive any 0.109
# List::Util any 1.60
# Log::Dispatch 2.70 2.70
# Memoize any 1.03_01
# Module::Runtime any 0.016
# Moo any 2.005004
# Moo::Role any 2.005004
# MooX::StrictConstructor any 0.011
# PPI 1.270 1.270
# PPIx::Utils::Classification any 0.003
# Path::Tiny any 0.118
# Perl::Tidy 20210402 20210717
# Pod::Usage any 2.01
# Ref::Util any 0.204
# Sereal::Decoder any 4.018
# Sereal::Encoder any 4.018
# Sub::HandlesVia any 0.016
# Symbol::Get 0.10 0.10
# Text::SimpleTable::AutoWidth any 0.09
# Try::Tiny any 0.30
# Types::Standard any 1.012004
# strict any 1.12
# utf8 any 1.24
# warnings any 1.51
#
t/00-report-prereqs.t ............ ok
t/after.t ........................ ok
t/annotations.t .................. ok
t/args-in-import.t ............... ok
t/carp.t ......................... ok
t/cast-in-regex.t ................ ok
t/cast.t ......................... ok
t/cli.t .......................... ok
t/cpan-modules/pithub.t .......... skipped: Need Pithub
t/cpan-modules/test2-v0.t ........ ok
t/datetime.t ..................... ok
t/do-block.t ..................... ok
t/Document.t ..................... ok
t/dump-perl-exports.t ............ ok
t/dupes.t ........................ ok
t/english.t ...................... ok
t/explodes.t ..................... ok
t/export-tags.t .................. ok
t/exported-variables.t ........... ok
t/ExportInspector/load.t ......... ok
t/ExportInspector/SubExporter.t .. skipped: Need MetaCPAN::Moose
t/find-bin.t ..................... ok
t/fully-qualified.t .............. ok
t/func-in-use.t .................. ok
t/func-in-var.t .................. ok
t/geo-ip.t ....................... ok
t/hash-in-regex.t ................ ok
t/hash-key.t ..................... ok
t/heredoc.t ...................... ok
t/ignored-modules.t .............. ok
t/import-error.t ................. ok
t/interpolation.t ................ ok
t/is-ignored.t ................... ok
t/lookalike-words.t .............. ok
t/meta.t ......................... ok
t/method.t ....................... ok
t/module-with-inner-packages.t ... ok
t/moo.t .......................... ok
t/moose-types.t .................. ok
t/moose.t ........................ ok
t/moosex-types-moose.t ........... ok
t/nested-quotes.t ................ ok
t/never-exports.t ................ ok
t/padding.t ...................... ok
t/perl-imports.t ................. ok
t/perl.t ......................... ok
t/pragma.t ....................... ok
t/preserve-spaces.t .............. ok
t/qualified-bareword.t ........... ok
t/quoted-var.t ................... ok
t/re-export-via-sub-exporter.t ... ok
t/regex-replacement.t ............ skipped: Need IP::Random 1.200230
t/require.t ...................... ok
t/Sandbox.t ...................... ok
t/script-with-inner-packages.t ... ok
t/skip-all.t ..................... ok
t/socket.t ....................... ok
t/switches-in-import.t ........... ok
t/symbol-as-method-call.t ........ skipped: Need Object::Tap
t/symbol-in-export.t ............. ok
t/test-most.t .................... ok
t/typeglob.t ..................... ok
t/use-and-require.t .............. ok
t/var-in-regex.t ................. ok
t/variable.t ..................... ok
t/with-version.t ................. ok
All tests successful.
Files=66, Tests=141, 1222 wallclock secs ( 3.16 usr 0.67 sys + 981.38 cusr 33.63 csys = 1018.84 CPU)
Result: PASS
------------------------------
PREREQUISITES
------------------------------
Prerequisite modules loaded:
requires:
Module Need Have
---------------------------- -------- --------
Capture::Tiny 0 0.48
Class::Inspector 1.36 1.36
Data::Dumper 0 2.183
Data::UUID 0 1.226
File::Basename 0 2.85
Getopt::Long::Descriptive 0 0.109
List::Util 0 1.60
Log::Dispatch 2.70 2.70
Memoize 0 1.03_01
Module::Runtime 0 0.016
Moo 0 2.005004
Moo::Role 0 2.005004
MooX::StrictConstructor 0 0.011
Path::Tiny 0 0.118
perl 5.008 5.034000
Perl::Tidy 20210402 20210717
Pod::Usage 0 2.01
PPI 1.270 1.270
PPIx::Utils::Classification 0 0.003
Ref::Util 0 0.204
Sereal::Decoder 0 4.018
Sereal::Encoder 0 4.018
strict 0 1.12
Sub::HandlesVia 0 0.016
Symbol::Get 0.10 0.10
Text::SimpleTable::AutoWidth 0 0.09
Try::Tiny 0 0.30
Types::Standard 0 1.012004
utf8 0 1.24
warnings 0 1.51
build_requires:
Module Need Have
---------------------------- -------- --------
ExtUtils::MakeMaker 0 7.63_05
File::Spec 0 3.80
lib 0 0.65
Log::Dispatch::Array 0 1.003
Sub::Exporter 0 0.988
Test::Differences 0 0.68
Test::More 0 1.302188
Test::Needs 0 0.002006
Test::RequiresInternet 0 0.05
Test::Script 1.27 1.29
Test::Warnings 0 0.031
configure_requires:
Module Need Have
---------------------------- -------- --------
ExtUtils::MakeMaker 0 7.63_05
perl 5.008 5.034000
------------------------------
ENVIRONMENT AND OTHER CONTEXT
------------------------------
Environment variables:
AUTOMATED_TESTING = 1
LC_CTYPE = de_AT.utf8
LD_LIBRARY_PATH = /usr/lib/libeatmydata
NONINTERACTIVE_TESTING = 1
PATH = /srv/smoker/bin:/usr/lib/ccache:/srv/smoker/perl5/perlbrew/bin:/srv/smoker/perl5/perlbrew/perls/perl-5.34.0/bin:/usr/local/bin:/usr/bin:/bin:/usr/local/games:/usr/games
PERL5LIB =
PERL5OPT =
PERL5_CPANPLUS_IS_RUNNING = 27202
PERL5_CPAN_IS_RUNNING = 27202
PERL5_CPAN_IS_RUNNING_IN_RECURSION = 20138,27202
PERLBREW_HOME = /srv/smoker/.perlbrew
PERLBREW_MANPATH = /srv/smoker/perl5/perlbrew/perls/perl-5.34.0/man
PERLBREW_PATH = /srv/smoker/perl5/perlbrew/bin:/srv/smoker/perl5/perlbrew/perls/perl-5.34.0/bin
PERLBREW_PERL = perl-5.34.0
PERLBREW_ROOT = /srv/smoker/perl5/perlbrew
PERLBREW_SHELLRC_VERSION = 0.92
PERLBREW_VERSION = 0.92
PERL_CPANM_OPT = --prompt --configure-timeout 300 --test-timeout 9000 --build-timeout 18000
PERL_CR_SMOKER_CURRENT = App-perlimports-0.000025
PERL_EXTUTILS_AUTOINSTALL = --defaultdeps
PERL_MM_USE_DEFAULT = 1
PERL_TEST_TIME_OUT_FACTOR = 3
PERL_TEST_TIME_OUT_FACTOR = 3
PERL_USE_UNSAFE_INC = 1
SHELL = /bin/bash
TERM = screen-256color
Perl special variables (and OS-specific diagnostics, for MSWin32):
$^X = /srv/smoker/perl5/perlbrew/perls/perl-5.34.0/bin/perl
$UID/$EUID = 1111 / 1111
$GID = 65534 65534
$EGID = 65534 65534
Perl module toolchain versions installed:
Module Have
------------------- --------
CPAN 2.28
CPAN::Meta 2.150010
Cwd 3.80
ExtUtils::CBuilder 0.280236
ExtUtils::Command 7.63_05
ExtUtils::Install 2.20
ExtUtils::MakeMaker 7.63_05
ExtUtils::Manifest 1.73
ExtUtils::ParseXS 3.43
File::Spec 3.80
JSON 4.03
JSON::PP 4.06
Module::Build 0.4231
Module::Signature 0.87
Parse::CPAN::Meta 2.150010
Test::Harness 3.43_03
Test::More 1.302188
YAML 1.30
YAML::Syck 1.34
version 0.9928
--
Summary of my perl5 (revision 5 version 34 subversion 0) configuration:
Platform:
osname=linux
osvers=5.10.17+
archname=armv6l-linux
uname='linux smoker 5.10.17+ #1414 fri apr 30 13:16:27 bst 2021 armv6l gnulinux '
config_args='-de -Dprefix=/srv/smoker/perl5/perlbrew/perls/perl-5.34.0 -Aeval:scriptdir=/srv/smoker/perl5/perlbrew/perls/perl-5.34.0/bin'
hint=recommended
useposix=true
d_sigaction=define
useithreads=undef
usemultiplicity=undef
use64bitint=undef
use64bitall=undef
uselongdouble=undef
usemymalloc=n
default_inc_excludes_dot=define
Compiler:
cc='cc'
ccflags ='-fwrapv -fno-strict-aliasing -pipe -fstack-protector-strong -I/usr/local/include -D_LARGEFILE_SOURCE -D_FILE_OFFSET_BITS=64 -D_FORTIFY_SOURCE=2'
optimize='-O2'
cppflags='-fwrapv -fno-strict-aliasing -pipe -fstack-protector-strong -I/usr/local/include'
ccversion=''
gccversion='10.2.1 20210110'
gccosandvers=''
intsize=4
longsize=4
ptrsize=4
doublesize=8
byteorder=1234
doublekind=3
d_longlong=define
longlongsize=8
d_longdbl=define
longdblsize=8
longdblkind=0
ivtype='long'
ivsize=4
nvtype='double'
nvsize=8
Off_t='off_t'
lseeksize=8
alignbytes=8
prototype=define
Linker and Libraries:
ld='cc'
ldflags =' -fstack-protector-strong -L/usr/local/lib'
libpth=/usr/local/lib /usr/lib/arm-linux-gnueabihf /usr/lib /lib/arm-linux-gnueabihf /lib
libs=-lpthread -lnsl -ldb -ldl -lm -lcrypt -lutil -lc
perllibs=-lpthread -lnsl -ldl -lm -lcrypt -lutil -lc
libc=libc-2.31.so
so=so
useshrplib=false
libperl=libperl.a
gnulibc_version='2.31'
Dynamic Linking:
dlsrc=dl_dlopen.xs
dlext=so
d_dlsymun=undef
ccdlflags='-Wl,-E'
cccdlflags='-fPIC'
lddlflags='-shared -O2 -L/usr/local/lib -fstack-protector-strong'
Characteristics of this binary (from libperl):
Compile-time options:
HAS_TIMES
PERLIO_LAYERS
PERL_COPY_ON_WRITE
PERL_DONT_CREATE_GVSV
PERL_MALLOC_WRAP
PERL_OP_PARENT
PERL_PRESERVE_IVUV
USE_LARGE_FILES
USE_LOCALE
USE_LOCALE_COLLATE
USE_LOCALE_CTYPE
USE_LOCALE_NUMERIC
USE_LOCALE_TIME
USE_PERLIO
USE_PERL_ATOF
Built under linux
Compiled at May 21 2021 03:02:12
%ENV:
PERL5LIB=""
PERL5OPT=""
PERL5_CPANPLUS_IS_RUNNING="27202"
PERL5_CPAN_IS_RUNNING="27202"
PERL5_CPAN_IS_RUNNING_IN_RECURSION="20138,27202"
PERLBREW_HOME="/srv/smoker/.perlbrew"
PERLBREW_MANPATH="/srv/smoker/perl5/perlbrew/perls/perl-5.34.0/man"
PERLBREW_PATH="/srv/smoker/perl5/perlbrew/bin:/srv/smoker/perl5/perlbrew/perls/perl-5.34.0/bin"
PERLBREW_PERL="perl-5.34.0"
PERLBREW_ROOT="/srv/smoker/perl5/perlbrew"
PERLBREW_SHELLRC_VERSION="0.92"
PERLBREW_VERSION="0.92"
PERL_CPANM_OPT="--prompt --configure-timeout 300 --test-timeout 9000 --build-timeout 18000"
PERL_CR_SMOKER_CURRENT="App-perlimports-0.000025"
PERL_EXTUTILS_AUTOINSTALL="--defaultdeps"
PERL_MM_USE_DEFAULT="1"
PERL_TEST_TIME_OUT_FACTOR="3"
PERL_USE_UNSAFE_INC="1"
@INC:
/srv/smoker/perl5/perlbrew/perls/perl-5.34.0/lib/site_perl/5.34.0/armv6l-linux
/srv/smoker/perl5/perlbrew/perls/perl-5.34.0/lib/site_perl/5.34.0
/srv/smoker/perl5/perlbrew/perls/perl-5.34.0/lib/5.34.0/armv6l-linux
/srv/smoker/perl5/perlbrew/perls/perl-5.34.0/lib/5.34.0
.