Encode v3.16 Perl 5 v5.28.3 x86_64-linux-thread-multi
- Status
- Pass
- From
- Paul Evans
- Dist
-
Encode v3.16
- Platform
- Perl 5 v5.28.3 x86_64-linux-thread-multi
- Date
- 2022-01-27 00:30:10
- ID
- 48e6b21c-7f08-11ec-a48e-e10286544c03
This distribution has been tested as part of the CPAN Testers
project, supporting the Perl programming language. See
http://wiki.cpantesters.org/ for more information or email
questions to cpan-testers-discuss@perl.org
--
Dear Dan Kogai,
This is a computer-generated report for Encode-3.16
on perl 5.28.3, created by CPAN-Reporter-1.2018.
Thank you for uploading your work to CPAN. Congratulations!
All tests were successful.
Sections of this report:
* Tester comments
* Program output
* Prerequisites
* Environment and other context
------------------------------
TESTER COMMENTS
------------------------------
Additional comments from tester:
none provided
------------------------------
PROGRAM OUTPUT
------------------------------
Output from 'make test':
"/home/leo/perl5/perlbrew/perls/perl-5.28.3/bin/perl5.28.3" -MExtUtils::Command::MM -e 'cp_nonempty' -- Encode.bs blib/arch/auto/Encode/Encode.bs 644
make[1]: Entering directory '/home/leo/.cpan/build/Encode-3.16-0/Byte'
"/home/leo/perl5/perlbrew/perls/perl-5.28.3/bin/perl5.28.3" -MExtUtils::Command::MM -e 'cp_nonempty' -- Byte.bs ../blib/arch/auto/Encode/Byte/Byte.bs 644
make[1]: Leaving directory '/home/leo/.cpan/build/Encode-3.16-0/Byte'
make[1]: Entering directory '/home/leo/.cpan/build/Encode-3.16-0/CN'
"/home/leo/perl5/perlbrew/perls/perl-5.28.3/bin/perl5.28.3" -MExtUtils::Command::MM -e 'cp_nonempty' -- CN.bs ../blib/arch/auto/Encode/CN/CN.bs 644
make[1]: Leaving directory '/home/leo/.cpan/build/Encode-3.16-0/CN'
make[1]: Entering directory '/home/leo/.cpan/build/Encode-3.16-0/EBCDIC'
"/home/leo/perl5/perlbrew/perls/perl-5.28.3/bin/perl5.28.3" -MExtUtils::Command::MM -e 'cp_nonempty' -- EBCDIC.bs ../blib/arch/auto/Encode/EBCDIC/EBCDIC.bs 644
make[1]: Leaving directory '/home/leo/.cpan/build/Encode-3.16-0/EBCDIC'
make[1]: Entering directory '/home/leo/.cpan/build/Encode-3.16-0/JP'
"/home/leo/perl5/perlbrew/perls/perl-5.28.3/bin/perl5.28.3" -MExtUtils::Command::MM -e 'cp_nonempty' -- JP.bs ../blib/arch/auto/Encode/JP/JP.bs 644
make[1]: Leaving directory '/home/leo/.cpan/build/Encode-3.16-0/JP'
make[1]: Entering directory '/home/leo/.cpan/build/Encode-3.16-0/KR'
"/home/leo/perl5/perlbrew/perls/perl-5.28.3/bin/perl5.28.3" -MExtUtils::Command::MM -e 'cp_nonempty' -- KR.bs ../blib/arch/auto/Encode/KR/KR.bs 644
make[1]: Leaving directory '/home/leo/.cpan/build/Encode-3.16-0/KR'
make[1]: Entering directory '/home/leo/.cpan/build/Encode-3.16-0/Symbol'
"/home/leo/perl5/perlbrew/perls/perl-5.28.3/bin/perl5.28.3" -MExtUtils::Command::MM -e 'cp_nonempty' -- Symbol.bs ../blib/arch/auto/Encode/Symbol/Symbol.bs 644
make[1]: Leaving directory '/home/leo/.cpan/build/Encode-3.16-0/Symbol'
make[1]: Entering directory '/home/leo/.cpan/build/Encode-3.16-0/TW'
"/home/leo/perl5/perlbrew/perls/perl-5.28.3/bin/perl5.28.3" -MExtUtils::Command::MM -e 'cp_nonempty' -- TW.bs ../blib/arch/auto/Encode/TW/TW.bs 644
make[1]: Leaving directory '/home/leo/.cpan/build/Encode-3.16-0/TW'
make[1]: Entering directory '/home/leo/.cpan/build/Encode-3.16-0/Unicode'
"/home/leo/perl5/perlbrew/perls/perl-5.28.3/bin/perl5.28.3" -MExtUtils::Command::MM -e 'cp_nonempty' -- Unicode.bs ../blib/arch/auto/Encode/Unicode/Unicode.bs 644
make[1]: Leaving directory '/home/leo/.cpan/build/Encode-3.16-0/Unicode'
make[1]: Entering directory '/home/leo/.cpan/build/Encode-3.16-0/Byte'
"/home/leo/perl5/perlbrew/perls/perl-5.28.3/bin/perl5.28.3" -MExtUtils::Command::MM -e 'cp_nonempty' -- Byte.bs ../blib/arch/auto/Encode/Byte/Byte.bs 644
No tests defined for Encode::Byte extension.
make[1]: Leaving directory '/home/leo/.cpan/build/Encode-3.16-0/Byte'
make[1]: Entering directory '/home/leo/.cpan/build/Encode-3.16-0/CN'
"/home/leo/perl5/perlbrew/perls/perl-5.28.3/bin/perl5.28.3" -MExtUtils::Command::MM -e 'cp_nonempty' -- CN.bs ../blib/arch/auto/Encode/CN/CN.bs 644
No tests defined for Encode::CN extension.
make[1]: Leaving directory '/home/leo/.cpan/build/Encode-3.16-0/CN'
make[1]: Entering directory '/home/leo/.cpan/build/Encode-3.16-0/EBCDIC'
"/home/leo/perl5/perlbrew/perls/perl-5.28.3/bin/perl5.28.3" -MExtUtils::Command::MM -e 'cp_nonempty' -- EBCDIC.bs ../blib/arch/auto/Encode/EBCDIC/EBCDIC.bs 644
No tests defined for Encode::EBCDIC extension.
make[1]: Leaving directory '/home/leo/.cpan/build/Encode-3.16-0/EBCDIC'
make[1]: Entering directory '/home/leo/.cpan/build/Encode-3.16-0/JP'
"/home/leo/perl5/perlbrew/perls/perl-5.28.3/bin/perl5.28.3" -MExtUtils::Command::MM -e 'cp_nonempty' -- JP.bs ../blib/arch/auto/Encode/JP/JP.bs 644
No tests defined for Encode::JP extension.
make[1]: Leaving directory '/home/leo/.cpan/build/Encode-3.16-0/JP'
make[1]: Entering directory '/home/leo/.cpan/build/Encode-3.16-0/KR'
"/home/leo/perl5/perlbrew/perls/perl-5.28.3/bin/perl5.28.3" -MExtUtils::Command::MM -e 'cp_nonempty' -- KR.bs ../blib/arch/auto/Encode/KR/KR.bs 644
No tests defined for Encode::KR extension.
make[1]: Leaving directory '/home/leo/.cpan/build/Encode-3.16-0/KR'
make[1]: Entering directory '/home/leo/.cpan/build/Encode-3.16-0/Symbol'
"/home/leo/perl5/perlbrew/perls/perl-5.28.3/bin/perl5.28.3" -MExtUtils::Command::MM -e 'cp_nonempty' -- Symbol.bs ../blib/arch/auto/Encode/Symbol/Symbol.bs 644
No tests defined for Encode::Symbol extension.
make[1]: Leaving directory '/home/leo/.cpan/build/Encode-3.16-0/Symbol'
make[1]: Entering directory '/home/leo/.cpan/build/Encode-3.16-0/TW'
"/home/leo/perl5/perlbrew/perls/perl-5.28.3/bin/perl5.28.3" -MExtUtils::Command::MM -e 'cp_nonempty' -- TW.bs ../blib/arch/auto/Encode/TW/TW.bs 644
No tests defined for Encode::TW extension.
make[1]: Leaving directory '/home/leo/.cpan/build/Encode-3.16-0/TW'
make[1]: Entering directory '/home/leo/.cpan/build/Encode-3.16-0/Unicode'
"/home/leo/perl5/perlbrew/perls/perl-5.28.3/bin/perl5.28.3" -MExtUtils::Command::MM -e 'cp_nonempty' -- Unicode.bs ../blib/arch/auto/Encode/Unicode/Unicode.bs 644
No tests defined for Encode::Unicode extension.
make[1]: Leaving directory '/home/leo/.cpan/build/Encode-3.16-0/Unicode'
PERL_DL_NONLAZY=1 "/home/leo/perl5/perlbrew/perls/perl-5.28.3/bin/perl5.28.3" "-MExtUtils::Command::MM" "-MTest::Harness" "-e" "undef *Test::Harness::Switches; test_harness(0, 'blib/lib', 'blib/arch')" t/*.t
t/Aliases.t ................ ok
t/at-cn.t .................. ok
t/at-tw.t .................. ok
t/CJKT.t ................... ok
t/cow.t .................... ok
t/decode.t ................. ok
t/enc_data.t ............... skipped: encoding pragma not supported in Perl 5.26
t/enc_eucjp.t .............. skipped: Perl <=5.25.2 or cperl required
t/enc_module.t ............. skipped: encoding pragma not supported in Perl 5.26
t/enc_utf8.t ............... skipped: Perl <=5.25.2 or cperl required
t/Encode.t ................. ok
t/Encoder.t ................ ok
t/encoding-locale.t ........ ok
t/encoding.t ............... skipped: encoding pragma not supported in Perl 5.26
t/fallback.t ............... ok
t/from_to.t ................ ok
t/grow.t ................... ok
t/gsm0338.t ................ ok
t/guess.t .................. ok
t/isa.t .................... ok
t/jis7-fallback.t .......... ok
t/jperl.t .................. skipped: encoding pragma not supported in Perl 5.26
t/magic.t .................. ok
t/mime-header.t ............ ok
t/mime-name.t .............. ok
t/mime_header_iso2022jp.t .. ok
t/perlio.t ................. ok
t/piconv.t ................. ok
t/rt113164.t ............... ok
t/rt65541.t ................ ok
t/rt76824.t ................ ok
t/rt85489.t ................ ok
t/rt86327.t ................ ok
t/taint.t .................. ok
t/truncated_utf8.t ......... ok
t/undef.t .................. ok
t/Unicode.t ................ ok
# temp file: /tmp/2QyiaPV030
t/Unicode_trailing_nul.t ... ok
t/use-Encode-Alias.t ....... ok
t/utf8ref.t ................ ok
t/utf8strict.t ............. ok
t/utf8warnings.t ........... ok
t/whatwg-aliases.t ......... skipped: For maintainers only
t/xml.t .................... ok
All tests successful.
Files=44, Tests=7711, 15 wallclock secs ( 0.86 usr 0.08 sys + 6.10 cusr 0.77 csys = 7.81 CPU)
Result: PASS
------------------------------
PREREQUISITES
------------------------------
Prerequisite modules loaded:
requires:
Module Need Have
------------------- ----- --------
Exporter 5.57 5.73
parent 0.221 0.236
Storable 0 3.08_01
build_requires:
Module Need Have
------------------- ----- --------
ExtUtils::MakeMaker 0 7.34
Test::More 0.92 1.302133
configure_requires:
Module Need Have
------------------- ----- --------
ExtUtils::MakeMaker 0 7.34
------------------------------
ENVIRONMENT AND OTHER CONTEXT
------------------------------
Environment variables:
LANG = en_GB.UTF-8
LD_LIBRARY_PATH = /home/leo/lib
NONINTERACTIVE_TESTING = 1
PATH = /home/leo/bin:/usr/local/bin:/usr/bin:/bin:/usr/local/games:/usr/games
PERL5LIB =
PERL5OPT =
PERL5_CPANPLUS_IS_RUNNING = 292379
PERL5_CPAN_IS_RUNNING = 292379
PERL_MM_USE_DEFAULT = 1
PERL_USE_UNSAFE_INC = 1
SHELL = /bin/bash
TERM = xterm
Perl special variables (and OS-specific diagnostics, for MSWin32):
$^X = /home/leo/perl5/perlbrew/perls/perl-5.28.3/bin/perl5.28.3
$UID/$EUID = 1000 / 1000
$GID = 1000 1000
$EGID = 1000 1000
Perl module toolchain versions installed:
Module Have
------------------- --------
CPAN 2.20
CPAN::Meta 2.150010
Cwd 3.74
ExtUtils::CBuilder 0.280230
ExtUtils::Command 7.34
ExtUtils::Install 2.14
ExtUtils::MakeMaker 7.34
ExtUtils::Manifest 1.70
ExtUtils::ParseXS 3.39
File::Spec 3.74
JSON n/a
JSON::PP 2.97001
Module::Build 0.4231
Module::Signature n/a
Parse::CPAN::Meta 2.150010
Test::Harness 3.42
Test::More 1.302133
YAML n/a
YAML::Syck n/a
version 0.9923
--
Summary of my perl5 (revision 5 version 28 subversion 3) configuration:
Platform:
osname=linux
osvers=5.10.0-7-amd64
archname=x86_64-linux-thread-multi
uname='linux jaffa 5.10.0-7-amd64 #1 smp debian 5.10.40-1 (2021-05-28) x86_64 gnulinux '
config_args='-de -Dprefix=/home/leo/perl5/perlbrew/perls/perl-5.28.3 -Dusethreads -Aeval:scriptdir=/home/leo/perl5/perlbrew/perls/perl-5.28.3/bin'
hint=recommended
useposix=true
d_sigaction=define
useithreads=define
usemultiplicity=define
use64bitint=define
use64bitall=define
uselongdouble=undef
usemymalloc=n
default_inc_excludes_dot=define
bincompat5005=undef
Compiler:
cc='cc'
ccflags ='-D_REENTRANT -D_GNU_SOURCE -fwrapv -fno-strict-aliasing -pipe -fstack-protector-strong -I/usr/local/include -D_LARGEFILE_SOURCE -D_FILE_OFFSET_BITS=64 -D_FORTIFY_SOURCE=2'
optimize='-O2'
cppflags='-D_REENTRANT -D_GNU_SOURCE -fwrapv -fno-strict-aliasing -pipe -fstack-protector-strong -I/usr/local/include'
ccversion=''
gccversion='11.2.0'
gccosandvers=''
intsize=4
longsize=8
ptrsize=8
doublesize=8
byteorder=12345678
doublekind=3
d_longlong=define
longlongsize=8
d_longdbl=define
longdblsize=16
longdblkind=3
ivtype='long'
ivsize=8
nvtype='double'
nvsize=8
Off_t='off_t'
lseeksize=8
alignbytes=8
prototype=define
Linker and Libraries:
ld='cc'
ldflags =' -fstack-protector-strong -L/usr/local/lib'
libpth=/usr/local/lib /usr/include/x86_64-linux-gnu /usr/lib /lib/x86_64-linux-gnu /lib/../lib /usr/lib/x86_64-linux-gnu /usr/lib/../lib /lib
libs=-lpthread -lnsl -ldl -lm -lcrypt -lutil -lc
perllibs=-lpthread -lnsl -ldl -lm -lcrypt -lutil -lc
libc=libc-2.33.so
so=so
useshrplib=false
libperl=libperl.a
gnulibc_version='2.33'
Dynamic Linking:
dlsrc=dl_dlopen.xs
dlext=so
d_dlsymun=undef
ccdlflags='-Wl,-E'
cccdlflags='-fPIC'
lddlflags='-shared -O2 -L/usr/local/lib -fstack-protector-strong'
Characteristics of this binary (from libperl):
Compile-time options:
HAS_TIMES
MULTIPLICITY
PERLIO_LAYERS
PERL_COPY_ON_WRITE
PERL_DONT_CREATE_GVSV
PERL_IMPLICIT_CONTEXT
PERL_MALLOC_WRAP
PERL_OP_PARENT
PERL_PRESERVE_IVUV
USE_64_BIT_ALL
USE_64_BIT_INT
USE_ITHREADS
USE_LARGE_FILES
USE_LOCALE
USE_LOCALE_COLLATE
USE_LOCALE_CTYPE
USE_LOCALE_NUMERIC
USE_LOCALE_TIME
USE_PERLIO
USE_PERL_ATOF
USE_REENTRANT_API
Locally applied patches:
Devel::PatchPerl 2.08
Built under linux
Compiled at Jan 26 2022 23:43:35
%ENV:
PERL5LIB=""
PERL5OPT=""
PERL5_CPANPLUS_IS_RUNNING="292379"
PERL5_CPAN_IS_RUNNING="292379"
PERL_MM_USE_DEFAULT="1"
PERL_USE_UNSAFE_INC="1"
@INC:
/home/leo/perl5/perlbrew/perls/perl-5.28.3/lib/site_perl/5.28.3/x86_64-linux-thread-multi
/home/leo/perl5/perlbrew/perls/perl-5.28.3/lib/site_perl/5.28.3
/home/leo/perl5/perlbrew/perls/perl-5.28.3/lib/5.28.3/x86_64-linux-thread-multi
/home/leo/perl5/perlbrew/perls/perl-5.28.3/lib/5.28.3
.