FunctionalPerl v0.72.65 Perl 5 v5.18.2 amd64-freebsd
- Status
- Pass
- From
- Slaven Rezić
- Dist
-
FunctionalPerl v0.72.65
- Platform
- Perl 5 v5.18.2 amd64-freebsd
- Date
- 2021-05-23 03:52:24
- ID
- 487eaf8e-bb7a-11eb-8283-8e661f24ea8f
This distribution has been tested as part of the CPAN Testers
project, supporting the Perl programming language. See
http://wiki.cpantesters.org/ for more information or email
questions to cpan-testers-discuss@perl.org
--
Dear Christian Jaeger,
This is a computer-generated report for FunctionalPerl-0.72.65
on perl 5.18.2, created by CPAN-Reporter-1.2018.
Thank you for uploading your work to CPAN. Congratulations!
All tests were successful.
Sections of this report:
* Tester comments
* Program output
* Prerequisites
* Environment and other context
------------------------------
TESTER COMMENTS
------------------------------
Additional comments from tester:
none provided
------------------------------
PROGRAM OUTPUT
------------------------------
Output from '/usr/bin/make test':
PERL_DL_NONLAZY=1 "/usr/perl5.18.2/bin/perl" "-MExtUtils::Command::MM" "-MTest::Harness" "-e" "undef *Test::Harness::Switches; test_harness(0, 'blib/lib', 'blib/arch')" t/*.t
t/csv_to_xml.t ........................... ok
t/dbi.t .................................. ok
t/examples-csv-to-json.t ................. skipped: Need perl 5.20.0 or later for feature signatures at (eval 6) line 1.
times for fib: user = 0.09375, system = 0, cuser = 0, csystem = 0
times for fibonacci: user = 0.078125, system = 0, cuser = 0, csystem = 0
t/examples-fibs.t ........................ ok
t/examples-functional-classes.t .......... ok
t/examples-hiring-without-whiteboards.t .. skipped: Perl v5.20.0 required--this is only v5.18.2, stopped at (eval 6) line 2.
t/examples-logic.t ....................... skipped: Perl v5.20.0 required--this is only v5.18.2, stopped at (eval 6) line 2.
t/examples-perlweekly-111-1.t ............ skipped: Need perl 5.20.0 or later for feature signatures at (eval 6) line 1.
t/examples-perlweekly-113-1.t ............ skipped: Need perl 5.20.0 or later for feature signatures at (eval 6) line 1.
t/examples-perlweekly-113-2.t ............ skipped: Need perl 5.20.0 or later for feature signatures at (eval 6) line 1.
t/examples-primes.t ...................... ok
t/functional_XML-t-div.t ................. ok
t/functional_XML-test.t .................. ok
t/htmlgen.t .............................. skipped: Perl v5.20.0 required--this is only v5.18.2, stopped at (eval 6) line 2.
not activating since running in test mode at intro//../lib/FP/Repl/AutoTrap.pm line 64.
t/intro-basics.t ......................... ok
t/perl-goto-leak.t ....................... ok
t/perl-weaken-coderef-correctness.t ...... ok
t/perl-weaken-coderef.t .................. ok
Argument "2/8" isn't numeric in numeric eq (==) at lib/FP/Collection.pm line 104.
Argument "2/8" isn't numeric in numeric eq (==) at lib/FP/Collection.pm line 104.
Argument "3/8" isn't numeric in numeric eq (==) at lib/FP/Collection.pm line 104.
Argument "2/8" isn't numeric in numeric eq (==) at lib/FP/Collection.pm line 104.
Argument "3/8" isn't numeric in numeric eq (==) at lib/FP/Collection.pm line 104.
Argument "2/8" isn't numeric in numeric eq (==) at lib/FP/Collection.pm line 104.
NOTE: can't load FP::SortedPureArray: Need perl 5.20.0 or later for feature signatures at lib/FP/SortedPureArray.pm line 36. at lib/FunctionalPerl.pm line 310.
t/pod_snippets.t ......................... ok
t/predicates.t ........................... ok
t/repl.t ................................. ok
not activating since running in test mode at lib/FP/Repl/AutoTrap.pm line 64.
not activating since running in test mode at lib/FP/Repl/Trap.pm line 47.
Reference is already weak at lib/FP/Stream.pm line 769.
t/require_and_run_tests.t ................ ok
t/skip-internal.t ........................ ok
t/skip-leak.t ............................ ok
t/skip.t ................................. ok
t/testlazy.t ............................. ok
t/testlazy10.t ........................... ok
times for T: user = 0.09375, system = 0, cuser = 0, csystem = 0
times for TC: user = 0.078125, system = 0, cuser = 0, csystem = 0
skipping test on older perl at intro/more_tailcalls line 218.
t/trampoline-fix.t ....................... ok
All tests successful.
Files=28, Tests=166, 17 wallclock secs ( 0.06 usr 0.17 sys + 10.29 cusr 1.99 csys = 12.52 CPU)
Result: PASS
------------------------------
PREREQUISITES
------------------------------
Prerequisite modules loaded:
requires:
Module Need Have
------------------- -------- --------
autobox 0 v3.0.1
base 0 2.23
Digest 0 1.18
File::Path 0 2.17
Getopt::Long 0 2.52
Import::Into 0 1.002005
Math::BigInt 0 1.999818
NEXT 0 0.68
overload 0 1.22
perl 5.016004 5.018002
PerlIO::utf8_strict 0 0.008
Safe::Isa 0 1.000010
Scalar::Util 0 1.56
Symbol 0 1.07
Test::More 0.96 1.302185
utf8 0 1.10
warnings 0 1.18
build_requires:
Module Need Have
------------------- -------- --------
BSD::Resource 0 1.2910
Capture::Tiny 0 0.48
DBD::CSV 0 0.58
DBI 0 1.643
ExtUtils::MakeMaker 0 7.62
Sub::Util 0 1.56
Test::Pod::Snippets 0 0.07
Test::Requires 0 0.10
Text::CSV 0 2.00
URI 0 5.09
configure_requires:
Module Need Have
------------------- -------- --------
ExtUtils::MakeMaker 0 7.62
opt_requires:
Module Need Have
------------------- -------- --------
B::Deparse 0 1.20
Clone 0 0.45
Encode 0 3.08
Eval::WithLexicals 0 1.003004
JSON 0 4.03
LWP::UserAgent 0 6.53
Method::Signatures 0 20160315
PadWalker 0 2.4
Term::ReadLine::Gnu 0 1.40
Text::Markdown 0 1.000031
------------------------------
ENVIRONMENT AND OTHER CONTEXT
------------------------------
Environment variables:
LC_ALL = de_DE.ISO8859-1
PATH = /usr/local/bin:/usr/bin:/bin:/usr/local/sbin:/usr/sbin:/sbin:/home/cpansand/bin/freebsd9.3:/home/cpansand/bin/sh:/home/cpansand/bin:/usr/games:/home/cpansand/devel:/usr/home/eserte/src/srezic-misc/scripts
PERL5LIB =
PERL5OPT =
PERL5_CPANPLUS_IS_RUNNING = 68948
PERL5_CPAN_IS_RUNNING = 68948
PERL5_CPAN_IS_RUNNING_IN_RECURSION = 68072,68948
PERLDOC = -MPod::Perldoc::ToTextOverstrike
PERL_BATCH = yes
PERL_CANARY_STABILITY_NOPROMPT = 1
PERL_CPAN_REPORTER_CONFIG = /var/tmp/cpansmoker-1023/2021052305/cpanreporter_000_config.ini
PERL_EXTUTILS_AUTOINSTALL = --defaultdeps
PERL_USE_UNSAFE_INC = 1
SHELL = /usr/local/bin/zsh
TERM = screen
TMPDIR = /var/tmp/cpansmoker-1023/2021052305
Perl special variables (and OS-specific diagnostics, for MSWin32):
$^X = /usr/perl5.18.2/bin/perl
$UID/$EUID = 1023 / 1023
$GID = 1023 1023
$EGID = 1023 1023
Perl module toolchain versions installed:
Module Have
------------------- --------
CPAN 2.27
CPAN::Meta 2.150010
Cwd 3.75
ExtUtils::CBuilder 0.280231
ExtUtils::Command 7.62
ExtUtils::Install 2.20
ExtUtils::MakeMaker 7.62
ExtUtils::Manifest 1.73
ExtUtils::ParseXS 3.35
File::Spec 3.75
JSON 4.03
JSON::PP 4.05
Module::Build 0.4231
Module::Signature 0.83
Parse::CPAN::Meta 2.150010
Test::Harness 3.42
Test::More 1.302185
YAML 1.30
YAML::Syck 1.33
version 0.9929
--
Summary of my perl5 (revision 5 version 18 subversion 2) configuration:
Platform:
osname=freebsd, osvers=9.2-release-p4, archname=amd64-freebsd
uname='freebsd cvrsnica-freebsd-92 9.2-release-p4 freebsd 9.2-release-p4 #0: tue apr 8 18:08:22 utc 2014 root@amd64-builder.daemonology.net:usrobjusrsrcsysgeneric amd64 '
config_args='-ds -e -Dprefix=/usr/perl5.18.2'
hint=recommended, useposix=true, d_sigaction=define
useithreads=undef, usemultiplicity=undef
useperlio=define, d_sfio=undef, uselargefiles=define, usesocks=undef
use64bitint=define, use64bitall=define, uselongdouble=undef
usemymalloc=n, bincompat5005=undef
Compiler:
cc='cc', ccflags ='-DHAS_FPSETMASK -DHAS_FLOATINGPOINT_H -fno-strict-aliasing -pipe -fstack-protector -I/usr/local/include',
optimize='-O',
cppflags='-DHAS_FPSETMASK -DHAS_FLOATINGPOINT_H -fno-strict-aliasing -pipe -fstack-protector -I/usr/local/include'
ccversion='', gccversion='4.2.1 20070831 patched [FreeBSD]', gccosandvers=''
intsize=4, longsize=8, ptrsize=8, doublesize=8, byteorder=12345678
d_longlong=define, longlongsize=8, d_longdbl=define, longdblsize=16
ivtype='long', ivsize=8, nvtype='double', nvsize=8, Off_t='off_t', lseeksize=8
alignbytes=8, prototype=define
Linker and Libraries:
ld='cc', ldflags ='-Wl,-E -fstack-protector -L/usr/local/lib'
libpth=/usr/lib /usr/local/lib
libs=-lgdbm -lm -lcrypt -lutil -lc
perllibs=-lm -lcrypt -lutil -lc
libc=, so=so, useshrplib=false, libperl=libperl.a
gnulibc_version=''
Dynamic Linking:
dlsrc=dl_dlopen.xs, dlext=so, d_dlsymun=undef, ccdlflags=' '
cccdlflags='-DPIC -fPIC', lddlflags='-shared -L/usr/local/lib -fstack-protector'
Characteristics of this binary (from libperl):
Compile-time options: HAS_TIMES PERLIO_LAYERS PERL_DONT_CREATE_GVSV
PERL_HASH_FUNC_ONE_AT_A_TIME_HARD PERL_MALLOC_WRAP
PERL_PRESERVE_IVUV PERL_SAWAMPERSAND USE_64_BIT_ALL
USE_64_BIT_INT USE_LARGE_FILES USE_LOCALE
USE_LOCALE_COLLATE USE_LOCALE_CTYPE
USE_LOCALE_NUMERIC USE_PERLIO USE_PERL_ATOF
Built under freebsd
Compiled at May 16 2014 01:27:28
%ENV:
PERL5LIB=""
PERL5OPT=""
PERL5_CPANPLUS_IS_RUNNING="68948"
PERL5_CPAN_IS_RUNNING="68948"
PERL5_CPAN_IS_RUNNING_IN_RECURSION="68072,68948"
PERLDOC="-MPod::Perldoc::ToTextOverstrike"
PERL_BATCH="yes"
PERL_CANARY_STABILITY_NOPROMPT="1"
PERL_CPAN_REPORTER_CONFIG="/var/tmp/cpansmoker-1023/2021052305/cpanreporter_000_config.ini"
PERL_EXTUTILS_AUTOINSTALL="--defaultdeps"
PERL_USE_UNSAFE_INC="1"
@INC:
/usr/perl5.18.2/lib/site_perl/5.18.2/amd64-freebsd
/usr/perl5.18.2/lib/site_perl/5.18.2
/usr/perl5.18.2/lib/5.18.2/amd64-freebsd
/usr/perl5.18.2/lib/5.18.2
.