PPI v1.278 Perl 5 v5.30.3 amd64-freebsd
- Status
- Pass
- From
- Slaven Rezić
- Dist
-
PPI v1.278
- Platform
- Perl 5 v5.30.3 amd64-freebsd
- Date
- 2024-03-11 04:24:38
- ID
- 46413852-df5f-11ee-83a6-94056e8775ea
This distribution has been tested as part of the CPAN Testers
project, supporting the Perl programming language. See
http://wiki.cpantesters.org/ for more information or email
questions to cpan-testers-discuss@perl.org
--
Dear Olaf Alders,
This is a computer-generated report for PPI-1.278
on perl 5.30.3, created by CPAN-Reporter-1.2018.
Thank you for uploading your work to CPAN. Congratulations!
All tests were successful.
Sections of this report:
* Tester comments
* Program output
* Prerequisites
* Environment and other context
------------------------------
TESTER COMMENTS
------------------------------
Additional comments from tester:
none provided
------------------------------
PROGRAM OUTPUT
------------------------------
Output from '/usr/bin/make test':
PERL_DL_NONLAZY=1 "/usr/perl5.30.3p/bin/perl" "-MExtUtils::Command::MM" "-MTest::Harness" "-e" "undef *Test::Harness::Switches; test_harness(0, 'blib/lib', 'blib/arch')" t/*.t
#
# Versions for all modules listed in MYMETA.json (including optional ones):
#
# === Configure Requires ===
#
# Module Want Have
# ------------------- ---- ----
# ExtUtils::MakeMaker any 7.70
#
# === Build Requires ===
#
# Module Want Have
# ------------------- ---- ----
# ExtUtils::MakeMaker any 7.70
#
# === Test Requires ===
#
# Module Want Have
# --------------------- ---- --------
# B any 1.76
# Class::Inspector 1.22 1.36
# Encode any 3.21
# ExtUtils::MakeMaker any 7.70
# File::Copy any 2.34
# File::Spec any 3.78
# File::Spec::Functions any 3.78
# File::Temp any 0.2311
# Test::More 0.96 1.302198
# Test::NoWarnings any 1.06
# Test::Object 0.07 0.08
# Test::SubCalls 1.07 1.10
# lib any 0.65
# parent any 0.238
# utf8 any 1.22
# warnings any 1.44
#
# === Test Recommends ===
#
# Module Want Have
# ---------- -------- --------
# CPAN::Meta 2.120900 2.150010
#
# === Runtime Requires ===
#
# Module Want Have
# ------------ ----- --------
# Carp any 1.50
# Clone 0.30 0.46
# Digest::MD5 2.35 2.58
# Exporter any 5.78
# File::Path any 2.18
# File::Spec 0.84 3.78
# List::Util 1.33 1.63
# Params::Util 1.00 1.102
# Scalar::Util any 1.63
# Storable 2.17 3.25
# Task::Weaken any 1.06
# constant any 1.33
# if any 0.0608
# overload any 1.30
# perl 5.006 5.030003
# strict any 1.11
#
t/00-report-prereqs.t ............ ok
t/01_compile.t ................... ok
t/03_document.t .................. ok
t/04_element.t ................... ok
t/05_lexer.t ..................... ok
t/06_round_trip.t ................ ok
t/07_token.t ..................... ok
t/08_regression.t ................ ok
t/09_normal.t .................... ok
t/10_statement.t ................. ok
t/11_util.t ...................... ok
t/12_location.t .................. ok
t/13_data.t ...................... ok
t/14_charsets.t .................. ok
t/15_transform.t ................. ok
t/16_xml.t ....................... ok
t/17_storable.t .................. ok
t/18_cache.t ..................... ok
t/19_selftesting.t ............... ok
t/21_exhaustive.t ................ ok
t/22_readonly.t .................. ok
t/23_file.t ...................... ok
t/24_v6.t ........................ ok
t/25_increment.t ................. ok
t/26_bom.t ....................... ok
t/27_complete.t .................. ok
t/28_foreach_qw.t ................ ok
t/29_logical_filename.t .......... ok
t/interactive.t .................. ok
t/marpa.t ........................ ok
t/ppi_element.t .................. ok
t/ppi_element_replace.t .......... ok
t/ppi_lexer.t .................... ok
t/ppi_node.t ..................... ok
t/ppi_normal.t ................... ok
t/ppi_statement.t ................ ok
t/ppi_statement_compound.t ....... ok
t/ppi_statement_include.t ........ ok
t/ppi_statement_package.t ........ ok
t/ppi_statement_scheduled.t ...... ok
t/ppi_statement_sub.t ............ ok
t/ppi_statement_variable.t ....... ok
t/ppi_token.t .................... ok
t/ppi_token__quoteengine_full.t .. ok
t/ppi_token_attribute.t .......... ok
t/ppi_token_dashedword.t ......... ok
t/ppi_token_heredoc.t ............ ok
t/ppi_token_magic.t .............. ok
t/ppi_token_number_version.t ..... ok
t/ppi_token_operator.t ........... ok
t/ppi_token_pod.t ................ ok
t/ppi_token_prototype.t .......... ok
t/ppi_token_quote.t .............. ok
t/ppi_token_quote_double.t ....... ok
t/ppi_token_quote_interpolate.t .. ok
t/ppi_token_quote_literal.t ...... ok
t/ppi_token_quote_single.t ....... ok
t/ppi_token_quotelike_regexp.t ... ok
t/ppi_token_quotelike_words.t .... ok
t/ppi_token_regexp.t ............. ok
t/ppi_token_structure.t .......... ok
t/ppi_token_symbol.t ............. ok
t/ppi_token_unknown.t ............ ok
t/ppi_token_whitespace.t ......... ok
t/ppi_token_word.t ............... ok
t/signatures.t ................... ok
All tests successful.
Files=66, Tests=52775, 32 wallclock secs ( 5.26 usr 1.26 sys + 29.42 cusr 1.45 csys = 37.39 CPU)
Result: PASS
------------------------------
PREREQUISITES
------------------------------
Prerequisite modules loaded:
requires:
Module Need Have
--------------------- ----- --------
Carp 0 1.50
Clone 0.30 0.46
constant 0 1.33
Digest::MD5 2.35 2.58
Exporter 0 5.78
File::Path 0 2.18
File::Spec 0.84 3.78
if 0 0.0608
List::Util 1.33 1.63
overload 0 1.30
Params::Util 1.00 1.102
perl 5.006 5.030003
Scalar::Util 0 1.63
Storable 2.17 3.25
strict 0 1.11
Task::Weaken 0 1.06
build_requires:
Module Need Have
--------------------- ----- --------
B 0 1.76
Class::Inspector 1.22 1.36
Encode 0 3.21
ExtUtils::MakeMaker 0 7.70
File::Copy 0 2.34
File::Spec 0 3.78
File::Spec::Functions 0 3.78
File::Temp 0 0.2311
lib 0 0.65
parent 0 0.238
Test::More 0.96 1.302198
Test::NoWarnings 0 1.06
Test::Object 0.07 0.08
Test::SubCalls 1.07 1.10
utf8 0 1.22
warnings 0 1.44
configure_requires:
Module Need Have
--------------------- ----- --------
ExtUtils::MakeMaker 0 7.70
------------------------------
ENVIRONMENT AND OTHER CONTEXT
------------------------------
Environment variables:
PATH = /usr/local/bin:/usr/bin:/bin:/usr/local/sbin:/usr/sbin:/sbin:/home/cpansand/bin/sh:/home/cpansand/bin:/usr/games:/home/cpansand/devel:/usr/home/eserte/src/srezic-misc/scripts
PERL5LIB =
PERL5OPT =
PERL5_CPANPLUS_IS_RUNNING = 45105
PERL5_CPAN_IS_RUNNING = 45105
PERL5_CPAN_IS_RUNNING_IN_RECURSION = 43997,45105
PERL_BATCH = yes
PERL_CANARY_STABILITY_NOPROMPT = 1
PERL_CPAN_REPORTER_CONFIG = /var/tmp/cpansmoker-1023/2024031104/cpanreporter_000_config.ini
PERL_EXTUTILS_AUTOINSTALL = --defaultdeps
PERL_USE_UNSAFE_INC = 1
SHELL = /bin/sh
TMPDIR = /var/tmp/cpansmoker-1023/2024031104
Perl special variables (and OS-specific diagnostics, for MSWin32):
$^X = /usr/perl5.30.3p/bin/perl
$UID/$EUID = 1023 / 1023
$GID = 1023 1023
$EGID = 1023 1023
Perl module toolchain versions installed:
Module Have
------------------- --------
CPAN 2.36
CPAN::Meta 2.150010
Cwd 3.78
ExtUtils::CBuilder 0.280236
ExtUtils::Command 7.70
ExtUtils::Install 2.20
ExtUtils::MakeMaker 7.70
ExtUtils::Manifest 1.75
ExtUtils::ParseXS 3.51
File::Spec 3.78
JSON 4.10
JSON::PP 4.15
Module::Build 0.4234
Module::Signature 0.88
Parse::CPAN::Meta 2.150010
Test::Harness 3.47
Test::More 1.302198
YAML 1.31
YAML::Syck 1.34
version 0.9929
--
Summary of my perl5 (revision 5 version 30 subversion 3) configuration:
Platform:
osname=freebsd
osvers=13.0-stable
archname=amd64-freebsd
uname='freebsd cloud10.bbbike.org 13.0-stable freebsd 13.0-stable #0 stable13-n245623-e2872019983d: thu may 13 16:04:27 utc 2021 root@cloud10.bbbike.org:usrobjusrhomeprojectsfreebsdamd64.amd64sysgeneric amd64 '
config_args='-ds -e -Dprefix=/usr/perl5.30.3p -Dcf_email=srezic@cpan.org -Doptimize=-O2 -pipe'
hint=recommended
useposix=true
d_sigaction=define
useithreads=undef
usemultiplicity=undef
use64bitint=define
use64bitall=define
uselongdouble=undef
usemymalloc=n
default_inc_excludes_dot=define
bincompat5005=undef
Compiler:
cc='cc'
ccflags ='-DHAS_FPSETMASK -DHAS_FLOATINGPOINT_H -fno-strict-aliasing -pipe -fstack-protector-strong -I/usr/local/include'
optimize='-O2 -pipe'
cppflags='-DHAS_FPSETMASK -DHAS_FLOATINGPOINT_H -fno-strict-aliasing -pipe -fstack-protector-strong -I/usr/local/include'
ccversion=''
gccversion='FreeBSD Clang 11.0.1 (git@github.com:llvm/llvm-project.git llvmorg-11.0.1-0-g43ff75f2c3fe)'
gccosandvers=''
intsize=4
longsize=8
ptrsize=8
doublesize=8
byteorder=12345678
doublekind=3
d_longlong=define
longlongsize=8
d_longdbl=define
longdblsize=16
longdblkind=3
ivtype='long'
ivsize=8
nvtype='double'
nvsize=8
Off_t='off_t'
lseeksize=8
alignbytes=8
prototype=define
Linker and Libraries:
ld='cc'
ldflags ='-pthread -Wl,-E -fstack-protector-strong -L/usr/local/lib'
libpth=/usr/lib /usr/local/lib /usr/lib/clang/11.0.1/lib /usr/lib
libs=-lpthread -lgdbm -ldl -lm -lcrypt -lutil -lc
perllibs=-lpthread -ldl -lm -lcrypt -lutil -lc
libc=
so=so
useshrplib=false
libperl=libperl.a
gnulibc_version=''
Dynamic Linking:
dlsrc=dl_dlopen.xs
dlext=so
d_dlsymun=undef
ccdlflags=' '
cccdlflags='-DPIC -fPIC'
lddlflags='-shared -L/usr/local/lib -fstack-protector-strong'
Characteristics of this binary (from libperl):
Compile-time options:
HAS_TIMES
PERLIO_LAYERS
PERL_COPY_ON_WRITE
PERL_DONT_CREATE_GVSV
PERL_MALLOC_WRAP
PERL_OP_PARENT
PERL_PRESERVE_IVUV
USE_64_BIT_ALL
USE_64_BIT_INT
USE_LARGE_FILES
USE_LOCALE
USE_LOCALE_COLLATE
USE_LOCALE_CTYPE
USE_LOCALE_NUMERIC
USE_LOCALE_TIME
USE_PERLIO
USE_PERL_ATOF
Built under freebsd
Compiled at May 14 2021 19:47:18
%ENV:
PERL5LIB=""
PERL5OPT=""
PERL5_CPANPLUS_IS_RUNNING="45105"
PERL5_CPAN_IS_RUNNING="45105"
PERL5_CPAN_IS_RUNNING_IN_RECURSION="43997,45105"
PERL_BATCH="yes"
PERL_CANARY_STABILITY_NOPROMPT="1"
PERL_CPAN_REPORTER_CONFIG="/var/tmp/cpansmoker-1023/2024031104/cpanreporter_000_config.ini"
PERL_EXTUTILS_AUTOINSTALL="--defaultdeps"
PERL_USE_UNSAFE_INC="1"
@INC:
/usr/perl5.30.3p/lib/site_perl/5.30.3/amd64-freebsd
/usr/perl5.30.3p/lib/site_perl/5.30.3
/usr/perl5.30.3p/lib/5.30.3/amd64-freebsd
/usr/perl5.30.3p/lib/5.30.3
.