Encode v3.20 Perl 5 v5.38.1 x86_64-linux-thread-multi

Status
Pass
From
Daniel Șuteu
Dist
Encode v3.20
Platform
Perl 5 v5.38.1 x86_64-linux-thread-multi
Date
2023-12-02 04:14:23
ID
46387e9a-90c9-11ee-beb1-6fa7ee6ac0cb
This distribution has been tested as part of the CPAN Testers
project, supporting the Perl programming language.  See
http://wiki.cpantesters.org/ for more information or email
questions to cpan-testers-discuss@perl.org


--
Dear DANKOGAI,

This is a computer-generated report for Encode-3.20
on perl 5.38.1, created by App::cpanminus::reporter 0.21 (1.7047).

Thank you for uploading your work to CPAN.  Congratulations!
All tests were successful.

Sections of this report:

    * Tester comments
    * Program output
    * Prerequisites
    * Environment and other context

------------------------------
TESTER COMMENTS
------------------------------

Additional comments from tester:

none provided

------------------------------
PROGRAM OUTPUT
------------------------------

Output from '':

Building and testing Encode-3.20
Running Mkbootstrap for Encode ()
chmod 644 "Encode.bs"
"/usr/bin/perl" "/usr/share/perl5/site_perl/ExtUtils/xsubpp"  -typemap '/usr/share/perl5/core_perl/ExtUtils/typemap'  Encode.xs > Encode.xsc
cp lib/Encode/Guess.pm blib/lib/Encode/Guess.pm
cp lib/Encode/JP/H2Z.pm blib/lib/Encode/JP/H2Z.pm
cp lib/Encode/JP/JIS7.pm blib/lib/Encode/JP/JIS7.pm
cp lib/Encode/CJKConstants.pm blib/lib/Encode/CJKConstants.pm
cp Encode/encode.h blib/lib/Encode/encode.h
cp lib/Encode/GSM0338.pm blib/lib/Encode/GSM0338.pm
cp Encode/_PM.e2x blib/lib/Encode/_PM.e2x
cp lib/Encode/Config.pm blib/lib/Encode/Config.pm
cp Encode/ConfigLocal_PM.e2x blib/lib/Encode/ConfigLocal_PM.e2x
cp Encode/Changes.e2x blib/lib/Encode/Changes.e2x
cp Encode/_T.e2x blib/lib/Encode/_T.e2x
cp encoding.pm blib/lib/encoding.pm
cp lib/Encode/MIME/Name.pm blib/lib/Encode/MIME/Name.pm
cp lib/Encode/KR/2022_KR.pm blib/lib/Encode/KR/2022_KR.pm
cp Encode/Makefile_PL.e2x blib/lib/Encode/Makefile_PL.e2x
cp lib/Encode/PerlIO.pod blib/lib/Encode/PerlIO.pod
cp lib/Encode/Unicode/UTF7.pm blib/lib/Encode/Unicode/UTF7.pm
cp lib/Encode/Supported.pod blib/lib/Encode/Supported.pod
cp lib/Encode/MIME/Header.pm blib/lib/Encode/MIME/Header.pm
cp lib/Encode/Encoding.pm blib/lib/Encode/Encoding.pm
cp lib/Encode/CN/HZ.pm blib/lib/Encode/CN/HZ.pm
cp lib/Encode/Encoder.pm blib/lib/Encode/Encoder.pm
cp Encode.pm blib/lib/Encode.pm
cp Encode/README.e2x blib/lib/Encode/README.e2x
cp lib/Encode/MIME/Header/ISO_2022_JP.pm blib/lib/Encode/MIME/Header/ISO_2022_JP.pm
cp lib/Encode/Alias.pm blib/lib/Encode/Alias.pm
"/usr/bin/perl"  bin/enc2xs -"Q" -"O" -o def_t.c -f def_t.fnm
Reading iso-8859-1 (iso-8859-1)
Reading ascii (ascii)
Reading cp1252 (cp1252)
Reading ascii-ctrl (ascii-ctrl)
Reading null (null)
cc -c  -I./Encode -D_REENTRANT -D_GNU_SOURCE -fwrapv -fno-strict-aliasing -pipe -fstack-protector-strong -I/usr/local/include -D_LARGEFILE_SOURCE -D_FILE_OFFSET_BITS=64 -Wpointer-sign -march=native -O3 -pipe -fno-plt -fstack-clash-protection -fcf-protection   -DVERSION=\"3.20\" -DXS_VERSION=\"3.20\" -fPIC "-I/usr/lib/perl5/5.38/core_perl/CORE"   encengine.c
[proxychains] DLL init: proxychains-ng 4.16
[proxychains] DLL init: proxychains-ng 4.16
[proxychains] DLL init: proxychains-ng 4.16
make[1]: Entering directory '/home/swampyx/.cpanm/work/1701490187.28207/Encode-3.20/Byte'
mv Encode.xsc Encode.c
Running Mkbootstrap for Byte ()
cp Byte.pm ../blib/lib/Encode/Byte.pm
"/usr/bin/perl"  ../bin/enc2xs -"Q" -"O" -o byte_t.c -f byte_t.fnm
chmod 644 "Byte.bs"
"/usr/bin/perl" -MExtUtils::Command::MM -e 'cp_nonempty' -- Byte.bs ../blib/arch/auto/Encode/Byte/Byte.bs 644
"/usr/bin/perl" -MExtUtils::Command::MM -e 'cp_nonempty' -- Encode.bs blib/arch/auto/Encode/Encode.bs 644
cc -c  -I./Encode -D_REENTRANT -D_GNU_SOURCE -fwrapv -fno-strict-aliasing -pipe -fstack-protector-strong -I/usr/local/include -D_LARGEFILE_SOURCE -D_FILE_OFFSET_BITS=64 -Wpointer-sign -march=native -O3 -pipe -fno-plt -fstack-clash-protection -fcf-protection   -DVERSION=\"3.20\" -DXS_VERSION=\"3.20\" -fPIC "-I/usr/lib/perl5/5.38/core_perl/CORE"   Encode.c
[proxychains] DLL init: proxychains-ng 4.16
[proxychains] DLL init: proxychains-ng 4.16
[proxychains] DLL init: proxychains-ng 4.16
cc -c  -I./Encode -D_REENTRANT -D_GNU_SOURCE -fwrapv -fno-strict-aliasing -pipe -fstack-protector-strong -I/usr/local/include -D_LARGEFILE_SOURCE -D_FILE_OFFSET_BITS=64 -Wpointer-sign -march=native -O3 -pipe -fno-plt -fstack-clash-protection -fcf-protection   -DVERSION=\"3.20\" -DXS_VERSION=\"3.20\" -fPIC "-I/usr/lib/perl5/5.38/core_perl/CORE"   def_t.c
[proxychains] DLL init: proxychains-ng 4.16
[proxychains] DLL init: proxychains-ng 4.16
[proxychains] DLL init: proxychains-ng 4.16
rm -f blib/arch/auto/Encode/Encode.so
cc  -shared -Wl,-O1,--sort-common,--as-needed,-z,relro,-z,now -flto=auto -L/usr/local/lib -fstack-protector-strong  Encode.o def_t.o encengine.o  -o blib/arch/auto/Encode/Encode.so  \
      \
  
chmod 755 blib/arch/auto/Encode/Encode.so
Reading iso-8859-2 (iso-8859-2)
Reading iso-8859-3 (iso-8859-3)
Reading iso-8859-4 (iso-8859-4)
Reading iso-8859-5 (iso-8859-5)
Reading iso-8859-6 (iso-8859-6)
Reading iso-8859-7 (iso-8859-7)
Reading iso-8859-8 (iso-8859-8)
Reading iso-8859-9 (iso-8859-9)
Reading iso-8859-10 (iso-8859-10)
Reading iso-8859-11 (iso-8859-11)
Reading iso-8859-13 (iso-8859-13)
Reading iso-8859-14 (iso-8859-14)
Reading iso-8859-15 (iso-8859-15)
Reading iso-8859-16 (iso-8859-16)
Reading AdobeStandardEncoding (AdobeStandardEncoding)
Reading cp1006 (cp1006)
Reading cp1250 (cp1250)
Reading cp1251 (cp1251)
Reading cp1253 (cp1253)
Reading cp1254 (cp1254)
Reading cp1255 (cp1255)
Reading cp1256 (cp1256)
Reading cp1257 (cp1257)
Reading cp1258 (cp1258)
Reading cp424 (cp424)
Reading cp437 (cp437)
Reading cp737 (cp737)
Reading cp775 (cp775)
Reading cp850 (cp850)
Reading cp852 (cp852)
Reading cp855 (cp855)
Reading cp856 (cp856)
Reading cp857 (cp857)
Reading cp858 (cp858)
Reading cp860 (cp860)
Reading cp861 (cp861)
Reading cp862 (cp862)
Reading cp863 (cp863)
Reading cp864 (cp864)
Reading cp865 (cp865)
Reading cp866 (cp866)
Reading cp869 (cp869)
Reading cp874 (cp874)
Reading hp-roman8 (hp-roman8)
Reading koi8-f (koi8-f)
Reading koi8-r (koi8-r)
Reading koi8-u (koi8-u)
Reading MacArabic (MacArabic)
Reading MacCentralEurRoman (MacCentralEurRoman)
Reading MacCroatian (MacCroatian)
Reading MacCyrillic (MacCyrillic)
Reading MacFarsi (MacFarsi)
Reading MacGreek (MacGreek)
Reading MacHebrew (MacHebrew)
Reading MacIcelandic (MacIcelandic)
Reading MacRomanian (MacRomanian)
Reading MacRumanian (MacRumanian)
Reading MacRoman (MacRoman)
Reading MacSami (MacSami)
Reading MacThai (MacThai)
Reading MacTurkish (MacTurkish)
Reading MacUkrainian (MacUkrainian)
Reading nextstep (nextstep)
Reading viscii (viscii)
"/usr/bin/perl" "/usr/share/perl5/site_perl/ExtUtils/xsubpp"  -nolinenumbers -typemap '/usr/share/perl5/core_perl/ExtUtils/typemap'  Byte.xs > Byte.xsc
cc -c -I./Encode  -I../Encode -D_REENTRANT -D_GNU_SOURCE -fwrapv -fno-strict-aliasing -pipe -fstack-protector-strong -I/usr/local/include -D_LARGEFILE_SOURCE -D_FILE_OFFSET_BITS=64 -Wpointer-sign -march=native -O3 -pipe -fno-plt -fstack-clash-protection -fcf-protection   -DVERSION=\"2.04\" -DXS_VERSION=\"2.04\" -fPIC "-I/usr/lib/perl5/5.38/core_perl/CORE"   byte_t.c
[proxychains] DLL init: proxychains-ng 4.16
[proxychains] DLL init: proxychains-ng 4.16
[proxychains] DLL init: proxychains-ng 4.16
mv Byte.xsc Byte.c
cc -c -I./Encode  -I../Encode -D_REENTRANT -D_GNU_SOURCE -fwrapv -fno-strict-aliasing -pipe -fstack-protector-strong -I/usr/local/include -D_LARGEFILE_SOURCE -D_FILE_OFFSET_BITS=64 -Wpointer-sign -march=native -O3 -pipe -fno-plt -fstack-clash-protection -fcf-protection   -DVERSION=\"2.04\" -DXS_VERSION=\"2.04\" -fPIC "-I/usr/lib/perl5/5.38/core_perl/CORE"   Byte.c
[proxychains] DLL init: proxychains-ng 4.16
[proxychains] DLL init: proxychains-ng 4.16
[proxychains] DLL init: proxychains-ng 4.16
rm -f ../blib/arch/auto/Encode/Byte/Byte.so
cc  -shared -Wl,-O1,--sort-common,--as-needed,-z,relro,-z,now -flto=auto -L/usr/local/lib -fstack-protector-strong  Byte.o byte_t.o  -o ../blib/arch/auto/Encode/Byte/Byte.so  \
      \
  
chmod 755 ../blib/arch/auto/Encode/Byte/Byte.so
make[1]: Leaving directory '/home/swampyx/.cpanm/work/1701490187.28207/Encode-3.20/Byte'
make[1]: Entering directory '/home/swampyx/.cpanm/work/1701490187.28207/Encode-3.20/CN'
Running Mkbootstrap for CN ()
chmod 644 "CN.bs"
"/usr/bin/perl"  ../bin/enc2xs -"Q" -o cp_00_t.c -f cp_00_t.fnm
cp CN.pm ../blib/lib/Encode/CN.pm
"/usr/bin/perl"  ../bin/enc2xs -"Q" -o eu_01_t.c -f eu_01_t.fnm
Reading euc-cn (euc-cn)
"/usr/bin/perl"  ../bin/enc2xs -"Q" -o gb_02_t.c -f gb_02_t.fnm
Reading gb12345-raw (gb12345-raw)
"/usr/bin/perl"  ../bin/enc2xs -"Q" -o gb_03_t.c -f gb_03_t.fnm
Reading cp936 (cp936)
"/usr/bin/perl"  ../bin/enc2xs -"Q" -o ir_04_t.c -f ir_04_t.fnm
Reading gb2312-raw (gb2312-raw)
"/usr/bin/perl"  ../bin/enc2xs -"Q" -o ma_05_t.c -f ma_05_t.fnm
Reading iso-ir-165 (iso-ir-165)
cc -c -I./Encode  -I../Encode -D_REENTRANT -D_GNU_SOURCE -fwrapv -fno-strict-aliasing -pipe -fstack-protector-strong -I/usr/local/include -D_LARGEFILE_SOURCE -D_FILE_OFFSET_BITS=64 -Wpointer-sign -march=native -O3 -pipe -fno-plt -fstack-clash-protection -fcf-protection   -DVERSION=\"2.03\" -DXS_VERSION=\"2.03\" -fPIC "-I/usr/lib/perl5/5.38/core_perl/CORE"   cp_00_t.c
[proxychains] DLL init: proxychains-ng 4.16
[proxychains] DLL init: proxychains-ng 4.16
[proxychains] DLL init: proxychains-ng 4.16
cc -c -I./Encode  -I../Encode -D_REENTRANT -D_GNU_SOURCE -fwrapv -fno-strict-aliasing -pipe -fstack-protector-strong -I/usr/local/include -D_LARGEFILE_SOURCE -D_FILE_OFFSET_BITS=64 -Wpointer-sign -march=native -O3 -pipe -fno-plt -fstack-clash-protection -fcf-protection   -DVERSION=\"2.03\" -DXS_VERSION=\"2.03\" -fPIC "-I/usr/lib/perl5/5.38/core_perl/CORE"   eu_01_t.c
[proxychains] DLL init: proxychains-ng 4.16
[proxychains] DLL init: proxychains-ng 4.16
[proxychains] DLL init: proxychains-ng 4.16
cc -c -I./Encode  -I../Encode -D_REENTRANT -D_GNU_SOURCE -fwrapv -fno-strict-aliasing -pipe -fstack-protector-strong -I/usr/local/include -D_LARGEFILE_SOURCE -D_FILE_OFFSET_BITS=64 -Wpointer-sign -march=native -O3 -pipe -fno-plt -fstack-clash-protection -fcf-protection   -DVERSION=\"2.03\" -DXS_VERSION=\"2.03\" -fPIC "-I/usr/lib/perl5/5.38/core_perl/CORE"   gb_02_t.c
[proxychains] DLL init: proxychains-ng 4.16
[proxychains] DLL init: proxychains-ng 4.16
[proxychains] DLL init: proxychains-ng 4.16
cc -c -I./Encode  -I../Encode -D_REENTRANT -D_GNU_SOURCE -fwrapv -fno-strict-aliasing -pipe -fstack-protector-strong -I/usr/local/include -D_LARGEFILE_SOURCE -D_FILE_OFFSET_BITS=64 -Wpointer-sign -march=native -O3 -pipe -fno-plt -fstack-clash-protection -fcf-protection   -DVERSION=\"2.03\" -DXS_VERSION=\"2.03\" -fPIC "-I/usr/lib/perl5/5.38/core_perl/CORE"   gb_03_t.c
[proxychains] DLL init: proxychains-ng 4.16
[proxychains] DLL init: proxychains-ng 4.16
[proxychains] DLL init: proxychains-ng 4.16
cc -c -I./Encode  -I../Encode -D_REENTRANT -D_GNU_SOURCE -fwrapv -fno-strict-aliasing -pipe -fstack-protector-strong -I/usr/local/include -D_LARGEFILE_SOURCE -D_FILE_OFFSET_BITS=64 -Wpointer-sign -march=native -O3 -pipe -fno-plt -fstack-clash-protection -fcf-protection   -DVERSION=\"2.03\" -DXS_VERSION=\"2.03\" -fPIC "-I/usr/lib/perl5/5.38/core_perl/CORE"   ir_04_t.c
[proxychains] DLL init: proxychains-ng 4.16
[proxychains] DLL init: proxychains-ng 4.16
[proxychains] DLL init: proxychains-ng 4.16
"/usr/bin/perl" -MExtUtils::Command::MM -e 'cp_nonempty' -- CN.bs ../blib/arch/auto/Encode/CN/CN.bs 644
Reading MacChineseSimp (MacChineseSimp)
"/usr/bin/perl" "/usr/share/perl5/site_perl/ExtUtils/xsubpp" -noprototypes -nolinenumbers -typemap '/usr/share/perl5/core_perl/ExtUtils/typemap'  CN.xs > CN.xsc
cc -c -I./Encode  -I../Encode -D_REENTRANT -D_GNU_SOURCE -fwrapv -fno-strict-aliasing -pipe -fstack-protector-strong -I/usr/local/include -D_LARGEFILE_SOURCE -D_FILE_OFFSET_BITS=64 -Wpointer-sign -march=native -O3 -pipe -fno-plt -fstack-clash-protection -fcf-protection   -DVERSION=\"2.03\" -DXS_VERSION=\"2.03\" -fPIC "-I/usr/lib/perl5/5.38/core_perl/CORE"   ma_05_t.c
[proxychains] DLL init: proxychains-ng 4.16
[proxychains] DLL init: proxychains-ng 4.16
[proxychains] DLL init: proxychains-ng 4.16
mv CN.xsc CN.c
cc -c -I./Encode  -I../Encode -D_REENTRANT -D_GNU_SOURCE -fwrapv -fno-strict-aliasing -pipe -fstack-protector-strong -I/usr/local/include -D_LARGEFILE_SOURCE -D_FILE_OFFSET_BITS=64 -Wpointer-sign -march=native -O3 -pipe -fno-plt -fstack-clash-protection -fcf-protection   -DVERSION=\"2.03\" -DXS_VERSION=\"2.03\" -fPIC "-I/usr/lib/perl5/5.38/core_perl/CORE"   CN.c
[proxychains] DLL init: proxychains-ng 4.16
[proxychains] DLL init: proxychains-ng 4.16
[proxychains] DLL init: proxychains-ng 4.16
rm -f ../blib/arch/auto/Encode/CN/CN.so
cc  -shared -Wl,-O1,--sort-common,--as-needed,-z,relro,-z,now -flto=auto -L/usr/local/lib -fstack-protector-strong  CN.o cp_00_t.o eu_01_t.o gb_02_t.o gb_03_t.o ir_04_t.o ma_05_t.o  -o ../blib/arch/auto/Encode/CN/CN.so  \
      \
  
chmod 755 ../blib/arch/auto/Encode/CN/CN.so
make[1]: Leaving directory '/home/swampyx/.cpanm/work/1701490187.28207/Encode-3.20/CN'
make[1]: Entering directory '/home/swampyx/.cpanm/work/1701490187.28207/Encode-3.20/EBCDIC'
Running Mkbootstrap for EBCDIC ()
chmod 644 "EBCDIC.bs"
"/usr/bin/perl"  ../bin/enc2xs -"Q" -"O" -o ebcdic_t.c -f ebcdic_t.fnm
cp EBCDIC.pm ../blib/lib/Encode/EBCDIC.pm
"/usr/bin/perl" -MExtUtils::Command::MM -e 'cp_nonempty' -- EBCDIC.bs ../blib/arch/auto/Encode/EBCDIC/EBCDIC.bs 644
Reading cp37 (cp37)
Reading cp1026 (cp1026)
Reading cp1047 (cp1047)
Reading cp500 (cp500)
Reading cp875 (cp875)
Reading posix-bc (posix-bc)
"/usr/bin/perl" "/usr/share/perl5/site_perl/ExtUtils/xsubpp"  -nolinenumbers -typemap '/usr/share/perl5/core_perl/ExtUtils/typemap'  EBCDIC.xs > EBCDIC.xsc
cc -c -I./Encode  -I../Encode -D_REENTRANT -D_GNU_SOURCE -fwrapv -fno-strict-aliasing -pipe -fstack-protector-strong -I/usr/local/include -D_LARGEFILE_SOURCE -D_FILE_OFFSET_BITS=64 -Wpointer-sign -march=native -O3 -pipe -fno-plt -fstack-clash-protection -fcf-protection   -DVERSION=\"2.02\" -DXS_VERSION=\"2.02\" -fPIC "-I/usr/lib/perl5/5.38/core_perl/CORE"   ebcdic_t.c
[proxychains] DLL init: proxychains-ng 4.16
[proxychains] DLL init: proxychains-ng 4.16
[proxychains] DLL init: proxychains-ng 4.16
mv EBCDIC.xsc EBCDIC.c
cc -c -I./Encode  -I../Encode -D_REENTRANT -D_GNU_SOURCE -fwrapv -fno-strict-aliasing -pipe -fstack-protector-strong -I/usr/local/include -D_LARGEFILE_SOURCE -D_FILE_OFFSET_BITS=64 -Wpointer-sign -march=native -O3 -pipe -fno-plt -fstack-clash-protection -fcf-protection   -DVERSION=\"2.02\" -DXS_VERSION=\"2.02\" -fPIC "-I/usr/lib/perl5/5.38/core_perl/CORE"   EBCDIC.c
[proxychains] DLL init: proxychains-ng 4.16
[proxychains] DLL init: proxychains-ng 4.16
[proxychains] DLL init: proxychains-ng 4.16
rm -f ../blib/arch/auto/Encode/EBCDIC/EBCDIC.so
cc  -shared -Wl,-O1,--sort-common,--as-needed,-z,relro,-z,now -flto=auto -L/usr/local/lib -fstack-protector-strong  EBCDIC.o ebcdic_t.o  -o ../blib/arch/auto/Encode/EBCDIC/EBCDIC.so  \
      \
  
chmod 755 ../blib/arch/auto/Encode/EBCDIC/EBCDIC.so
make[1]: Leaving directory '/home/swampyx/.cpanm/work/1701490187.28207/Encode-3.20/EBCDIC'
make[1]: Entering directory '/home/swampyx/.cpanm/work/1701490187.28207/Encode-3.20/JP'
Running Mkbootstrap for JP ()
chmod 644 "JP.bs"
cp JP.pm ../blib/lib/Encode/JP.pm
"/usr/bin/perl"  ../bin/enc2xs -"Q" -o cp_00_t.c -f cp_00_t.fnm
"/usr/bin/perl"  ../bin/enc2xs -"Q" -o eu_01_t.c -f eu_01_t.fnm
Reading cp932 (cp932)
"/usr/bin/perl"  ../bin/enc2xs -"Q" -o ji_02_t.c -f ji_02_t.fnm
Reading jis0201-raw (jis0201-raw)
"/usr/bin/perl"  ../bin/enc2xs -"Q" -o ji_03_t.c -f ji_03_t.fnm
Reading euc-jp (euc-jp)
"/usr/bin/perl"  ../bin/enc2xs -"Q" -o ji_04_t.c -f ji_04_t.fnm
Reading jis0208-raw (jis0208-raw)
"/usr/bin/perl"  ../bin/enc2xs -"Q" -o ma_05_t.c -f ma_05_t.fnm
Reading jis0212-raw (jis0212-raw)
"/usr/bin/perl"  ../bin/enc2xs -"Q" -o sh_06_t.c -f sh_06_t.fnm
Reading MacJapanese (MacJapanese)
cc -c -I./Encode  -I../Encode -D_REENTRANT -D_GNU_SOURCE -fwrapv -fno-strict-aliasing -pipe -fstack-protector-strong -I/usr/local/include -D_LARGEFILE_SOURCE -D_FILE_OFFSET_BITS=64 -Wpointer-sign -march=native -O3 -pipe -fno-plt -fstack-clash-protection -fcf-protection   -DVERSION=\"2.05\" -DXS_VERSION=\"2.05\" -fPIC "-I/usr/lib/perl5/5.38/core_perl/CORE"   cp_00_t.c
[proxychains] DLL init: proxychains-ng 4.16
[proxychains] DLL init: proxychains-ng 4.16
[proxychains] DLL init: proxychains-ng 4.16
cc -c -I./Encode  -I../Encode -D_REENTRANT -D_GNU_SOURCE -fwrapv -fno-strict-aliasing -pipe -fstack-protector-strong -I/usr/local/include -D_LARGEFILE_SOURCE -D_FILE_OFFSET_BITS=64 -Wpointer-sign -march=native -O3 -pipe -fno-plt -fstack-clash-protection -fcf-protection   -DVERSION=\"2.05\" -DXS_VERSION=\"2.05\" -fPIC "-I/usr/lib/perl5/5.38/core_perl/CORE"   eu_01_t.c
[proxychains] DLL init: proxychains-ng 4.16
[proxychains] DLL init: proxychains-ng 4.16
[proxychains] DLL init: proxychains-ng 4.16
cc -c -I./Encode  -I../Encode -D_REENTRANT -D_GNU_SOURCE -fwrapv -fno-strict-aliasing -pipe -fstack-protector-strong -I/usr/local/include -D_LARGEFILE_SOURCE -D_FILE_OFFSET_BITS=64 -Wpointer-sign -march=native -O3 -pipe -fno-plt -fstack-clash-protection -fcf-protection   -DVERSION=\"2.05\" -DXS_VERSION=\"2.05\" -fPIC "-I/usr/lib/perl5/5.38/core_perl/CORE"   ji_02_t.c
[proxychains] DLL init: proxychains-ng 4.16
[proxychains] DLL init: proxychains-ng 4.16
[proxychains] DLL init: proxychains-ng 4.16
cc -c -I./Encode  -I../Encode -D_REENTRANT -D_GNU_SOURCE -fwrapv -fno-strict-aliasing -pipe -fstack-protector-strong -I/usr/local/include -D_LARGEFILE_SOURCE -D_FILE_OFFSET_BITS=64 -Wpointer-sign -march=native -O3 -pipe -fno-plt -fstack-clash-protection -fcf-protection   -DVERSION=\"2.05\" -DXS_VERSION=\"2.05\" -fPIC "-I/usr/lib/perl5/5.38/core_perl/CORE"   ji_03_t.c
[proxychains] DLL init: proxychains-ng 4.16
[proxychains] DLL init: proxychains-ng 4.16
[proxychains] DLL init: proxychains-ng 4.16
cc -c -I./Encode  -I../Encode -D_REENTRANT -D_GNU_SOURCE -fwrapv -fno-strict-aliasing -pipe -fstack-protector-strong -I/usr/local/include -D_LARGEFILE_SOURCE -D_FILE_OFFSET_BITS=64 -Wpointer-sign -march=native -O3 -pipe -fno-plt -fstack-clash-protection -fcf-protection   -DVERSION=\"2.05\" -DXS_VERSION=\"2.05\" -fPIC "-I/usr/lib/perl5/5.38/core_perl/CORE"   ji_04_t.c
[proxychains] DLL init: proxychains-ng 4.16
[proxychains] DLL init: proxychains-ng 4.16
[proxychains] DLL init: proxychains-ng 4.16
cc -c -I./Encode  -I../Encode -D_REENTRANT -D_GNU_SOURCE -fwrapv -fno-strict-aliasing -pipe -fstack-protector-strong -I/usr/local/include -D_LARGEFILE_SOURCE -D_FILE_OFFSET_BITS=64 -Wpointer-sign -march=native -O3 -pipe -fno-plt -fstack-clash-protection -fcf-protection   -DVERSION=\"2.05\" -DXS_VERSION=\"2.05\" -fPIC "-I/usr/lib/perl5/5.38/core_perl/CORE"   ma_05_t.c
[proxychains] DLL init: proxychains-ng 4.16
[proxychains] DLL init: proxychains-ng 4.16
[proxychains] DLL init: proxychains-ng 4.16
"/usr/bin/perl" -MExtUtils::Command::MM -e 'cp_nonempty' -- JP.bs ../blib/arch/auto/Encode/JP/JP.bs 644
Reading shiftjis (shiftjis)
"/usr/bin/perl" "/usr/share/perl5/site_perl/ExtUtils/xsubpp"  -nolinenumbers -typemap '/usr/share/perl5/core_perl/ExtUtils/typemap'  JP.xs > JP.xsc
cc -c -I./Encode  -I../Encode -D_REENTRANT -D_GNU_SOURCE -fwrapv -fno-strict-aliasing -pipe -fstack-protector-strong -I/usr/local/include -D_LARGEFILE_SOURCE -D_FILE_OFFSET_BITS=64 -Wpointer-sign -march=native -O3 -pipe -fno-plt -fstack-clash-protection -fcf-protection   -DVERSION=\"2.05\" -DXS_VERSION=\"2.05\" -fPIC "-I/usr/lib/perl5/5.38/core_perl/CORE"   sh_06_t.c
[proxychains] DLL init: proxychains-ng 4.16
[proxychains] DLL init: proxychains-ng 4.16
[proxychains] DLL init: proxychains-ng 4.16
mv JP.xsc JP.c
cc -c -I./Encode  -I../Encode -D_REENTRANT -D_GNU_SOURCE -fwrapv -fno-strict-aliasing -pipe -fstack-protector-strong -I/usr/local/include -D_LARGEFILE_SOURCE -D_FILE_OFFSET_BITS=64 -Wpointer-sign -march=native -O3 -pipe -fno-plt -fstack-clash-protection -fcf-protection   -DVERSION=\"2.05\" -DXS_VERSION=\"2.05\" -fPIC "-I/usr/lib/perl5/5.38/core_perl/CORE"   JP.c
[proxychains] DLL init: proxychains-ng 4.16
[proxychains] DLL init: proxychains-ng 4.16
[proxychains] DLL init: proxychains-ng 4.16
rm -f ../blib/arch/auto/Encode/JP/JP.so
cc  -shared -Wl,-O1,--sort-common,--as-needed,-z,relro,-z,now -flto=auto -L/usr/local/lib -fstack-protector-strong  JP.o cp_00_t.o eu_01_t.o ji_02_t.o ji_03_t.o ji_04_t.o ma_05_t.o sh_06_t.o  -o ../blib/arch/auto/Encode/JP/JP.so  \
      \
  
chmod 755 ../blib/arch/auto/Encode/JP/JP.so
make[1]: Leaving directory '/home/swampyx/.cpanm/work/1701490187.28207/Encode-3.20/JP'
make[1]: Entering directory '/home/swampyx/.cpanm/work/1701490187.28207/Encode-3.20/KR'
Running Mkbootstrap for KR ()
chmod 644 "KR.bs"
"/usr/bin/perl"  ../bin/enc2xs -"Q" -o cp_00_t.c -f cp_00_t.fnm
cp KR.pm ../blib/lib/Encode/KR.pm
"/usr/bin/perl"  ../bin/enc2xs -"Q" -o eu_01_t.c -f eu_01_t.fnm
Reading euc-kr (euc-kr)
"/usr/bin/perl"  ../bin/enc2xs -"Q" -o jo_02_t.c -f jo_02_t.fnm
Reading cp949 (cp949)
"/usr/bin/perl"  ../bin/enc2xs -"Q" -o ks_03_t.c -f ks_03_t.fnm
Reading johab (johab)
Reading ksc5601-raw (ksc5601-raw)
"/usr/bin/perl"  ../bin/enc2xs -"Q" -o ma_04_t.c -f ma_04_t.fnm
cc -c -I./Encode  -I../Encode -D_REENTRANT -D_GNU_SOURCE -fwrapv -fno-strict-aliasing -pipe -fstack-protector-strong -I/usr/local/include -D_LARGEFILE_SOURCE -D_FILE_OFFSET_BITS=64 -Wpointer-sign -march=native -O3 -pipe -fno-plt -fstack-clash-protection -fcf-protection   -DVERSION=\"2.03\" -DXS_VERSION=\"2.03\" -fPIC "-I/usr/lib/perl5/5.38/core_perl/CORE"   cp_00_t.c
[proxychains] DLL init: proxychains-ng 4.16
[proxychains] DLL init: proxychains-ng 4.16
[proxychains] DLL init: proxychains-ng 4.16
cc -c -I./Encode  -I../Encode -D_REENTRANT -D_GNU_SOURCE -fwrapv -fno-strict-aliasing -pipe -fstack-protector-strong -I/usr/local/include -D_LARGEFILE_SOURCE -D_FILE_OFFSET_BITS=64 -Wpointer-sign -march=native -O3 -pipe -fno-plt -fstack-clash-protection -fcf-protection   -DVERSION=\"2.03\" -DXS_VERSION=\"2.03\" -fPIC "-I/usr/lib/perl5/5.38/core_perl/CORE"   eu_01_t.c
[proxychains] DLL init: proxychains-ng 4.16
[proxychains] DLL init: proxychains-ng 4.16
[proxychains] DLL init: proxychains-ng 4.16
cc -c -I./Encode  -I../Encode -D_REENTRANT -D_GNU_SOURCE -fwrapv -fno-strict-aliasing -pipe -fstack-protector-strong -I/usr/local/include -D_LARGEFILE_SOURCE -D_FILE_OFFSET_BITS=64 -Wpointer-sign -march=native -O3 -pipe -fno-plt -fstack-clash-protection -fcf-protection   -DVERSION=\"2.03\" -DXS_VERSION=\"2.03\" -fPIC "-I/usr/lib/perl5/5.38/core_perl/CORE"   jo_02_t.c
[proxychains] DLL init: proxychains-ng 4.16
[proxychains] DLL init: proxychains-ng 4.16
[proxychains] DLL init: proxychains-ng 4.16
cc -c -I./Encode  -I../Encode -D_REENTRANT -D_GNU_SOURCE -fwrapv -fno-strict-aliasing -pipe -fstack-protector-strong -I/usr/local/include -D_LARGEFILE_SOURCE -D_FILE_OFFSET_BITS=64 -Wpointer-sign -march=native -O3 -pipe -fno-plt -fstack-clash-protection -fcf-protection   -DVERSION=\"2.03\" -DXS_VERSION=\"2.03\" -fPIC "-I/usr/lib/perl5/5.38/core_perl/CORE"   ks_03_t.c
[proxychains] DLL init: proxychains-ng 4.16
[proxychains] DLL init: proxychains-ng 4.16
[proxychains] DLL init: proxychains-ng 4.16
"/usr/bin/perl" -MExtUtils::Command::MM -e 'cp_nonempty' -- KR.bs ../blib/arch/auto/Encode/KR/KR.bs 644
Reading MacKorean (MacKorean)
"/usr/bin/perl" "/usr/share/perl5/site_perl/ExtUtils/xsubpp"  -nolinenumbers -typemap '/usr/share/perl5/core_perl/ExtUtils/typemap'  KR.xs > KR.xsc
cc -c -I./Encode  -I../Encode -D_REENTRANT -D_GNU_SOURCE -fwrapv -fno-strict-aliasing -pipe -fstack-protector-strong -I/usr/local/include -D_LARGEFILE_SOURCE -D_FILE_OFFSET_BITS=64 -Wpointer-sign -march=native -O3 -pipe -fno-plt -fstack-clash-protection -fcf-protection   -DVERSION=\"2.03\" -DXS_VERSION=\"2.03\" -fPIC "-I/usr/lib/perl5/5.38/core_perl/CORE"   ma_04_t.c
[proxychains] DLL init: proxychains-ng 4.16
[proxychains] DLL init: proxychains-ng 4.16
[proxychains] DLL init: proxychains-ng 4.16
mv KR.xsc KR.c
cc -c -I./Encode  -I../Encode -D_REENTRANT -D_GNU_SOURCE -fwrapv -fno-strict-aliasing -pipe -fstack-protector-strong -I/usr/local/include -D_LARGEFILE_SOURCE -D_FILE_OFFSET_BITS=64 -Wpointer-sign -march=native -O3 -pipe -fno-plt -fstack-clash-protection -fcf-protection   -DVERSION=\"2.03\" -DXS_VERSION=\"2.03\" -fPIC "-I/usr/lib/perl5/5.38/core_perl/CORE"   KR.c
[proxychains] DLL init: proxychains-ng 4.16
[proxychains] DLL init: proxychains-ng 4.16
[proxychains] DLL init: proxychains-ng 4.16
rm -f ../blib/arch/auto/Encode/KR/KR.so
cc  -shared -Wl,-O1,--sort-common,--as-needed,-z,relro,-z,now -flto=auto -L/usr/local/lib -fstack-protector-strong  KR.o cp_00_t.o eu_01_t.o jo_02_t.o ks_03_t.o ma_04_t.o  -o ../blib/arch/auto/Encode/KR/KR.so  \
      \
  
chmod 755 ../blib/arch/auto/Encode/KR/KR.so
make[1]: Leaving directory '/home/swampyx/.cpanm/work/1701490187.28207/Encode-3.20/KR'
make[1]: Entering directory '/home/swampyx/.cpanm/work/1701490187.28207/Encode-3.20/Symbol'
Running Mkbootstrap for Symbol ()
chmod 644 "Symbol.bs"
"/usr/bin/perl"  ../bin/enc2xs -"Q" -"O" -o symbol_t.c -f symbol_t.fnm
cp Symbol.pm ../blib/lib/Encode/Symbol.pm
"/usr/bin/perl" -MExtUtils::Command::MM -e 'cp_nonempty' -- Symbol.bs ../blib/arch/auto/Encode/Symbol/Symbol.bs 644
Reading AdobeSymbol (AdobeSymbol)
Reading AdobeZdingbat (AdobeZdingbat)
Reading dingbats (dingbats)
Reading MacDingbats (MacDingbats)
Reading MacSymbol (MacSymbol)
Reading symbol (symbol)
"/usr/bin/perl" "/usr/share/perl5/site_perl/ExtUtils/xsubpp"  -nolinenumbers -typemap '/usr/share/perl5/core_perl/ExtUtils/typemap'  Symbol.xs > Symbol.xsc
cc -c -I./Encode  -I../Encode -D_REENTRANT -D_GNU_SOURCE -fwrapv -fno-strict-aliasing -pipe -fstack-protector-strong -I/usr/local/include -D_LARGEFILE_SOURCE -D_FILE_OFFSET_BITS=64 -Wpointer-sign -march=native -O3 -pipe -fno-plt -fstack-clash-protection -fcf-protection   -DVERSION=\"2.02\" -DXS_VERSION=\"2.02\" -fPIC "-I/usr/lib/perl5/5.38/core_perl/CORE"   symbol_t.c
[proxychains] DLL init: proxychains-ng 4.16
[proxychains] DLL init: proxychains-ng 4.16
[proxychains] DLL init: proxychains-ng 4.16
mv Symbol.xsc Symbol.c
cc -c -I./Encode  -I../Encode -D_REENTRANT -D_GNU_SOURCE -fwrapv -fno-strict-aliasing -pipe -fstack-protector-strong -I/usr/local/include -D_LARGEFILE_SOURCE -D_FILE_OFFSET_BITS=64 -Wpointer-sign -march=native -O3 -pipe -fno-plt -fstack-clash-protection -fcf-protection   -DVERSION=\"2.02\" -DXS_VERSION=\"2.02\" -fPIC "-I/usr/lib/perl5/5.38/core_perl/CORE"   Symbol.c
[proxychains] DLL init: proxychains-ng 4.16
[proxychains] DLL init: proxychains-ng 4.16
[proxychains] DLL init: proxychains-ng 4.16
rm -f ../blib/arch/auto/Encode/Symbol/Symbol.so
cc  -shared -Wl,-O1,--sort-common,--as-needed,-z,relro,-z,now -flto=auto -L/usr/local/lib -fstack-protector-strong  Symbol.o symbol_t.o  -o ../blib/arch/auto/Encode/Symbol/Symbol.so  \
      \
  
chmod 755 ../blib/arch/auto/Encode/Symbol/Symbol.so
make[1]: Leaving directory '/home/swampyx/.cpanm/work/1701490187.28207/Encode-3.20/Symbol'
make[1]: Entering directory '/home/swampyx/.cpanm/work/1701490187.28207/Encode-3.20/TW'
Running Mkbootstrap for TW ()
chmod 644 "TW.bs"
"/usr/bin/perl"  ../bin/enc2xs -"Q" -o bi_00_t.c -f bi_00_t.fnm
cp TW.pm ../blib/lib/Encode/TW.pm
"/usr/bin/perl"  ../bin/enc2xs -"Q" -o bi_01_t.c -f bi_01_t.fnm
Reading big5-eten (big5-eten)
"/usr/bin/perl"  ../bin/enc2xs -"Q" -o cp_02_t.c -f cp_02_t.fnm
Reading big5-hkscs (big5-hkscs)
"/usr/bin/perl"  ../bin/enc2xs -"Q" -o ma_03_t.c -f ma_03_t.fnm
Reading MacChineseTrad (MacChineseTrad)
cc -c -I./Encode  -I../Encode -D_REENTRANT -D_GNU_SOURCE -fwrapv -fno-strict-aliasing -pipe -fstack-protector-strong -I/usr/local/include -D_LARGEFILE_SOURCE -D_FILE_OFFSET_BITS=64 -Wpointer-sign -march=native -O3 -pipe -fno-plt -fstack-clash-protection -fcf-protection   -DVERSION=\"2.03\" -DXS_VERSION=\"2.03\" -fPIC "-I/usr/lib/perl5/5.38/core_perl/CORE"   bi_00_t.c
[proxychains] DLL init: proxychains-ng 4.16
[proxychains] DLL init: proxychains-ng 4.16
[proxychains] DLL init: proxychains-ng 4.16
cc -c -I./Encode  -I../Encode -D_REENTRANT -D_GNU_SOURCE -fwrapv -fno-strict-aliasing -pipe -fstack-protector-strong -I/usr/local/include -D_LARGEFILE_SOURCE -D_FILE_OFFSET_BITS=64 -Wpointer-sign -march=native -O3 -pipe -fno-plt -fstack-clash-protection -fcf-protection   -DVERSION=\"2.03\" -DXS_VERSION=\"2.03\" -fPIC "-I/usr/lib/perl5/5.38/core_perl/CORE"   bi_01_t.c
[proxychains] DLL init: proxychains-ng 4.16
[proxychains] DLL init: proxychains-ng 4.16
[proxychains] DLL init: proxychains-ng 4.16
cc -c -I./Encode  -I../Encode -D_REENTRANT -D_GNU_SOURCE -fwrapv -fno-strict-aliasing -pipe -fstack-protector-strong -I/usr/local/include -D_LARGEFILE_SOURCE -D_FILE_OFFSET_BITS=64 -Wpointer-sign -march=native -O3 -pipe -fno-plt -fstack-clash-protection -fcf-protection   -DVERSION=\"2.03\" -DXS_VERSION=\"2.03\" -fPIC "-I/usr/lib/perl5/5.38/core_perl/CORE"   ma_03_t.c
Reading cp950 (cp950)
[proxychains] DLL init: proxychains-ng 4.16
[proxychains] DLL init: proxychains-ng 4.16
[proxychains] DLL init: proxychains-ng 4.16
"/usr/bin/perl" "/usr/share/perl5/site_perl/ExtUtils/xsubpp"  -nolinenumbers -typemap '/usr/share/perl5/core_perl/ExtUtils/typemap'  TW.xs > TW.xsc
"/usr/bin/perl" -MExtUtils::Command::MM -e 'cp_nonempty' -- TW.bs ../blib/arch/auto/Encode/TW/TW.bs 644
cc -c -I./Encode  -I../Encode -D_REENTRANT -D_GNU_SOURCE -fwrapv -fno-strict-aliasing -pipe -fstack-protector-strong -I/usr/local/include -D_LARGEFILE_SOURCE -D_FILE_OFFSET_BITS=64 -Wpointer-sign -march=native -O3 -pipe -fno-plt -fstack-clash-protection -fcf-protection   -DVERSION=\"2.03\" -DXS_VERSION=\"2.03\" -fPIC "-I/usr/lib/perl5/5.38/core_perl/CORE"   cp_02_t.c
[proxychains] DLL init: proxychains-ng 4.16
[proxychains] DLL init: proxychains-ng 4.16
[proxychains] DLL init: proxychains-ng 4.16
mv TW.xsc TW.c
cc -c -I./Encode  -I../Encode -D_REENTRANT -D_GNU_SOURCE -fwrapv -fno-strict-aliasing -pipe -fstack-protector-strong -I/usr/local/include -D_LARGEFILE_SOURCE -D_FILE_OFFSET_BITS=64 -Wpointer-sign -march=native -O3 -pipe -fno-plt -fstack-clash-protection -fcf-protection   -DVERSION=\"2.03\" -DXS_VERSION=\"2.03\" -fPIC "-I/usr/lib/perl5/5.38/core_perl/CORE"   TW.c
[proxychains] DLL init: proxychains-ng 4.16
[proxychains] DLL init: proxychains-ng 4.16
[proxychains] DLL init: proxychains-ng 4.16
rm -f ../blib/arch/auto/Encode/TW/TW.so
cc  -shared -Wl,-O1,--sort-common,--as-needed,-z,relro,-z,now -flto=auto -L/usr/local/lib -fstack-protector-strong  TW.o bi_00_t.o bi_01_t.o cp_02_t.o ma_03_t.o  -o ../blib/arch/auto/Encode/TW/TW.so  \
      \
  
chmod 755 ../blib/arch/auto/Encode/TW/TW.so
make[1]: Leaving directory '/home/swampyx/.cpanm/work/1701490187.28207/Encode-3.20/TW'
make[1]: Entering directory '/home/swampyx/.cpanm/work/1701490187.28207/Encode-3.20/Unicode'
Running Mkbootstrap for Unicode ()
chmod 644 "Unicode.bs"
"/usr/bin/perl" "/usr/share/perl5/site_perl/ExtUtils/xsubpp"  -typemap '/usr/share/perl5/core_perl/ExtUtils/typemap'  Unicode.xs > Unicode.xsc
cp Unicode.pm ../blib/lib/Encode/Unicode.pm
"/usr/bin/perl" -MExtUtils::Command::MM -e 'cp_nonempty' -- Unicode.bs ../blib/arch/auto/Encode/Unicode/Unicode.bs 644
mv Unicode.xsc Unicode.c
cc -c -I./Encode  -I../Encode -D_REENTRANT -D_GNU_SOURCE -fwrapv -fno-strict-aliasing -pipe -fstack-protector-strong -I/usr/local/include -D_LARGEFILE_SOURCE -D_FILE_OFFSET_BITS=64 -Wpointer-sign -march=native -O3 -pipe -fno-plt -fstack-clash-protection -fcf-protection   -DVERSION=\"2.20\" -DXS_VERSION=\"2.20\" -fPIC "-I/usr/lib/perl5/5.38/core_perl/CORE"   Unicode.c
[proxychains] DLL init: proxychains-ng 4.16
[proxychains] DLL init: proxychains-ng 4.16
[proxychains] DLL init: proxychains-ng 4.16
rm -f ../blib/arch/auto/Encode/Unicode/Unicode.so
cc  -shared -Wl,-O1,--sort-common,--as-needed,-z,relro,-z,now -flto=auto -L/usr/local/lib -fstack-protector-strong  Unicode.o  -o ../blib/arch/auto/Encode/Unicode/Unicode.so  \
      \
  
chmod 755 ../blib/arch/auto/Encode/Unicode/Unicode.so
make[1]: Leaving directory '/home/swampyx/.cpanm/work/1701490187.28207/Encode-3.20/Unicode'
cp bin/enc2xs blib/script/enc2xs
cp bin/encguess blib/script/encguess
"/usr/bin/perl" -MExtUtils::MY -e 'MY->fixin(shift)' -- blib/script/enc2xs
"/usr/bin/perl" -MExtUtils::MY -e 'MY->fixin(shift)' -- blib/script/encguess
cp bin/piconv blib/script/piconv
"/usr/bin/perl" -MExtUtils::MY -e 'MY->fixin(shift)' -- blib/script/piconv
Manifying 3 pod documents
Manifying 18 pod documents
"/usr/bin/perl" -MExtUtils::Command::MM -e 'cp_nonempty' -- Encode.bs blib/arch/auto/Encode/Encode.bs 644
make[1]: Entering directory '/home/swampyx/.cpanm/work/1701490187.28207/Encode-3.20/Byte'
"/usr/bin/perl" -MExtUtils::Command::MM -e 'cp_nonempty' -- Byte.bs ../blib/arch/auto/Encode/Byte/Byte.bs 644
make[1]: Leaving directory '/home/swampyx/.cpanm/work/1701490187.28207/Encode-3.20/Byte'
make[1]: Entering directory '/home/swampyx/.cpanm/work/1701490187.28207/Encode-3.20/CN'
"/usr/bin/perl" -MExtUtils::Command::MM -e 'cp_nonempty' -- CN.bs ../blib/arch/auto/Encode/CN/CN.bs 644
make[1]: Leaving directory '/home/swampyx/.cpanm/work/1701490187.28207/Encode-3.20/CN'
make[1]: Entering directory '/home/swampyx/.cpanm/work/1701490187.28207/Encode-3.20/EBCDIC'
"/usr/bin/perl" -MExtUtils::Command::MM -e 'cp_nonempty' -- EBCDIC.bs ../blib/arch/auto/Encode/EBCDIC/EBCDIC.bs 644
make[1]: Leaving directory '/home/swampyx/.cpanm/work/1701490187.28207/Encode-3.20/EBCDIC'
make[1]: Entering directory '/home/swampyx/.cpanm/work/1701490187.28207/Encode-3.20/JP'
"/usr/bin/perl" -MExtUtils::Command::MM -e 'cp_nonempty' -- JP.bs ../blib/arch/auto/Encode/JP/JP.bs 644
make[1]: Leaving directory '/home/swampyx/.cpanm/work/1701490187.28207/Encode-3.20/JP'
make[1]: Entering directory '/home/swampyx/.cpanm/work/1701490187.28207/Encode-3.20/KR'
"/usr/bin/perl" -MExtUtils::Command::MM -e 'cp_nonempty' -- KR.bs ../blib/arch/auto/Encode/KR/KR.bs 644
make[1]: Leaving directory '/home/swampyx/.cpanm/work/1701490187.28207/Encode-3.20/KR'
make[1]: Entering directory '/home/swampyx/.cpanm/work/1701490187.28207/Encode-3.20/Symbol'
"/usr/bin/perl" -MExtUtils::Command::MM -e 'cp_nonempty' -- Symbol.bs ../blib/arch/auto/Encode/Symbol/Symbol.bs 644
make[1]: Leaving directory '/home/swampyx/.cpanm/work/1701490187.28207/Encode-3.20/Symbol'
make[1]: Entering directory '/home/swampyx/.cpanm/work/1701490187.28207/Encode-3.20/TW'
"/usr/bin/perl" -MExtUtils::Command::MM -e 'cp_nonempty' -- TW.bs ../blib/arch/auto/Encode/TW/TW.bs 644
make[1]: Leaving directory '/home/swampyx/.cpanm/work/1701490187.28207/Encode-3.20/TW'
make[1]: Entering directory '/home/swampyx/.cpanm/work/1701490187.28207/Encode-3.20/Unicode'
"/usr/bin/perl" -MExtUtils::Command::MM -e 'cp_nonempty' -- Unicode.bs ../blib/arch/auto/Encode/Unicode/Unicode.bs 644
make[1]: Leaving directory '/home/swampyx/.cpanm/work/1701490187.28207/Encode-3.20/Unicode'
make[1]: Entering directory '/home/swampyx/.cpanm/work/1701490187.28207/Encode-3.20/Byte'
"/usr/bin/perl" -MExtUtils::Command::MM -e 'cp_nonempty' -- Byte.bs ../blib/arch/auto/Encode/Byte/Byte.bs 644
No tests defined for Encode::Byte extension.
make[1]: Leaving directory '/home/swampyx/.cpanm/work/1701490187.28207/Encode-3.20/Byte'
make[1]: Entering directory '/home/swampyx/.cpanm/work/1701490187.28207/Encode-3.20/CN'
"/usr/bin/perl" -MExtUtils::Command::MM -e 'cp_nonempty' -- CN.bs ../blib/arch/auto/Encode/CN/CN.bs 644
No tests defined for Encode::CN extension.
make[1]: Leaving directory '/home/swampyx/.cpanm/work/1701490187.28207/Encode-3.20/CN'
make[1]: Entering directory '/home/swampyx/.cpanm/work/1701490187.28207/Encode-3.20/EBCDIC'
"/usr/bin/perl" -MExtUtils::Command::MM -e 'cp_nonempty' -- EBCDIC.bs ../blib/arch/auto/Encode/EBCDIC/EBCDIC.bs 644
No tests defined for Encode::EBCDIC extension.
make[1]: Leaving directory '/home/swampyx/.cpanm/work/1701490187.28207/Encode-3.20/EBCDIC'
make[1]: Entering directory '/home/swampyx/.cpanm/work/1701490187.28207/Encode-3.20/JP'
"/usr/bin/perl" -MExtUtils::Command::MM -e 'cp_nonempty' -- JP.bs ../blib/arch/auto/Encode/JP/JP.bs 644
No tests defined for Encode::JP extension.
make[1]: Leaving directory '/home/swampyx/.cpanm/work/1701490187.28207/Encode-3.20/JP'
make[1]: Entering directory '/home/swampyx/.cpanm/work/1701490187.28207/Encode-3.20/KR'
"/usr/bin/perl" -MExtUtils::Command::MM -e 'cp_nonempty' -- KR.bs ../blib/arch/auto/Encode/KR/KR.bs 644
No tests defined for Encode::KR extension.
make[1]: Leaving directory '/home/swampyx/.cpanm/work/1701490187.28207/Encode-3.20/KR'
make[1]: Entering directory '/home/swampyx/.cpanm/work/1701490187.28207/Encode-3.20/Symbol'
"/usr/bin/perl" -MExtUtils::Command::MM -e 'cp_nonempty' -- Symbol.bs ../blib/arch/auto/Encode/Symbol/Symbol.bs 644
No tests defined for Encode::Symbol extension.
make[1]: Leaving directory '/home/swampyx/.cpanm/work/1701490187.28207/Encode-3.20/Symbol'
make[1]: Entering directory '/home/swampyx/.cpanm/work/1701490187.28207/Encode-3.20/TW'
"/usr/bin/perl" -MExtUtils::Command::MM -e 'cp_nonempty' -- TW.bs ../blib/arch/auto/Encode/TW/TW.bs 644
No tests defined for Encode::TW extension.
make[1]: Leaving directory '/home/swampyx/.cpanm/work/1701490187.28207/Encode-3.20/TW'
make[1]: Entering directory '/home/swampyx/.cpanm/work/1701490187.28207/Encode-3.20/Unicode'
"/usr/bin/perl" -MExtUtils::Command::MM -e 'cp_nonempty' -- Unicode.bs ../blib/arch/auto/Encode/Unicode/Unicode.bs 644
No tests defined for Encode::Unicode extension.
make[1]: Leaving directory '/home/swampyx/.cpanm/work/1701490187.28207/Encode-3.20/Unicode'
PERL_DL_NONLAZY=1 "/usr/bin/perl" "-MExtUtils::Command::MM" "-MTest::Harness" "-e" "undef *Test::Harness::Switches; test_harness(0, 'blib/lib', 'blib/arch')" t/*.t
t/Aliases.t ................ ok
t/at-cn.t .................. ok
t/at-tw.t .................. ok
t/CJKT.t ................... ok
t/cow.t .................... ok
t/decode.t ................. ok
t/enc_data.t ............... skipped: encoding pragma not supported in Perl 5.25 or later
t/enc_eucjp.t .............. skipped: Perl <=5.25.2 or cperl required
t/enc_module.t ............. skipped: encoding pragma not supported in Perl 5.25 or later
t/enc_utf8.t ............... skipped: Perl <=5.25.2 or cperl required
t/Encode.t ................. ok
t/Encoder.t ................ ok
t/encoding-locale.t ........ ok
t/encoding.t ............... skipped: encoding pragma not supported in Perl 5.25 or later
t/fallback.t ............... ok
t/from_to.t ................ ok
t/grow.t ................... ok
t/gsm0338.t ................ ok
t/guess.t .................. ok
t/isa.t .................... ok
t/jis7-fallback.t .......... ok
t/jperl.t .................. skipped: encoding pragma not supported in Perl 5.25 or later
t/magic.t .................. ok
t/mime-header.t ............ ok
t/mime-name.t .............. ok
t/mime_header_iso2022jp.t .. ok
t/perlio.t ................. ok
t/piconv.t ................. ok
t/rt113164.t ............... ok
t/rt65541.t ................ ok
t/rt76824.t ................ ok
t/rt85489.t ................ ok
t/rt86327.t ................ ok
t/taint.t .................. ok
t/truncated_utf8.t ......... ok
t/undef.t .................. ok
t/Unicode.t ................ ok
t/Unicode_trailing_nul.t ... ok
t/use-Encode-Alias.t ....... ok
t/utf32warnings.t .......... ok
t/utf8ref.t ................ ok
t/utf8strict.t ............. ok
t/utf8warnings.t ........... ok
t/whatwg-aliases.t ......... skipped: For maintainers only
t/xml.t .................... ok
All tests successful.
Files=45, Tests=7769,  6 wallclock secs ( 0.57 usr  0.09 sys +  5.23 cusr  0.69 csys =  6.58 CPU)
Result: PASS

------------------------------
PREREQUISITES
------------------------------

Prerequisite modules loaded:

runtime:

    Module              Need  Have 
    ------------------- ----- -----
    Exporter            5.57  5.77 
    parent              0.221 0.241
    Storable            0     3.32 

build:

    Module              Need  Have 
    ------------------- ----- -----
    ExtUtils::MakeMaker 0     7.70 

configure:

    Module              Need  Have 
    ------------------- ----- -----
    ExtUtils::MakeMaker 0     7.70 


------------------------------
ENVIRONMENT AND OTHER CONTEXT
------------------------------

Environment variables:

    CCFLAGS = -march=native -O3 -pipe -fno-plt -fexceptions -Wp,-D_FORTIFY_SOURCE=2 -Wformat -Werror=format-security -fstack-clash-protection -fcf-protection
    LANG = en_US.UTF-8
    LANGUAGE = 
    LC_ADDRESS = 
    LC_COLLATE = 
    LC_CTYPE = 
    LC_IDENTIFICATION = 
    LC_MEASUREMENT = 
    LC_MESSAGES = 
    LC_MONETARY = 
    LC_NAME = 
    LC_NUMERIC = 
    LC_PAPER = 
    LC_TELEPHONE = 
    LC_TIME = 
    LDFLAGS = -Wl,-O1,--sort-common,--as-needed,-z,relro,-z,now
    PATH = /usr/lib/ccache/bin:/usr/local/sbin:/usr/local/bin:/usr/bin:/opt/android-sdk/platform-tools:/usr/lib/jvm/default/bin:/usr/bin/site_perl:/usr/bin/vendor_perl:/usr/bin/core_perl:/usr/share/perl6/vendor/bin:/home/swampyx/.raku/bin:/opt/android-ndk/toolchains/llvm/prebuilt/linux-x86_64/bin
    PERL_MM_OPT = OPTIMIZE="-march=native -O3 -pipe -fno-plt -fstack-clash-protection -fcf-protection"
    SHELL = /usr/bin/zsh
    TEMP = /tmp
    TERM = xterm

Perl special variables (and OS-specific diagnostics, for MSWin32):

    EGID = 100 50 91 92 93 95 98 100 108
    EUID = 1000
    EXECUTABLE_NAME = /usr/bin/perl
    GID = 100 50 91 92 93 95 98 100 108
    UID = 1000

Perl module toolchain versions installed:

    Module              Have    
    ------------------- --------
    CPAN                2.36    
    CPAN::Meta          2.150010
    Cwd                 3.89    
    ExtUtils::CBuilder  0.280236
    ExtUtils::Command   7.70    
    ExtUtils::Install   2.22    
    ExtUtils::MakeMaker 7.70    
    ExtUtils::Manifest  1.75    
    ExtUtils::ParseXS   3.51    
    File::Spec          3.88    
    JSON                4.10    
    JSON::PP            4.16    
    Module::Build       0.4234  
    Module::Signature   0.88    
    Parse::CPAN::Meta   2.150010
    Test::Harness       3.48    
    Test::More          1.302198
    YAML                1.30    
    YAML::Syck          n/a     
    version             0.9930  


--

Summary of my perl5 (revision 5 version 38 subversion 1) configuration:
   
  Platform:
    osname=linux
    osvers=5.12.15-arch1-1
    archname=x86_64-linux-thread-multi
    uname='archlinux'
    config_args='-des -Dusethreads -Duseshrplib -Doptimize=-march=x86-64 -mtune=generic -O2 -pipe -fno-plt -fexceptions         -Wp,-D_FORTIFY_SOURCE=2 -Wformat -Werror=format-security         -fstack-clash-protection -fcf-protection -g -ffile-prefix-map=/build/perl/src=/usr/src/debug/perl -flto=auto -Dprefix=/usr -Dvendorprefix=/usr -Dprivlib=/usr/share/perl5/core_perl -Darchlib=/usr/lib/perl5/5.38/core_perl -Dsitelib=/usr/share/perl5/site_perl -Dsitearch=/usr/lib/perl5/5.38/site_perl -Dvendorlib=/usr/share/perl5/vendor_perl -Dvendorarch=/usr/lib/perl5/5.38/vendor_perl -Dscriptdir=/usr/bin/core_perl -Dsitescript=/usr/bin/site_perl -Dvendorscript=/usr/bin/vendor_perl -Dinc_version_list=none -Dman1ext=1perl -Dman3ext=3perl -Dlddlflags=-shared -Wl,-O1,--sort-common,--as-needed,-z,relro,-z,now -flto=auto -Dldflags=-Wl,-O1,--sort-common,--as-needed,-z,relro,-z,now -flto=auto'
    hint=recommended
    useposix=true
    d_sigaction=define
    useithreads=define
    usemultiplicity=define
    use64bitint=define
    use64bitall=define
    uselongdouble=undef
    usemymalloc=n
    default_inc_excludes_dot=define
  Compiler:
    cc='cc'
    ccflags ='-D_REENTRANT -D_GNU_SOURCE -fwrapv -fno-strict-aliasing -pipe -fstack-protector-strong -I/usr/local/include -D_LARGEFILE_SOURCE -D_FILE_OFFSET_BITS=64'
    optimize='-march=x86-64 -mtune=generic -O2 -pipe -fno-plt -fexceptions -Wp,-D_FORTIFY_SOURCE=2 -Wformat -Werror=format-security -fstack-clash-protection -fcf-protection -g -ffile-prefix-map=/build/perl/src=/usr/src/debug/perl -flto=auto'
    cppflags='-D_REENTRANT -D_GNU_SOURCE -fwrapv -fno-strict-aliasing -pipe -fstack-protector-strong -I/usr/local/include'
    ccversion=''
    gccversion='13.2.1 20230801'
    gccosandvers=''
    intsize=4
    longsize=8
    ptrsize=8
    doublesize=8
    byteorder=12345678
    doublekind=3
    d_longlong=define
    longlongsize=8
    d_longdbl=define
    longdblsize=16
    longdblkind=3
    ivtype='long'
    ivsize=8
    nvtype='double'
    nvsize=8
    Off_t='off_t'
    lseeksize=8
    alignbytes=8
    prototype=define
  Linker and Libraries:
    ld='cc'
    ldflags ='-Wl,-O1,--sort-common,--as-needed,-z,relro,-z,now -flto=auto -fstack-protector-strong -L/usr/local/lib'
    libpth=/usr/local/lib /usr/lib
    libs=-lpthread -lgdbm -ldb -ldl -lm -lcrypt -lutil -lc -lgdbm_compat
    perllibs=-lpthread -ldl -lm -lcrypt -lutil -lc
    libc=/lib/../lib/libc.so.6
    so=so
    useshrplib=true
    libperl=libperl.so
    gnulibc_version='2.38'
  Dynamic Linking:
    dlsrc=dl_dlopen.xs
    dlext=so
    d_dlsymun=undef
    ccdlflags='-Wl,-E -Wl,-rpath,/usr/lib/perl5/5.38/core_perl/CORE'
    cccdlflags='-fPIC'
    lddlflags='-shared -Wl,-O1,--sort-common,--as-needed,-z,relro,-z,now -flto=auto -L/usr/local/lib -fstack-protector-strong'


Characteristics of this binary (from libperl): 
  Compile-time options:
    HAS_LONG_DOUBLE
    HAS_STRTOLD
    HAS_TIMES
    MULTIPLICITY
    PERLIO_LAYERS
    PERL_COPY_ON_WRITE
    PERL_DONT_CREATE_GVSV
    PERL_HASH_FUNC_SIPHASH13
    PERL_HASH_USE_SBOX32
    PERL_MALLOC_WRAP
    PERL_OP_PARENT
    PERL_PRESERVE_IVUV
    PERL_USE_SAFE_PUTENV
    USE_64_BIT_ALL
    USE_64_BIT_INT
    USE_ITHREADS
    USE_LARGE_FILES
    USE_LOCALE
    USE_LOCALE_COLLATE
    USE_LOCALE_CTYPE
    USE_LOCALE_NUMERIC
    USE_LOCALE_TIME
    USE_PERLIO
    USE_PERL_ATOF
    USE_REENTRANT_API
    USE_THREAD_SAFE_LOCALE
  Built under linux
  Compiled at Nov 27 2023 20:20:27
  %ENV:
    PERL_MM_OPT="OPTIMIZE="-march=native -O3 -pipe -fno-plt -fstack-clash-protection -fcf-protection""
  @INC:
    /usr/lib/perl5/5.38/site_perl
    /usr/share/perl5/site_perl
    /usr/lib/perl5/5.38/vendor_perl
    /usr/share/perl5/vendor_perl
    /usr/lib/perl5/5.38/core_perl
    /usr/share/perl5/core_perl