FFI-Platypus v2.07 Perl 5 v5.32.1 MSWin32-x86-multi-thread-64int
- Status
- Pass
- From
- aero
- Dist
-
FFI-Platypus v2.07
- Platform
- Perl 5 v5.32.1 MSWin32-x86-multi-thread-64int
- Date
- 2023-03-15 10:49:36
- ID
- 45c94095-6fdf-1014-8029-898242f354b4
This distribution has been tested as part of the CPAN Testers
project, supporting the Perl programming language. See
http://wiki.cpantesters.org/ for more information or email
questions to cpan-testers-discuss@perl.org
--
Dear Graham Ollis,
This is a computer-generated report for FFI-Platypus-2.07
on perl 5.32.1, created by CPAN-Reporter-1.2018.
Thank you for uploading your work to CPAN. Congratulations!
All tests were successful.
Sections of this report:
* Tester comments
* Program output
* Prerequisites
* Environment and other context
------------------------------
TESTER COMMENTS
------------------------------
Additional comments from tester:
none provided
------------------------------
PROGRAM OUTPUT
------------------------------
Output from 'C:\strawberry-perl-5.32-32bit\c\bin\gmake.exe test':
"C:\strawberry-perl-5.32-32bit\perl\bin\perl.exe" -MExtUtils::Command::MM -e cp_nonempty -- lib/FFI/Platypus.bs blib\arch\auto\FFI\Platypus\Platypus.bs 644
CC t/ffi/align.c
CC t/ffi/align_array.c
CC t/ffi/align_fixed.c
CC t/ffi/align_string.c
CC t/ffi/basic.c
CC t/ffi/closure.c
CC t/ffi/color.c
CC t/ffi/complex_double.c
CC t/ffi/complex_float.c
CC t/ffi/double.c
CC t/ffi/float.c
CC t/ffi/gh117.c
CC t/ffi/gh174.c
CC t/ffi/longdouble.c
CC t/ffi/memcmp4.c
CC t/ffi/meta.c
CC t/ffi/pointer.c
CC t/ffi/record.c
CC t/ffi/sint16.c
CC t/ffi/sint32.c
CC t/ffi/sint64.c
CC t/ffi/sint8.c
CC t/ffi/string.c
CC t/ffi/string_array.c
CC t/ffi/uint16.c
CC t/ffi/uint32.c
CC t/ffi/uint64.c
CC t/ffi/uint8.c
CC t/ffi/variadic.c
LD t/ffi/test.dll
"C:\strawberry-perl-5.32-32bit\perl\bin\perl.exe" "-MExtUtils::Command::MM" "-MTest::Harness" "-e" "undef *Test::Harness::Switches; test_harness(0, 'blib\lib', 'blib\arch')" t/*.t
#
#
#
# HARNESS_ACTIVE=1
# HARNESS_VERSION=3.44
# PERL5LIB=C:\strawberry-perl-5.32-32bit\cpan\build\FFI-Platypus-2.07-0\blib\lib;C:\strawberry-perl-5.32-32bit\cpan\build\FFI-Platypus-2.07-0\blib\arch
# PERL5_CPANPLUS_IS_RUNNING=9496
# PERL5_CPAN_IS_RUNNING=9496
# PERL_MM_USE_DEFAULT=1
# PERL_USE_UNSAFE_INC=1
#
#
#
# PERL5LIB path
# C:\strawberry-perl-5.32-32bit\cpan\build\FFI-Platypus-2.07-0\blib\lib
# C:\strawberry-perl-5.32-32bit\cpan\build\FFI-Platypus-2.07-0\blib\arch
#
#
#
# perl 5.032001 MSWin32 MSWin32-x86-multi-thread-64int
# Alien::Base 2.78
# Alien::FFI 0.27
# Capture::Tiny 0.48
# Devel::Hide 0.0015
# ExtUtils::CBuilder 0.280236
# ExtUtils::MakeMaker 7.68
# ExtUtils::ParseXS 3.44
# FFI::CheckLib 0.31
# File::Spec::Functions 3.78
# IPC::Cmd 1.04
# JSON::PP 4.16
# List::Util 1.63
# Math::LongDouble -
# PkgConfig 0.25026
# Test2::API 1.302194
# Test2::V0 0.000148
# autodie 2.36
# constant 1.33
# forks -
# parent 0.241
#
#
#
# mode : already-installed
# Alien::FFI->VERSION = 0.27
# Alien::FFI->install_type = system
# Alien::FFI->cflags =
# Alien::FFI->libs = -LC:/strawberry-perl-5.32-32bit/c/lib/pkgconfig/../../lib/../lib -lffi
# Alien::FFI->version = 3.3
#
#
#
# ffi.platypus.memory.strdup_impl =libc
# ffi.platypus.memory.strndup_impl=ffi
#
#
#
# Types:
# double : double, float complex
# float : float
# longdouble : double complex, long double, long double complex
# sint16 : int16_t, short, signed short
# sint32 : int, int32_t, intptr_t, long, off_t, ptrdiff_t, senum, signed int, signed long, ssize_t, time_t
# sint64 : int64_t, intmax_t, long long, signed long long
# sint8 : char, int8_t, signed char
# uint16 : ino_t, mode_t, uint16_t, unsigned short, ushort, wchar_t, wint_t
# uint32 : dev_t, enum, size_t, uint, uint32_t, uintptr_t, ulong, unsigned int, unsigned long
# uint64 : uint64_t, uintmax_t, unsigned long long
# uint8 : bool, uchar, uint8_t, unsigned char
#
#
#
# ABIs:
# default_abi 5
# fastcall 4
# ms_cdecl 5
# pascal 6
# register 7
# stdcall 2
# sysv 1
# thiscall 3
#
#
#
# Probes:
# complex 1
# longdouble 1
# bigendian64 0
# abi 1
# bigendian 0
# alloca 1
# strnlen 1
# recordvalue 1
# variadic 1
#
#
#
# [PLATFORM]
# osname : MSWin32
# cc : gcc
# cxx : g++
# cxxld : g++
# for : gfortran
# ld : g++.exe
# ccflags : -DWIN32 -D__USE_MINGW_ANSI_STDIO -DPERL_TEXTMODE_SCRIPTS -DPERL_IMPLICIT_CONTEXT -DPERL_IMPLICIT_SYS -DUSE_PERLIO -fwrapv -fno-strict-aliasing -mms-bitfields -s -O2 -IC:\strawberry-perl-5.32-32bit\cpan\build\FFI-Platypus-2.07-0\blib\lib\auto\share\dist\FFI-Platypus\include
# ldflags : -mdll -s -LC:\strawberry-perl-5.32-32bit\perl\lib\CORE -LC:\strawberry-perl-5.32-32bit\c\lib -Wl,--enable-auto-import -Wl,--export-all-symbols -Wl,--enable-auto-image-base
# object suffix : .o
# library prefix :
# library suffix : .dll
# cc mm works : -MM
#
#
#
t/00_diag.t .............................. ok
t/ffi_build.t ............................ ok
t/ffi_build_file_base.t .................. ok
t/ffi_build_file_c.t ..................... ok
t/ffi_build_file_cxx.t ................... ok
t/ffi_build_file_library.t ............... ok
t/ffi_build_file_object.t ................ ok
t/ffi_build_mm.t ......................... ok
t/ffi_build_platform.t ................... ok
t/ffi_build_plugin.t ..................... ok
t/ffi_build_plugindata.t ................. ok
t/ffi_platypus.t ......................... ok
t/ffi_platypus_api.t ..................... ok
t/ffi_platypus_buffer.t .................. ok
cannot unlink file for C:\strawberry-perl-5.32-32bit\cpan\build\FFI-Platypus-2.07-0\.tmp\BEfJ7S4_Tr\lib\auto\share\dist\Foo-Bar1\bar1.dll: Permission denied at t/lib/Test/Cleanup.pm line 27.
cannot remove directory for C:\strawberry-perl-5.32-32bit\cpan\build\FFI-Platypus-2.07-0\.tmp\BEfJ7S4_Tr\lib\auto\share\dist\Foo-Bar1: Directory not empty at t/lib/Test/Cleanup.pm line 27.
cannot remove directory for C:\strawberry-perl-5.32-32bit\cpan\build\FFI-Platypus-2.07-0\.tmp\BEfJ7S4_Tr\lib\auto\share\dist: Directory not empty at t/lib/Test/Cleanup.pm line 27.
cannot remove directory for C:\strawberry-perl-5.32-32bit\cpan\build\FFI-Platypus-2.07-0\.tmp\BEfJ7S4_Tr\lib\auto\share: Directory not empty at t/lib/Test/Cleanup.pm line 27.
cannot remove directory for C:\strawberry-perl-5.32-32bit\cpan\build\FFI-Platypus-2.07-0\.tmp\BEfJ7S4_Tr\lib\auto: Directory not empty at t/lib/Test/Cleanup.pm line 27.
cannot remove directory for C:\strawberry-perl-5.32-32bit\cpan\build\FFI-Platypus-2.07-0\.tmp\BEfJ7S4_Tr\lib: Directory not empty at t/lib/Test/Cleanup.pm line 27.
cannot remove directory for C:\strawberry-perl-5.32-32bit\cpan\build\FFI-Platypus-2.07-0\.tmp\BEfJ7S4_Tr: Directory not empty at t/lib/Test/Cleanup.pm line 27.
cannot unlink file for C:\strawberry-perl-5.32-32bit\cpan\build\FFI-Platypus-2.07-0\.tmp\bhSwTYI7rw\lib\auto\share\dist\Foo-Bar2\bar2.dll: Permission denied at t/lib/Test/Cleanup.pm line 27.
cannot remove directory for C:\strawberry-perl-5.32-32bit\cpan\build\FFI-Platypus-2.07-0\.tmp\bhSwTYI7rw\lib\auto\share\dist\Foo-Bar2: Directory not empty at t/lib/Test/Cleanup.pm line 27.
cannot remove directory for C:\strawberry-perl-5.32-32bit\cpan\build\FFI-Platypus-2.07-0\.tmp\bhSwTYI7rw\lib\auto\share\dist: Directory not empty at t/lib/Test/Cleanup.pm line 27.
cannot remove directory for C:\strawberry-perl-5.32-32bit\cpan\build\FFI-Platypus-2.07-0\.tmp\bhSwTYI7rw\lib\auto\share: Directory not empty at t/lib/Test/Cleanup.pm line 27.
cannot remove directory for C:\strawberry-perl-5.32-32bit\cpan\build\FFI-Platypus-2.07-0\.tmp\bhSwTYI7rw\lib\auto: Directory not empty at t/lib/Test/Cleanup.pm line 27.
cannot remove directory for C:\strawberry-perl-5.32-32bit\cpan\build\FFI-Platypus-2.07-0\.tmp\bhSwTYI7rw\lib: Directory not empty at t/lib/Test/Cleanup.pm line 27.
cannot remove directory for C:\strawberry-perl-5.32-32bit\cpan\build\FFI-Platypus-2.07-0\.tmp\bhSwTYI7rw: Directory not empty at t/lib/Test/Cleanup.pm line 27.
cannot unlink file for C:\strawberry-perl-5.32-32bit\cpan\build\FFI-Platypus-2.07-0\.tmp\0Lk2UFnKFa\lib\auto\share\dist\Foo-Bar3\bar3.dll: Permission denied at t/lib/Test/Cleanup.pm line 27.
cannot remove directory for C:\strawberry-perl-5.32-32bit\cpan\build\FFI-Platypus-2.07-0\.tmp\0Lk2UFnKFa\lib\auto\share\dist\Foo-Bar3: Directory not empty at t/lib/Test/Cleanup.pm line 27.
cannot remove directory for C:\strawberry-perl-5.32-32bit\cpan\build\FFI-Platypus-2.07-0\.tmp\0Lk2UFnKFa\lib\auto\share\dist: Directory not empty at t/lib/Test/Cleanup.pm line 27.
cannot remove directory for C:\strawberry-perl-5.32-32bit\cpan\build\FFI-Platypus-2.07-0\.tmp\0Lk2UFnKFa\lib\auto\share: Directory not empty at t/lib/Test/Cleanup.pm line 27.
cannot remove directory for C:\strawberry-perl-5.32-32bit\cpan\build\FFI-Platypus-2.07-0\.tmp\0Lk2UFnKFa\lib\auto: Directory not empty at t/lib/Test/Cleanup.pm line 27.
cannot remove directory for C:\strawberry-perl-5.32-32bit\cpan\build\FFI-Platypus-2.07-0\.tmp\0Lk2UFnKFa\lib: Directory not empty at t/lib/Test/Cleanup.pm line 27.
cannot remove directory for C:\strawberry-perl-5.32-32bit\cpan\build\FFI-Platypus-2.07-0\.tmp\0Lk2UFnKFa: Directory not empty at t/lib/Test/Cleanup.pm line 27.
cannot unlink file for C:\strawberry-perl-5.32-32bit\cpan\build\FFI-Platypus-2.07-0\.tmp\QJ99LszNsd\ffi\_build\foo.dll: Permission denied at t/lib/Test/Cleanup.pm line 27.
cannot remove directory for C:\strawberry-perl-5.32-32bit\cpan\build\FFI-Platypus-2.07-0\.tmp\QJ99LszNsd\ffi\_build: Directory not empty at t/lib/Test/Cleanup.pm line 27.
cannot remove directory for C:\strawberry-perl-5.32-32bit\cpan\build\FFI-Platypus-2.07-0\.tmp\QJ99LszNsd\ffi: Directory not empty at t/lib/Test/Cleanup.pm line 27.
cannot remove directory for C:\strawberry-perl-5.32-32bit\cpan\build\FFI-Platypus-2.07-0\.tmp\QJ99LszNsd: Directory not empty at t/lib/Test/Cleanup.pm line 27.
cannot unlink file for C:\strawberry-perl-5.32-32bit\cpan\build\FFI-Platypus-2.07-0\.tmp\bhSwTYI7rw\lib\auto\share\dist\Foo-Bar2\bar2.dll: Permission denied at C:/strawberry-perl-5.32-32bit/perl/lib/File/Temp.pm line 2643.
cannot remove directory for C:\strawberry-perl-5.32-32bit\cpan\build\FFI-Platypus-2.07-0\.tmp\bhSwTYI7rw\lib\auto\share\dist\Foo-Bar2: Directory not empty at C:/strawberry-perl-5.32-32bit/perl/lib/File/Temp.pm line 2643.
cannot remove directory for C:\strawberry-perl-5.32-32bit\cpan\build\FFI-Platypus-2.07-0\.tmp\bhSwTYI7rw\lib\auto\share\dist: Directory not empty at C:/strawberry-perl-5.32-32bit/perl/lib/File/Temp.pm line 2643.
cannot remove directory for C:\strawberry-perl-5.32-32bit\cpan\build\FFI-Platypus-2.07-0\.tmp\bhSwTYI7rw\lib\auto\share: Directory not empty at C:/strawberry-perl-5.32-32bit/perl/lib/File/Temp.pm line 2643.
cannot remove directory for C:\strawberry-perl-5.32-32bit\cpan\build\FFI-Platypus-2.07-0\.tmp\bhSwTYI7rw\lib\auto: Directory not empty at C:/strawberry-perl-5.32-32bit/perl/lib/File/Temp.pm line 2643.
cannot remove directory for C:\strawberry-perl-5.32-32bit\cpan\build\FFI-Platypus-2.07-0\.tmp\bhSwTYI7rw\lib: Directory not empty at C:/strawberry-perl-5.32-32bit/perl/lib/File/Temp.pm line 2643.
cannot remove directory for C:/strawberry-perl-5.32-32bit/cpan/build/FFI-Platypus-2.07-0/.tmp/bhSwTYI7rw: Directory not empty at C:/strawberry-perl-5.32-32bit/perl/lib/File/Temp.pm line 2643.
cannot unlink file for C:\strawberry-perl-5.32-32bit\cpan\build\FFI-Platypus-2.07-0\.tmp\BEfJ7S4_Tr\lib\auto\share\dist\Foo-Bar1\bar1.dll: Permission denied at C:/strawberry-perl-5.32-32bit/perl/lib/File/Temp.pm line 2643.
cannot remove directory for C:\strawberry-perl-5.32-32bit\cpan\build\FFI-Platypus-2.07-0\.tmp\BEfJ7S4_Tr\lib\auto\share\dist\Foo-Bar1: Directory not empty at C:/strawberry-perl-5.32-32bit/perl/lib/File/Temp.pm line 2643.
cannot remove directory for C:\strawberry-perl-5.32-32bit\cpan\build\FFI-Platypus-2.07-0\.tmp\BEfJ7S4_Tr\lib\auto\share\dist: Directory not empty at C:/strawberry-perl-5.32-32bit/perl/lib/File/Temp.pm line 2643.
cannot remove directory for C:\strawberry-perl-5.32-32bit\cpan\build\FFI-Platypus-2.07-0\.tmp\BEfJ7S4_Tr\lib\auto\share: Directory not empty at C:/strawberry-perl-5.32-32bit/perl/lib/File/Temp.pm line 2643.
cannot remove directory for C:\strawberry-perl-5.32-32bit\cpan\build\FFI-Platypus-2.07-0\.tmp\BEfJ7S4_Tr\lib\auto: Directory not empty at C:/strawberry-perl-5.32-32bit/perl/lib/File/Temp.pm line 2643.
cannot remove directory for C:\strawberry-perl-5.32-32bit\cpan\build\FFI-Platypus-2.07-0\.tmp\BEfJ7S4_Tr\lib: Directory not empty at C:/strawberry-perl-5.32-32bit/perl/lib/File/Temp.pm line 2643.
cannot remove directory for C:/strawberry-perl-5.32-32bit/cpan/build/FFI-Platypus-2.07-0/.tmp/BEfJ7S4_Tr: Directory not empty at C:/strawberry-perl-5.32-32bit/perl/lib/File/Temp.pm line 2643.
cannot unlink file for C:\strawberry-perl-5.32-32bit\cpan\build\FFI-Platypus-2.07-0\.tmp\0Lk2UFnKFa\lib\auto\share\dist\Foo-Bar3\bar3.dll: Permission denied at C:/strawberry-perl-5.32-32bit/perl/lib/File/Temp.pm line 2643.
cannot remove directory for C:\strawberry-perl-5.32-32bit\cpan\build\FFI-Platypus-2.07-0\.tmp\0Lk2UFnKFa\lib\auto\share\dist\Foo-Bar3: Directory not empty at C:/strawberry-perl-5.32-32bit/perl/lib/File/Temp.pm line 2643.
cannot remove directory for C:\strawberry-perl-5.32-32bit\cpan\build\FFI-Platypus-2.07-0\.tmp\0Lk2UFnKFa\lib\auto\share\dist: Directory not empty at C:/strawberry-perl-5.32-32bit/perl/lib/File/Temp.pm line 2643.
cannot remove directory for C:\strawberry-perl-5.32-32bit\cpan\build\FFI-Platypus-2.07-0\.tmp\0Lk2UFnKFa\lib\auto\share: Directory not empty at C:/strawberry-perl-5.32-32bit/perl/lib/File/Temp.pm line 2643.
cannot remove directory for C:\strawberry-perl-5.32-32bit\cpan\build\FFI-Platypus-2.07-0\.tmp\0Lk2UFnKFa\lib\auto: Directory not empty at C:/strawberry-perl-5.32-32bit/perl/lib/File/Temp.pm line 2643.
cannot remove directory for C:\strawberry-perl-5.32-32bit\cpan\build\FFI-Platypus-2.07-0\.tmp\0Lk2UFnKFa\lib: Directory not empty at C:/strawberry-perl-5.32-32bit/perl/lib/File/Temp.pm line 2643.
cannot remove directory for C:/strawberry-perl-5.32-32bit/cpan/build/FFI-Platypus-2.07-0/.tmp/0Lk2UFnKFa: Directory not empty at C:/strawberry-perl-5.32-32bit/perl/lib/File/Temp.pm line 2643.
cannot unlink file for C:\strawberry-perl-5.32-32bit\cpan\build\FFI-Platypus-2.07-0\.tmp\QJ99LszNsd\ffi\_build\foo.dll: Permission denied at C:/strawberry-perl-5.32-32bit/perl/lib/File/Temp.pm line 2643.
cannot remove directory for C:\strawberry-perl-5.32-32bit\cpan\build\FFI-Platypus-2.07-0\.tmp\QJ99LszNsd\ffi\_build: Directory not empty at C:/strawberry-perl-5.32-32bit/perl/lib/File/Temp.pm line 2643.
cannot remove directory for C:\strawberry-perl-5.32-32bit\cpan\build\FFI-Platypus-2.07-0\.tmp\QJ99LszNsd\ffi: Directory not empty at C:/strawberry-perl-5.32-32bit/perl/lib/File/Temp.pm line 2643.
cannot remove directory for C:/strawberry-perl-5.32-32bit/cpan/build/FFI-Platypus-2.07-0/.tmp/QJ99LszNsd: Directory not empty at C:/strawberry-perl-5.32-32bit/perl/lib/File/Temp.pm line 2643.
t/ffi_platypus_bundle.t .................. ok
t/ffi_platypus_closure.t ................. ok
t/ffi_platypus_constant.t ................ ok
t/ffi_platypus_dl.t ...................... ok
t/ffi_platypus_function.t ................ ok
t/ffi_platypus_function_wrapper.t ........ ok
t/ffi_platypus_internal.t ................ ok
t/ffi_platypus_lang.t .................... ok
t/ffi_platypus_lang_asm.t ................ ok
t/ffi_platypus_lang_c.t .................. ok
t/ffi_platypus_lang_win32.t .............. ok
t/ffi_platypus_legacy.t .................. ok
t/ffi_platypus_memory.t .................. ok
t/ffi_platypus_record.t .................. ok
t/ffi_platypus_record_meta.t ............. ok
t/ffi_platypus_record_tiearray.t ......... ok
t/ffi_platypus_shareconfig.t ............. ok
t/ffi_platypus_type.t .................... ok
t/ffi_platypus_type_pointersizebuffer.t .. ok
t/ffi_platypus_type_stringarray.t ........ ok
t/ffi_platypus_type_stringpointer.t ...... ok
t/ffi_platypus_type_widestring.t ......... ok
t/ffi_platypus_typeparser.t .............. ok
t/ffi_platypus_typeparser_version0.t ..... ok
t/ffi_platypus_typeparser_version1.t ..... ok
t/ffi_platypus_typeparser_version2.t ..... ok
t/ffi_probe.t ............................ ok
t/ffi_probe_runner.t ..................... ok
t/ffi_probe_runner_builder.t ............. ok
t/ffi_probe_runner_result.t .............. ok
t/ffi_temp.t ............................. ok
t/forks.t ................................ skipped: Test requires forks
t/gh117.t ................................ ok
t/gh129.t ................................ ok
t/gh323.t ................................ ok
t/memory.t ............................... skipped: tested only in CI
t/threads.t .............................. ok
t/type_complex_double.t .................. ok
t/type_complex_float.t ................... ok
t/type_custom.t .......................... ok
t/type_double.t .......................... ok
t/type_float.t ........................... ok
t/type_longdouble.t ...................... ok
t/type_longdouble__array.t ............... ok
t/type_longdouble__hide.t ................ ok
t/type_longdouble__ptr.t ................. ok
t/type_opaque.t .......................... ok
t/type_record.t .......................... ok
t/type_record_value.t .................... ok
t/type_sint16.t .......................... ok
t/type_sint32.t .......................... ok
t/type_sint64.t .......................... ok
t/type_sint8.t ........................... ok
t/type_string.t .......................... ok
t/type_uint16.t .......................... ok
t/type_uint32.t .......................... ok
t/type_uint64.t .......................... ok
t/type_uint8.t ........................... ok
All tests successful.
Files=72, Tests=322, 33 wallclock secs ( 0.42 usr + 0.22 sys = 0.64 CPU)
Result: PASS
------------------------------
PREREQUISITES
------------------------------
Prerequisite modules loaded:
requires:
Module Need Have
--------------------- -------- --------
autodie 0 2.36
Capture::Tiny 0 0.48
constant 1.32 1.33
ExtUtils::MakeMaker 7.12 7.68
FFI::CheckLib 0.05 0.31
File::Spec::Functions 0 3.78
IPC::Cmd 0 1.04
JSON::PP 0 4.16
List::Util 1.45 1.63
parent 0 0.241
perl 5.008004 5.032001
build_requires:
Module Need Have
--------------------- -------- --------
Alien::FFI 0.20 0.27
Capture::Tiny 0 0.48
ExtUtils::CBuilder 0 0.280236
Test2::API 1.302015 1.302194
Test2::V0 0.000121 0.000148
configure_requires:
Module Need Have
--------------------- -------- --------
Capture::Tiny 0 0.48
ExtUtils::MakeMaker 7.12 7.68
ExtUtils::ParseXS 3.30 3.44
IPC::Cmd 0 1.04
JSON::PP 0 4.16
parent 0 0.241
perl 5.006 5.032001
------------------------------
ENVIRONMENT AND OTHER CONTEXT
------------------------------
Environment variables:
COMSPEC = C:\Windows\system32\cmd.exe
NONINTERACTIVE_TESTING = 1
NUMBER_OF_PROCESSORS = 12
PATH = C:\strawberry-perl-5.32-32bit\perl\site\bin;C:\strawberry-perl-5.32-32bit\perl\bin;C:\strawberry-perl-5.32-32bit\c\bin;C:\Windows\system32;C:\Windows;C:\Windows\System32\Wbem;C:\Windows\System32\WindowsPowerShell\v1.0\;C:\Windows\System32\OpenSSH\;C:\Program Files\Microsoft VS Code\bin;C:\Program Files\Kubernetes\Minikube;C:\HashiCorp\Vagrant\bin;C:\Program Files\Git\cmd;C:\Users\owner\AppData\Local\Microsoft\WindowsApps;;C:\Tcl\bin;C:\Users\owner\AppData\Local\Programs\Rancher Desktop\resources\resources\win32\bin;C:\Users\owner\AppData\Local\Programs\Rancher Desktop\resources\resources\linux\bin
PERL5LIB =
PERL5OPT =
PERL5_CPANPLUS_IS_RUNNING = 9496
PERL5_CPAN_IS_RUNNING = 9496
PERL_MM_USE_DEFAULT = 1
PERL_USE_UNSAFE_INC = 1
PROCESSOR_IDENTIFIER = AMD64 Family 23 Model 104 Stepping 1, AuthenticAMD
TEMP = C:\Users\owner\AppData\Local\Temp
TERM = dumb
Perl special variables (and OS-specific diagnostics, for MSWin32):
$^X = C:\strawberry-perl-5.32-32bit\perl\bin\perl.exe
$UID/$EUID = 0 / 0
$GID = 0
$EGID = 0
Win32::GetOSName = Win10
Win32::GetOSVersion = , 10, 0, 19045, 2, 0, 0, 256, 1
Win32::FsType = NTFS
Win32::IsAdminUser = 0
Perl module toolchain versions installed:
Module Have
------------------- --------
CPAN 2.34
CPAN::Meta 2.150010
Cwd 3.78
ExtUtils::CBuilder 0.280236
ExtUtils::Command 7.68
ExtUtils::Install 2.22
ExtUtils::MakeMaker 7.68
ExtUtils::Manifest 1.73
ExtUtils::ParseXS 3.44
File::Spec 3.78
JSON 4.10
JSON::PP 4.16
Module::Build 0.4232
Module::Signature 0.88
Parse::CPAN::Meta 2.150010
Test::Harness 3.44
Test::More 1.302194
YAML 1.30
YAML::Syck n/a
version 0.9929
--
Summary of my perl5 (revision 5 version 32 subversion 1) configuration:
Platform:
osname=MSWin32
osvers=10.0.19042.746
archname=MSWin32-x86-multi-thread-64int
uname='Win32 strawberry-perl 5.32.1.1 #1 Sun Jan 24 12:17:47 2021 i386'
config_args='undef'
hint=recommended
useposix=true
d_sigaction=undef
useithreads=define
usemultiplicity=define
use64bitint=define
use64bitall=undef
uselongdouble=undef
usemymalloc=n
default_inc_excludes_dot=define
bincompat5005=undef
Compiler:
cc='gcc'
ccflags =' -DWIN32 -D__USE_MINGW_ANSI_STDIO -DPERL_TEXTMODE_SCRIPTS -DPERL_IMPLICIT_CONTEXT -DPERL_IMPLICIT_SYS -DUSE_PERLIO -fwrapv -fno-strict-aliasing -mms-bitfields'
optimize='-s -O2'
cppflags='-DWIN32'
ccversion=''
gccversion='8.3.0'
gccosandvers=''
intsize=4
longsize=4
ptrsize=4
doublesize=8
byteorder=12345678
doublekind=3
d_longlong=define
longlongsize=8
d_longdbl=define
longdblsize=12
longdblkind=3
ivtype='long long'
ivsize=8
nvtype='double'
nvsize=8
Off_t='long long'
lseeksize=8
alignbytes=8
prototype=define
Linker and Libraries:
ld='g++.exe'
ldflags ='-s -L"C:\strawberry-perl-5.32-32bit\perl\lib\CORE" -L"C:\strawberry-perl-5.32-32bit\c\lib"'
libpth=C:\strawberry-perl-5.32-32bit\c\lib C:\strawberry-perl-5.32-32bit\c\i686-w64-mingw32\lib C:\strawberry-perl-5.32-32bit\c\lib\gcc\i686-w64-mingw32\8.3.0
libs= -lmoldname -lkernel32 -luser32 -lgdi32 -lwinspool -lcomdlg32 -ladvapi32 -lshell32 -lole32 -loleaut32 -lnetapi32 -luuid -lws2_32 -lmpr -lwinmm -lversion -lodbc32 -lodbccp32 -lcomctl32
perllibs= -lmoldname -lkernel32 -luser32 -lgdi32 -lwinspool -lcomdlg32 -ladvapi32 -lshell32 -lole32 -loleaut32 -lnetapi32 -luuid -lws2_32 -lmpr -lwinmm -lversion -lodbc32 -lodbccp32 -lcomctl32
libc=
so=dll
useshrplib=true
libperl=libperl532.a
gnulibc_version=''
Dynamic Linking:
dlsrc=dl_win32.xs
dlext=xs.dll
d_dlsymun=undef
ccdlflags=' '
cccdlflags=' '
lddlflags='-mdll -s -L"C:\strawberry-perl-5.32-32bit\perl\lib\CORE" -L"C:\strawberry-perl-5.32-32bit\c\lib"'
Characteristics of this binary (from libperl):
Compile-time options:
HAS_TIMES
HAVE_INTERP_INTERN
MULTIPLICITY
PERLIO_LAYERS
PERL_COPY_ON_WRITE
PERL_DONT_CREATE_GVSV
PERL_IMPLICIT_CONTEXT
PERL_IMPLICIT_SYS
PERL_MALLOC_WRAP
PERL_OP_PARENT
PERL_PRESERVE_IVUV
USE_64_BIT_INT
USE_ITHREADS
USE_LARGE_FILES
USE_LOCALE
USE_LOCALE_COLLATE
USE_LOCALE_CTYPE
USE_LOCALE_NUMERIC
USE_LOCALE_TIME
USE_PERLIO
USE_PERL_ATOF
Built under MSWin32
Compiled at Jan 24 2021 12:22:49
%ENV:
PERL5_CPANPLUS_IS_RUNNING="9496"
PERL5_CPAN_IS_RUNNING="9496"
PERL_MM_USE_DEFAULT="1"
PERL_USE_UNSAFE_INC="1"
@INC:
C:/strawberry-perl-5.32-32bit/perl/site/lib/MSWin32-x86-multi-thread-64int
C:/strawberry-perl-5.32-32bit/perl/site/lib
C:/strawberry-perl-5.32-32bit/perl/vendor/lib
C:/strawberry-perl-5.32-32bit/perl/lib
.