Encode v3.19 Perl 5 v5.24.4 x86_64-linux

Status
Pass
From
Dist
Encode v3.19
Platform
Perl 5 v5.24.4 x86_64-linux
Date
2023-06-16 16:53:08
ID
452379de-0c66-11ee-8ef0-9b748bb865a9
This distribution has been tested as part of the CPAN Testers
project, supporting the Perl programming language.  See
http://wiki.cpantesters.org/ for more information or email
questions to cpan-testers-discuss@perl.org


--
Dear DANKOGAI,

This is a computer-generated report for Encode-3.19
on perl 5.24.4, created by App::cpanminus::reporter 0.20 (1.7045).

Thank you for uploading your work to CPAN.  Congratulations!
All tests were successful.

Sections of this report:

    * Tester comments
    * Program output
    * Prerequisites
    * Environment and other context

------------------------------
TESTER COMMENTS
------------------------------

Additional comments from tester:

none provided

------------------------------
PROGRAM OUTPUT
------------------------------

Output from '':

Building and testing Encode-3.19
cp Encode/Makefile_PL.e2x blib/lib/Encode/Makefile_PL.e2x
cp lib/Encode/KR/2022_KR.pm blib/lib/Encode/KR/2022_KR.pm
cp lib/Encode/JP/H2Z.pm blib/lib/Encode/JP/H2Z.pm
cp Encode/_T.e2x blib/lib/Encode/_T.e2x
cp lib/Encode/CN/HZ.pm blib/lib/Encode/CN/HZ.pm
cp lib/Encode/JP/JIS7.pm blib/lib/Encode/JP/JIS7.pm
cp lib/Encode/Config.pm blib/lib/Encode/Config.pm
cp lib/Encode/PerlIO.pod blib/lib/Encode/PerlIO.pod
cp Encode.pm blib/lib/Encode.pm
cp lib/Encode/Guess.pm blib/lib/Encode/Guess.pm
cp lib/Encode/Encoder.pm blib/lib/Encode/Encoder.pm
cp lib/Encode/GSM0338.pm blib/lib/Encode/GSM0338.pm
cp lib/Encode/Alias.pm blib/lib/Encode/Alias.pm
cp Encode/_PM.e2x blib/lib/Encode/_PM.e2x
cp Encode/encode.h blib/lib/Encode/encode.h
cp lib/Encode/CJKConstants.pm blib/lib/Encode/CJKConstants.pm
cp lib/Encode/Encoding.pm blib/lib/Encode/Encoding.pm
cp lib/Encode/MIME/Header/ISO_2022_JP.pm blib/lib/Encode/MIME/Header/ISO_2022_JP.pm
cp lib/Encode/Supported.pod blib/lib/Encode/Supported.pod
cp lib/Encode/MIME/Header.pm blib/lib/Encode/MIME/Header.pm
cp Encode/Changes.e2x blib/lib/Encode/Changes.e2x
cp encoding.pm blib/lib/encoding.pm
cp lib/Encode/Unicode/UTF7.pm blib/lib/Encode/Unicode/UTF7.pm
cp Encode/ConfigLocal_PM.e2x blib/lib/Encode/ConfigLocal_PM.e2x
cp Encode/README.e2x blib/lib/Encode/README.e2x
cp lib/Encode/MIME/Name.pm blib/lib/Encode/MIME/Name.pm
make[1]: Entering directory '/home/rr/.cpanm/work/1686933980.363553/Encode-3.19/Byte'
cp Byte.pm ../blib/lib/Encode/Byte.pm
Running Mkbootstrap for Encode::Byte ()
chmod 644 "Byte.bs"
"/home/rr/perl5/perlbrew/perls/perl-5.24.4/bin/perl"  ../bin/enc2xs -"Q" -"O" -o byte_t.c -f byte_t.fnm
Reading iso-8859-2 (iso-8859-2)
Reading iso-8859-3 (iso-8859-3)
Reading iso-8859-4 (iso-8859-4)
Reading iso-8859-5 (iso-8859-5)
Reading iso-8859-6 (iso-8859-6)
Reading iso-8859-7 (iso-8859-7)
Reading iso-8859-8 (iso-8859-8)
Reading iso-8859-9 (iso-8859-9)
Reading iso-8859-10 (iso-8859-10)
Reading iso-8859-11 (iso-8859-11)
Reading iso-8859-13 (iso-8859-13)
Reading iso-8859-14 (iso-8859-14)
Reading iso-8859-15 (iso-8859-15)
Reading iso-8859-16 (iso-8859-16)
Reading AdobeStandardEncoding (AdobeStandardEncoding)
Reading cp1006 (cp1006)
Reading cp1250 (cp1250)
Reading cp1251 (cp1251)
Reading cp1253 (cp1253)
Reading cp1254 (cp1254)
Reading cp1255 (cp1255)
Reading cp1256 (cp1256)
Reading cp1257 (cp1257)
Reading cp1258 (cp1258)
Reading cp424 (cp424)
Reading cp437 (cp437)
Reading cp737 (cp737)
Reading cp775 (cp775)
Reading cp850 (cp850)
Reading cp852 (cp852)
Reading cp855 (cp855)
Reading cp856 (cp856)
Reading cp857 (cp857)
Reading cp858 (cp858)
Reading cp860 (cp860)
Reading cp861 (cp861)
Reading cp862 (cp862)
Reading cp863 (cp863)
Reading cp864 (cp864)
Reading cp865 (cp865)
Reading cp866 (cp866)
Reading cp869 (cp869)
Reading cp874 (cp874)
Reading hp-roman8 (hp-roman8)
Reading koi8-f (koi8-f)
Reading koi8-r (koi8-r)
Reading koi8-u (koi8-u)
Reading MacArabic (MacArabic)
Reading MacCentralEurRoman (MacCentralEurRoman)
Reading MacCroatian (MacCroatian)
Reading MacCyrillic (MacCyrillic)
Reading MacFarsi (MacFarsi)
Reading MacGreek (MacGreek)
Reading MacHebrew (MacHebrew)
Reading MacIcelandic (MacIcelandic)
Reading MacRomanian (MacRomanian)
Reading MacRumanian (MacRumanian)
Reading MacRoman (MacRoman)
Reading MacSami (MacSami)
Reading MacThai (MacThai)
Reading MacTurkish (MacTurkish)
Reading MacUkrainian (MacUkrainian)
Reading nextstep (nextstep)
Reading viscii (viscii)
"/home/rr/perl5/perlbrew/perls/perl-5.24.4/bin/perl" "/home/rr/perl5/perlbrew/perls/perl-5.24.4/lib/5.24.4/ExtUtils/xsubpp"  -nolinenumbers -typemap "/home/rr/perl5/perlbrew/perls/perl-5.24.4/lib/5.24.4/ExtUtils/typemap"  Byte.xs > Byte.xsc && mv Byte.xsc Byte.c
cc -c  -I../Encode -fwrapv -fno-strict-aliasing -pipe -fstack-protector-strong -I/usr/local/include -D_LARGEFILE_SOURCE -D_FILE_OFFSET_BITS=64 -O2   -DVERSION=\"2.04\" -DXS_VERSION=\"2.04\" -fPIC "-I/home/rr/perl5/perlbrew/perls/perl-5.24.4/lib/5.24.4/x86_64-linux/CORE"   Byte.c
cc -c  -I../Encode -fwrapv -fno-strict-aliasing -pipe -fstack-protector-strong -I/usr/local/include -D_LARGEFILE_SOURCE -D_FILE_OFFSET_BITS=64 -O2   -DVERSION=\"2.04\" -DXS_VERSION=\"2.04\" -fPIC "-I/home/rr/perl5/perlbrew/perls/perl-5.24.4/lib/5.24.4/x86_64-linux/CORE"   byte_t.c
rm -f ../blib/arch/auto/Encode/Byte/Byte.so
cc  -shared -O2 -L/usr/local/lib -fstack-protector-strong Byte.o byte_t.o  -o ../blib/arch/auto/Encode/Byte/Byte.so 	\
     	\
  
chmod 755 ../blib/arch/auto/Encode/Byte/Byte.so
"/home/rr/perl5/perlbrew/perls/perl-5.24.4/bin/perl" -MExtUtils::Command::MM -e 'cp_nonempty' -- Byte.bs ../blib/arch/auto/Encode/Byte/Byte.bs 644
make[1]: Leaving directory '/home/rr/.cpanm/work/1686933980.363553/Encode-3.19/Byte'
make[1]: Entering directory '/home/rr/.cpanm/work/1686933980.363553/Encode-3.19/CN'
cp CN.pm ../blib/lib/Encode/CN.pm
Running Mkbootstrap for Encode::CN ()
chmod 644 "CN.bs"
"/home/rr/perl5/perlbrew/perls/perl-5.24.4/bin/perl"  ../bin/enc2xs -"Q" -o cp_00_t.c -f cp_00_t.fnm
Reading cp936 (cp936)
"/home/rr/perl5/perlbrew/perls/perl-5.24.4/bin/perl"  ../bin/enc2xs -"Q" -o eu_01_t.c -f eu_01_t.fnm
Reading euc-cn (euc-cn)
"/home/rr/perl5/perlbrew/perls/perl-5.24.4/bin/perl"  ../bin/enc2xs -"Q" -o gb_02_t.c -f gb_02_t.fnm
Reading gb12345-raw (gb12345-raw)
"/home/rr/perl5/perlbrew/perls/perl-5.24.4/bin/perl"  ../bin/enc2xs -"Q" -o gb_03_t.c -f gb_03_t.fnm
Reading gb2312-raw (gb2312-raw)
"/home/rr/perl5/perlbrew/perls/perl-5.24.4/bin/perl"  ../bin/enc2xs -"Q" -o ir_04_t.c -f ir_04_t.fnm
Reading iso-ir-165 (iso-ir-165)
"/home/rr/perl5/perlbrew/perls/perl-5.24.4/bin/perl"  ../bin/enc2xs -"Q" -o ma_05_t.c -f ma_05_t.fnm
Reading MacChineseSimp (MacChineseSimp)
"/home/rr/perl5/perlbrew/perls/perl-5.24.4/bin/perl" "/home/rr/perl5/perlbrew/perls/perl-5.24.4/lib/5.24.4/ExtUtils/xsubpp" -noprototypes -nolinenumbers -typemap "/home/rr/perl5/perlbrew/perls/perl-5.24.4/lib/5.24.4/ExtUtils/typemap"  CN.xs > CN.xsc && mv CN.xsc CN.c
cc -c  -I../Encode -fwrapv -fno-strict-aliasing -pipe -fstack-protector-strong -I/usr/local/include -D_LARGEFILE_SOURCE -D_FILE_OFFSET_BITS=64 -O2   -DVERSION=\"2.03\" -DXS_VERSION=\"2.03\" -fPIC "-I/home/rr/perl5/perlbrew/perls/perl-5.24.4/lib/5.24.4/x86_64-linux/CORE"   CN.c
cc -c  -I../Encode -fwrapv -fno-strict-aliasing -pipe -fstack-protector-strong -I/usr/local/include -D_LARGEFILE_SOURCE -D_FILE_OFFSET_BITS=64 -O2   -DVERSION=\"2.03\" -DXS_VERSION=\"2.03\" -fPIC "-I/home/rr/perl5/perlbrew/perls/perl-5.24.4/lib/5.24.4/x86_64-linux/CORE"   cp_00_t.c
cc -c  -I../Encode -fwrapv -fno-strict-aliasing -pipe -fstack-protector-strong -I/usr/local/include -D_LARGEFILE_SOURCE -D_FILE_OFFSET_BITS=64 -O2   -DVERSION=\"2.03\" -DXS_VERSION=\"2.03\" -fPIC "-I/home/rr/perl5/perlbrew/perls/perl-5.24.4/lib/5.24.4/x86_64-linux/CORE"   eu_01_t.c
cc -c  -I../Encode -fwrapv -fno-strict-aliasing -pipe -fstack-protector-strong -I/usr/local/include -D_LARGEFILE_SOURCE -D_FILE_OFFSET_BITS=64 -O2   -DVERSION=\"2.03\" -DXS_VERSION=\"2.03\" -fPIC "-I/home/rr/perl5/perlbrew/perls/perl-5.24.4/lib/5.24.4/x86_64-linux/CORE"   gb_02_t.c
cc -c  -I../Encode -fwrapv -fno-strict-aliasing -pipe -fstack-protector-strong -I/usr/local/include -D_LARGEFILE_SOURCE -D_FILE_OFFSET_BITS=64 -O2   -DVERSION=\"2.03\" -DXS_VERSION=\"2.03\" -fPIC "-I/home/rr/perl5/perlbrew/perls/perl-5.24.4/lib/5.24.4/x86_64-linux/CORE"   gb_03_t.c
cc -c  -I../Encode -fwrapv -fno-strict-aliasing -pipe -fstack-protector-strong -I/usr/local/include -D_LARGEFILE_SOURCE -D_FILE_OFFSET_BITS=64 -O2   -DVERSION=\"2.03\" -DXS_VERSION=\"2.03\" -fPIC "-I/home/rr/perl5/perlbrew/perls/perl-5.24.4/lib/5.24.4/x86_64-linux/CORE"   ir_04_t.c
cc -c  -I../Encode -fwrapv -fno-strict-aliasing -pipe -fstack-protector-strong -I/usr/local/include -D_LARGEFILE_SOURCE -D_FILE_OFFSET_BITS=64 -O2   -DVERSION=\"2.03\" -DXS_VERSION=\"2.03\" -fPIC "-I/home/rr/perl5/perlbrew/perls/perl-5.24.4/lib/5.24.4/x86_64-linux/CORE"   ma_05_t.c
rm -f ../blib/arch/auto/Encode/CN/CN.so
cc  -shared -O2 -L/usr/local/lib -fstack-protector-strong CN.o cp_00_t.o eu_01_t.o gb_02_t.o gb_03_t.o ir_04_t.o ma_05_t.o  -o ../blib/arch/auto/Encode/CN/CN.so 	\
     	\
  
chmod 755 ../blib/arch/auto/Encode/CN/CN.so
"/home/rr/perl5/perlbrew/perls/perl-5.24.4/bin/perl" -MExtUtils::Command::MM -e 'cp_nonempty' -- CN.bs ../blib/arch/auto/Encode/CN/CN.bs 644
make[1]: Leaving directory '/home/rr/.cpanm/work/1686933980.363553/Encode-3.19/CN'
make[1]: Entering directory '/home/rr/.cpanm/work/1686933980.363553/Encode-3.19/EBCDIC'
cp EBCDIC.pm ../blib/lib/Encode/EBCDIC.pm
Running Mkbootstrap for Encode::EBCDIC ()
chmod 644 "EBCDIC.bs"
"/home/rr/perl5/perlbrew/perls/perl-5.24.4/bin/perl"  ../bin/enc2xs -"Q" -"O" -o ebcdic_t.c -f ebcdic_t.fnm
Reading cp37 (cp37)
Reading cp1026 (cp1026)
Reading cp1047 (cp1047)
Reading cp500 (cp500)
Reading cp875 (cp875)
Reading posix-bc (posix-bc)
"/home/rr/perl5/perlbrew/perls/perl-5.24.4/bin/perl" "/home/rr/perl5/perlbrew/perls/perl-5.24.4/lib/5.24.4/ExtUtils/xsubpp"  -nolinenumbers -typemap "/home/rr/perl5/perlbrew/perls/perl-5.24.4/lib/5.24.4/ExtUtils/typemap"  EBCDIC.xs > EBCDIC.xsc && mv EBCDIC.xsc EBCDIC.c
cc -c  -I../Encode -fwrapv -fno-strict-aliasing -pipe -fstack-protector-strong -I/usr/local/include -D_LARGEFILE_SOURCE -D_FILE_OFFSET_BITS=64 -O2   -DVERSION=\"2.02\" -DXS_VERSION=\"2.02\" -fPIC "-I/home/rr/perl5/perlbrew/perls/perl-5.24.4/lib/5.24.4/x86_64-linux/CORE"   EBCDIC.c
cc -c  -I../Encode -fwrapv -fno-strict-aliasing -pipe -fstack-protector-strong -I/usr/local/include -D_LARGEFILE_SOURCE -D_FILE_OFFSET_BITS=64 -O2   -DVERSION=\"2.02\" -DXS_VERSION=\"2.02\" -fPIC "-I/home/rr/perl5/perlbrew/perls/perl-5.24.4/lib/5.24.4/x86_64-linux/CORE"   ebcdic_t.c
rm -f ../blib/arch/auto/Encode/EBCDIC/EBCDIC.so
cc  -shared -O2 -L/usr/local/lib -fstack-protector-strong EBCDIC.o ebcdic_t.o  -o ../blib/arch/auto/Encode/EBCDIC/EBCDIC.so 	\
     	\
  
chmod 755 ../blib/arch/auto/Encode/EBCDIC/EBCDIC.so
"/home/rr/perl5/perlbrew/perls/perl-5.24.4/bin/perl" -MExtUtils::Command::MM -e 'cp_nonempty' -- EBCDIC.bs ../blib/arch/auto/Encode/EBCDIC/EBCDIC.bs 644
make[1]: Leaving directory '/home/rr/.cpanm/work/1686933980.363553/Encode-3.19/EBCDIC'
make[1]: Entering directory '/home/rr/.cpanm/work/1686933980.363553/Encode-3.19/JP'
cp JP.pm ../blib/lib/Encode/JP.pm
Running Mkbootstrap for Encode::JP ()
chmod 644 "JP.bs"
"/home/rr/perl5/perlbrew/perls/perl-5.24.4/bin/perl"  ../bin/enc2xs -"Q" -o cp_00_t.c -f cp_00_t.fnm
Reading cp932 (cp932)
"/home/rr/perl5/perlbrew/perls/perl-5.24.4/bin/perl"  ../bin/enc2xs -"Q" -o eu_01_t.c -f eu_01_t.fnm
Reading euc-jp (euc-jp)
"/home/rr/perl5/perlbrew/perls/perl-5.24.4/bin/perl"  ../bin/enc2xs -"Q" -o ji_02_t.c -f ji_02_t.fnm
Reading jis0201-raw (jis0201-raw)
"/home/rr/perl5/perlbrew/perls/perl-5.24.4/bin/perl"  ../bin/enc2xs -"Q" -o ji_03_t.c -f ji_03_t.fnm
Reading jis0208-raw (jis0208-raw)
"/home/rr/perl5/perlbrew/perls/perl-5.24.4/bin/perl"  ../bin/enc2xs -"Q" -o ji_04_t.c -f ji_04_t.fnm
Reading jis0212-raw (jis0212-raw)
"/home/rr/perl5/perlbrew/perls/perl-5.24.4/bin/perl"  ../bin/enc2xs -"Q" -o ma_05_t.c -f ma_05_t.fnm
Reading MacJapanese (MacJapanese)
"/home/rr/perl5/perlbrew/perls/perl-5.24.4/bin/perl"  ../bin/enc2xs -"Q" -o sh_06_t.c -f sh_06_t.fnm
Reading shiftjis (shiftjis)
"/home/rr/perl5/perlbrew/perls/perl-5.24.4/bin/perl" "/home/rr/perl5/perlbrew/perls/perl-5.24.4/lib/5.24.4/ExtUtils/xsubpp"  -nolinenumbers -typemap "/home/rr/perl5/perlbrew/perls/perl-5.24.4/lib/5.24.4/ExtUtils/typemap"  JP.xs > JP.xsc && mv JP.xsc JP.c
cc -c  -I../Encode -fwrapv -fno-strict-aliasing -pipe -fstack-protector-strong -I/usr/local/include -D_LARGEFILE_SOURCE -D_FILE_OFFSET_BITS=64 -O2   -DVERSION=\"2.05\" -DXS_VERSION=\"2.05\" -fPIC "-I/home/rr/perl5/perlbrew/perls/perl-5.24.4/lib/5.24.4/x86_64-linux/CORE"   JP.c
cc -c  -I../Encode -fwrapv -fno-strict-aliasing -pipe -fstack-protector-strong -I/usr/local/include -D_LARGEFILE_SOURCE -D_FILE_OFFSET_BITS=64 -O2   -DVERSION=\"2.05\" -DXS_VERSION=\"2.05\" -fPIC "-I/home/rr/perl5/perlbrew/perls/perl-5.24.4/lib/5.24.4/x86_64-linux/CORE"   cp_00_t.c
cc -c  -I../Encode -fwrapv -fno-strict-aliasing -pipe -fstack-protector-strong -I/usr/local/include -D_LARGEFILE_SOURCE -D_FILE_OFFSET_BITS=64 -O2   -DVERSION=\"2.05\" -DXS_VERSION=\"2.05\" -fPIC "-I/home/rr/perl5/perlbrew/perls/perl-5.24.4/lib/5.24.4/x86_64-linux/CORE"   eu_01_t.c
cc -c  -I../Encode -fwrapv -fno-strict-aliasing -pipe -fstack-protector-strong -I/usr/local/include -D_LARGEFILE_SOURCE -D_FILE_OFFSET_BITS=64 -O2   -DVERSION=\"2.05\" -DXS_VERSION=\"2.05\" -fPIC "-I/home/rr/perl5/perlbrew/perls/perl-5.24.4/lib/5.24.4/x86_64-linux/CORE"   ji_02_t.c
cc -c  -I../Encode -fwrapv -fno-strict-aliasing -pipe -fstack-protector-strong -I/usr/local/include -D_LARGEFILE_SOURCE -D_FILE_OFFSET_BITS=64 -O2   -DVERSION=\"2.05\" -DXS_VERSION=\"2.05\" -fPIC "-I/home/rr/perl5/perlbrew/perls/perl-5.24.4/lib/5.24.4/x86_64-linux/CORE"   ji_03_t.c
cc -c  -I../Encode -fwrapv -fno-strict-aliasing -pipe -fstack-protector-strong -I/usr/local/include -D_LARGEFILE_SOURCE -D_FILE_OFFSET_BITS=64 -O2   -DVERSION=\"2.05\" -DXS_VERSION=\"2.05\" -fPIC "-I/home/rr/perl5/perlbrew/perls/perl-5.24.4/lib/5.24.4/x86_64-linux/CORE"   ji_04_t.c
cc -c  -I../Encode -fwrapv -fno-strict-aliasing -pipe -fstack-protector-strong -I/usr/local/include -D_LARGEFILE_SOURCE -D_FILE_OFFSET_BITS=64 -O2   -DVERSION=\"2.05\" -DXS_VERSION=\"2.05\" -fPIC "-I/home/rr/perl5/perlbrew/perls/perl-5.24.4/lib/5.24.4/x86_64-linux/CORE"   ma_05_t.c
cc -c  -I../Encode -fwrapv -fno-strict-aliasing -pipe -fstack-protector-strong -I/usr/local/include -D_LARGEFILE_SOURCE -D_FILE_OFFSET_BITS=64 -O2   -DVERSION=\"2.05\" -DXS_VERSION=\"2.05\" -fPIC "-I/home/rr/perl5/perlbrew/perls/perl-5.24.4/lib/5.24.4/x86_64-linux/CORE"   sh_06_t.c
rm -f ../blib/arch/auto/Encode/JP/JP.so
cc  -shared -O2 -L/usr/local/lib -fstack-protector-strong JP.o cp_00_t.o eu_01_t.o ji_02_t.o ji_03_t.o ji_04_t.o ma_05_t.o sh_06_t.o  -o ../blib/arch/auto/Encode/JP/JP.so 	\
     	\
  
chmod 755 ../blib/arch/auto/Encode/JP/JP.so
"/home/rr/perl5/perlbrew/perls/perl-5.24.4/bin/perl" -MExtUtils::Command::MM -e 'cp_nonempty' -- JP.bs ../blib/arch/auto/Encode/JP/JP.bs 644
make[1]: Leaving directory '/home/rr/.cpanm/work/1686933980.363553/Encode-3.19/JP'
make[1]: Entering directory '/home/rr/.cpanm/work/1686933980.363553/Encode-3.19/KR'
cp KR.pm ../blib/lib/Encode/KR.pm
Running Mkbootstrap for Encode::KR ()
chmod 644 "KR.bs"
"/home/rr/perl5/perlbrew/perls/perl-5.24.4/bin/perl"  ../bin/enc2xs -"Q" -o cp_00_t.c -f cp_00_t.fnm
Reading cp949 (cp949)
"/home/rr/perl5/perlbrew/perls/perl-5.24.4/bin/perl"  ../bin/enc2xs -"Q" -o eu_01_t.c -f eu_01_t.fnm
Reading euc-kr (euc-kr)
"/home/rr/perl5/perlbrew/perls/perl-5.24.4/bin/perl"  ../bin/enc2xs -"Q" -o jo_02_t.c -f jo_02_t.fnm
Reading johab (johab)
"/home/rr/perl5/perlbrew/perls/perl-5.24.4/bin/perl"  ../bin/enc2xs -"Q" -o ks_03_t.c -f ks_03_t.fnm
Reading ksc5601-raw (ksc5601-raw)
"/home/rr/perl5/perlbrew/perls/perl-5.24.4/bin/perl"  ../bin/enc2xs -"Q" -o ma_04_t.c -f ma_04_t.fnm
Reading MacKorean (MacKorean)
"/home/rr/perl5/perlbrew/perls/perl-5.24.4/bin/perl" "/home/rr/perl5/perlbrew/perls/perl-5.24.4/lib/5.24.4/ExtUtils/xsubpp"  -nolinenumbers -typemap "/home/rr/perl5/perlbrew/perls/perl-5.24.4/lib/5.24.4/ExtUtils/typemap"  KR.xs > KR.xsc && mv KR.xsc KR.c
cc -c  -I../Encode -fwrapv -fno-strict-aliasing -pipe -fstack-protector-strong -I/usr/local/include -D_LARGEFILE_SOURCE -D_FILE_OFFSET_BITS=64 -O2   -DVERSION=\"2.03\" -DXS_VERSION=\"2.03\" -fPIC "-I/home/rr/perl5/perlbrew/perls/perl-5.24.4/lib/5.24.4/x86_64-linux/CORE"   KR.c
cc -c  -I../Encode -fwrapv -fno-strict-aliasing -pipe -fstack-protector-strong -I/usr/local/include -D_LARGEFILE_SOURCE -D_FILE_OFFSET_BITS=64 -O2   -DVERSION=\"2.03\" -DXS_VERSION=\"2.03\" -fPIC "-I/home/rr/perl5/perlbrew/perls/perl-5.24.4/lib/5.24.4/x86_64-linux/CORE"   cp_00_t.c
cc -c  -I../Encode -fwrapv -fno-strict-aliasing -pipe -fstack-protector-strong -I/usr/local/include -D_LARGEFILE_SOURCE -D_FILE_OFFSET_BITS=64 -O2   -DVERSION=\"2.03\" -DXS_VERSION=\"2.03\" -fPIC "-I/home/rr/perl5/perlbrew/perls/perl-5.24.4/lib/5.24.4/x86_64-linux/CORE"   eu_01_t.c
cc -c  -I../Encode -fwrapv -fno-strict-aliasing -pipe -fstack-protector-strong -I/usr/local/include -D_LARGEFILE_SOURCE -D_FILE_OFFSET_BITS=64 -O2   -DVERSION=\"2.03\" -DXS_VERSION=\"2.03\" -fPIC "-I/home/rr/perl5/perlbrew/perls/perl-5.24.4/lib/5.24.4/x86_64-linux/CORE"   jo_02_t.c
cc -c  -I../Encode -fwrapv -fno-strict-aliasing -pipe -fstack-protector-strong -I/usr/local/include -D_LARGEFILE_SOURCE -D_FILE_OFFSET_BITS=64 -O2   -DVERSION=\"2.03\" -DXS_VERSION=\"2.03\" -fPIC "-I/home/rr/perl5/perlbrew/perls/perl-5.24.4/lib/5.24.4/x86_64-linux/CORE"   ks_03_t.c
cc -c  -I../Encode -fwrapv -fno-strict-aliasing -pipe -fstack-protector-strong -I/usr/local/include -D_LARGEFILE_SOURCE -D_FILE_OFFSET_BITS=64 -O2   -DVERSION=\"2.03\" -DXS_VERSION=\"2.03\" -fPIC "-I/home/rr/perl5/perlbrew/perls/perl-5.24.4/lib/5.24.4/x86_64-linux/CORE"   ma_04_t.c
rm -f ../blib/arch/auto/Encode/KR/KR.so
cc  -shared -O2 -L/usr/local/lib -fstack-protector-strong KR.o cp_00_t.o eu_01_t.o jo_02_t.o ks_03_t.o ma_04_t.o  -o ../blib/arch/auto/Encode/KR/KR.so 	\
     	\
  
chmod 755 ../blib/arch/auto/Encode/KR/KR.so
"/home/rr/perl5/perlbrew/perls/perl-5.24.4/bin/perl" -MExtUtils::Command::MM -e 'cp_nonempty' -- KR.bs ../blib/arch/auto/Encode/KR/KR.bs 644
make[1]: Leaving directory '/home/rr/.cpanm/work/1686933980.363553/Encode-3.19/KR'
make[1]: Entering directory '/home/rr/.cpanm/work/1686933980.363553/Encode-3.19/Symbol'
cp Symbol.pm ../blib/lib/Encode/Symbol.pm
Running Mkbootstrap for Encode::Symbol ()
chmod 644 "Symbol.bs"
"/home/rr/perl5/perlbrew/perls/perl-5.24.4/bin/perl"  ../bin/enc2xs -"Q" -"O" -o symbol_t.c -f symbol_t.fnm
Reading AdobeSymbol (AdobeSymbol)
Reading AdobeZdingbat (AdobeZdingbat)
Reading dingbats (dingbats)
Reading MacDingbats (MacDingbats)
Reading MacSymbol (MacSymbol)
Reading symbol (symbol)
"/home/rr/perl5/perlbrew/perls/perl-5.24.4/bin/perl" "/home/rr/perl5/perlbrew/perls/perl-5.24.4/lib/5.24.4/ExtUtils/xsubpp"  -nolinenumbers -typemap "/home/rr/perl5/perlbrew/perls/perl-5.24.4/lib/5.24.4/ExtUtils/typemap"  Symbol.xs > Symbol.xsc && mv Symbol.xsc Symbol.c
cc -c  -I../Encode -fwrapv -fno-strict-aliasing -pipe -fstack-protector-strong -I/usr/local/include -D_LARGEFILE_SOURCE -D_FILE_OFFSET_BITS=64 -O2   -DVERSION=\"2.02\" -DXS_VERSION=\"2.02\" -fPIC "-I/home/rr/perl5/perlbrew/perls/perl-5.24.4/lib/5.24.4/x86_64-linux/CORE"   Symbol.c
cc -c  -I../Encode -fwrapv -fno-strict-aliasing -pipe -fstack-protector-strong -I/usr/local/include -D_LARGEFILE_SOURCE -D_FILE_OFFSET_BITS=64 -O2   -DVERSION=\"2.02\" -DXS_VERSION=\"2.02\" -fPIC "-I/home/rr/perl5/perlbrew/perls/perl-5.24.4/lib/5.24.4/x86_64-linux/CORE"   symbol_t.c
rm -f ../blib/arch/auto/Encode/Symbol/Symbol.so
cc  -shared -O2 -L/usr/local/lib -fstack-protector-strong Symbol.o symbol_t.o  -o ../blib/arch/auto/Encode/Symbol/Symbol.so 	\
     	\
  
chmod 755 ../blib/arch/auto/Encode/Symbol/Symbol.so
"/home/rr/perl5/perlbrew/perls/perl-5.24.4/bin/perl" -MExtUtils::Command::MM -e 'cp_nonempty' -- Symbol.bs ../blib/arch/auto/Encode/Symbol/Symbol.bs 644
make[1]: Leaving directory '/home/rr/.cpanm/work/1686933980.363553/Encode-3.19/Symbol'
make[1]: Entering directory '/home/rr/.cpanm/work/1686933980.363553/Encode-3.19/TW'
cp TW.pm ../blib/lib/Encode/TW.pm
Running Mkbootstrap for Encode::TW ()
chmod 644 "TW.bs"
"/home/rr/perl5/perlbrew/perls/perl-5.24.4/bin/perl"  ../bin/enc2xs -"Q" -o bi_00_t.c -f bi_00_t.fnm
Reading big5-eten (big5-eten)
"/home/rr/perl5/perlbrew/perls/perl-5.24.4/bin/perl"  ../bin/enc2xs -"Q" -o bi_01_t.c -f bi_01_t.fnm
Reading big5-hkscs (big5-hkscs)
"/home/rr/perl5/perlbrew/perls/perl-5.24.4/bin/perl"  ../bin/enc2xs -"Q" -o cp_02_t.c -f cp_02_t.fnm
Reading cp950 (cp950)
"/home/rr/perl5/perlbrew/perls/perl-5.24.4/bin/perl"  ../bin/enc2xs -"Q" -o ma_03_t.c -f ma_03_t.fnm
Reading MacChineseTrad (MacChineseTrad)
"/home/rr/perl5/perlbrew/perls/perl-5.24.4/bin/perl" "/home/rr/perl5/perlbrew/perls/perl-5.24.4/lib/5.24.4/ExtUtils/xsubpp"  -nolinenumbers -typemap "/home/rr/perl5/perlbrew/perls/perl-5.24.4/lib/5.24.4/ExtUtils/typemap"  TW.xs > TW.xsc && mv TW.xsc TW.c
cc -c  -I../Encode -fwrapv -fno-strict-aliasing -pipe -fstack-protector-strong -I/usr/local/include -D_LARGEFILE_SOURCE -D_FILE_OFFSET_BITS=64 -O2   -DVERSION=\"2.03\" -DXS_VERSION=\"2.03\" -fPIC "-I/home/rr/perl5/perlbrew/perls/perl-5.24.4/lib/5.24.4/x86_64-linux/CORE"   TW.c
cc -c  -I../Encode -fwrapv -fno-strict-aliasing -pipe -fstack-protector-strong -I/usr/local/include -D_LARGEFILE_SOURCE -D_FILE_OFFSET_BITS=64 -O2   -DVERSION=\"2.03\" -DXS_VERSION=\"2.03\" -fPIC "-I/home/rr/perl5/perlbrew/perls/perl-5.24.4/lib/5.24.4/x86_64-linux/CORE"   bi_00_t.c
cc -c  -I../Encode -fwrapv -fno-strict-aliasing -pipe -fstack-protector-strong -I/usr/local/include -D_LARGEFILE_SOURCE -D_FILE_OFFSET_BITS=64 -O2   -DVERSION=\"2.03\" -DXS_VERSION=\"2.03\" -fPIC "-I/home/rr/perl5/perlbrew/perls/perl-5.24.4/lib/5.24.4/x86_64-linux/CORE"   bi_01_t.c
cc -c  -I../Encode -fwrapv -fno-strict-aliasing -pipe -fstack-protector-strong -I/usr/local/include -D_LARGEFILE_SOURCE -D_FILE_OFFSET_BITS=64 -O2   -DVERSION=\"2.03\" -DXS_VERSION=\"2.03\" -fPIC "-I/home/rr/perl5/perlbrew/perls/perl-5.24.4/lib/5.24.4/x86_64-linux/CORE"   cp_02_t.c
cc -c  -I../Encode -fwrapv -fno-strict-aliasing -pipe -fstack-protector-strong -I/usr/local/include -D_LARGEFILE_SOURCE -D_FILE_OFFSET_BITS=64 -O2   -DVERSION=\"2.03\" -DXS_VERSION=\"2.03\" -fPIC "-I/home/rr/perl5/perlbrew/perls/perl-5.24.4/lib/5.24.4/x86_64-linux/CORE"   ma_03_t.c
rm -f ../blib/arch/auto/Encode/TW/TW.so
cc  -shared -O2 -L/usr/local/lib -fstack-protector-strong TW.o bi_00_t.o bi_01_t.o cp_02_t.o ma_03_t.o  -o ../blib/arch/auto/Encode/TW/TW.so 	\
     	\
  
chmod 755 ../blib/arch/auto/Encode/TW/TW.so
"/home/rr/perl5/perlbrew/perls/perl-5.24.4/bin/perl" -MExtUtils::Command::MM -e 'cp_nonempty' -- TW.bs ../blib/arch/auto/Encode/TW/TW.bs 644
make[1]: Leaving directory '/home/rr/.cpanm/work/1686933980.363553/Encode-3.19/TW'
make[1]: Entering directory '/home/rr/.cpanm/work/1686933980.363553/Encode-3.19/Unicode'
cp Unicode.pm ../blib/lib/Encode/Unicode.pm
Running Mkbootstrap for Encode::Unicode ()
chmod 644 "Unicode.bs"
"/home/rr/perl5/perlbrew/perls/perl-5.24.4/bin/perl" "/home/rr/perl5/perlbrew/perls/perl-5.24.4/lib/5.24.4/ExtUtils/xsubpp"  -typemap "/home/rr/perl5/perlbrew/perls/perl-5.24.4/lib/5.24.4/ExtUtils/typemap"  Unicode.xs > Unicode.xsc && mv Unicode.xsc Unicode.c
cc -c  -I../Encode -fwrapv -fno-strict-aliasing -pipe -fstack-protector-strong -I/usr/local/include -D_LARGEFILE_SOURCE -D_FILE_OFFSET_BITS=64 -O2   -DVERSION=\"2.20\" -DXS_VERSION=\"2.20\" -fPIC "-I/home/rr/perl5/perlbrew/perls/perl-5.24.4/lib/5.24.4/x86_64-linux/CORE"   Unicode.c
rm -f ../blib/arch/auto/Encode/Unicode/Unicode.so
cc  -shared -O2 -L/usr/local/lib -fstack-protector-strong Unicode.o  -o ../blib/arch/auto/Encode/Unicode/Unicode.so 	\
     	\
  
chmod 755 ../blib/arch/auto/Encode/Unicode/Unicode.so
"/home/rr/perl5/perlbrew/perls/perl-5.24.4/bin/perl" -MExtUtils::Command::MM -e 'cp_nonempty' -- Unicode.bs ../blib/arch/auto/Encode/Unicode/Unicode.bs 644
make[1]: Leaving directory '/home/rr/.cpanm/work/1686933980.363553/Encode-3.19/Unicode'
Running Mkbootstrap for Encode ()
chmod 644 "Encode.bs"
"/home/rr/perl5/perlbrew/perls/perl-5.24.4/bin/perl" "/home/rr/perl5/perlbrew/perls/perl-5.24.4/lib/5.24.4/ExtUtils/xsubpp"  -typemap "/home/rr/perl5/perlbrew/perls/perl-5.24.4/lib/5.24.4/ExtUtils/typemap"  Encode.xs > Encode.xsc && mv Encode.xsc Encode.c
"/home/rr/perl5/perlbrew/perls/perl-5.24.4/bin/perl"  bin/enc2xs -"Q" -"O" -o def_t.c -f def_t.fnm
Reading iso-8859-1 (iso-8859-1)
Reading ascii (ascii)
Reading cp1252 (cp1252)
Reading ascii-ctrl (ascii-ctrl)
Reading null (null)
cc -c  -I./Encode -fwrapv -fno-strict-aliasing -pipe -fstack-protector-strong -I/usr/local/include -D_LARGEFILE_SOURCE -D_FILE_OFFSET_BITS=64 -Werror=declaration-after-statement -Wpointer-sign -O2   -DVERSION=\"3.19\" -DXS_VERSION=\"3.19\" -fPIC "-I/home/rr/perl5/perlbrew/perls/perl-5.24.4/lib/5.24.4/x86_64-linux/CORE"   Encode.c
cc -c  -I./Encode -fwrapv -fno-strict-aliasing -pipe -fstack-protector-strong -I/usr/local/include -D_LARGEFILE_SOURCE -D_FILE_OFFSET_BITS=64 -Werror=declaration-after-statement -Wpointer-sign -O2   -DVERSION=\"3.19\" -DXS_VERSION=\"3.19\" -fPIC "-I/home/rr/perl5/perlbrew/perls/perl-5.24.4/lib/5.24.4/x86_64-linux/CORE"   def_t.c
cc -c  -I./Encode -fwrapv -fno-strict-aliasing -pipe -fstack-protector-strong -I/usr/local/include -D_LARGEFILE_SOURCE -D_FILE_OFFSET_BITS=64 -Werror=declaration-after-statement -Wpointer-sign -O2   -DVERSION=\"3.19\" -DXS_VERSION=\"3.19\" -fPIC "-I/home/rr/perl5/perlbrew/perls/perl-5.24.4/lib/5.24.4/x86_64-linux/CORE"   encengine.c
rm -f blib/arch/auto/Encode/Encode.so
cc  -shared -O2 -L/usr/local/lib -fstack-protector-strong Encode.o def_t.o encengine.o  -o blib/arch/auto/Encode/Encode.so 	\
     	\
  
chmod 755 blib/arch/auto/Encode/Encode.so
"/home/rr/perl5/perlbrew/perls/perl-5.24.4/bin/perl" -MExtUtils::Command::MM -e 'cp_nonempty' -- Encode.bs blib/arch/auto/Encode/Encode.bs 644
cp bin/encguess blib/script/encguess
"/home/rr/perl5/perlbrew/perls/perl-5.24.4/bin/perl" -MExtUtils::MY -e 'MY->fixin(shift)' -- blib/script/encguess
cp bin/piconv blib/script/piconv
"/home/rr/perl5/perlbrew/perls/perl-5.24.4/bin/perl" -MExtUtils::MY -e 'MY->fixin(shift)' -- blib/script/piconv
cp bin/enc2xs blib/script/enc2xs
"/home/rr/perl5/perlbrew/perls/perl-5.24.4/bin/perl" -MExtUtils::MY -e 'MY->fixin(shift)' -- blib/script/enc2xs
Manifying 3 pod documents
Manifying 18 pod documents
make[1]: Entering directory '/home/rr/.cpanm/work/1686933980.363553/Encode-3.19/Byte'
Running Mkbootstrap for Encode::Byte ()
chmod 644 "Byte.bs"
make[1]: Leaving directory '/home/rr/.cpanm/work/1686933980.363553/Encode-3.19/Byte'
make[1]: Entering directory '/home/rr/.cpanm/work/1686933980.363553/Encode-3.19/CN'
Running Mkbootstrap for Encode::CN ()
chmod 644 "CN.bs"
make[1]: Leaving directory '/home/rr/.cpanm/work/1686933980.363553/Encode-3.19/CN'
make[1]: Entering directory '/home/rr/.cpanm/work/1686933980.363553/Encode-3.19/EBCDIC'
Running Mkbootstrap for Encode::EBCDIC ()
chmod 644 "EBCDIC.bs"
make[1]: Leaving directory '/home/rr/.cpanm/work/1686933980.363553/Encode-3.19/EBCDIC'
make[1]: Entering directory '/home/rr/.cpanm/work/1686933980.363553/Encode-3.19/JP'
Running Mkbootstrap for Encode::JP ()
chmod 644 "JP.bs"
make[1]: Leaving directory '/home/rr/.cpanm/work/1686933980.363553/Encode-3.19/JP'
make[1]: Entering directory '/home/rr/.cpanm/work/1686933980.363553/Encode-3.19/KR'
Running Mkbootstrap for Encode::KR ()
chmod 644 "KR.bs"
make[1]: Leaving directory '/home/rr/.cpanm/work/1686933980.363553/Encode-3.19/KR'
make[1]: Entering directory '/home/rr/.cpanm/work/1686933980.363553/Encode-3.19/Symbol'
Running Mkbootstrap for Encode::Symbol ()
chmod 644 "Symbol.bs"
make[1]: Leaving directory '/home/rr/.cpanm/work/1686933980.363553/Encode-3.19/Symbol'
make[1]: Entering directory '/home/rr/.cpanm/work/1686933980.363553/Encode-3.19/TW'
Running Mkbootstrap for Encode::TW ()
chmod 644 "TW.bs"
make[1]: Leaving directory '/home/rr/.cpanm/work/1686933980.363553/Encode-3.19/TW'
make[1]: Entering directory '/home/rr/.cpanm/work/1686933980.363553/Encode-3.19/Unicode'
Running Mkbootstrap for Encode::Unicode ()
chmod 644 "Unicode.bs"
make[1]: Leaving directory '/home/rr/.cpanm/work/1686933980.363553/Encode-3.19/Unicode'
Running Mkbootstrap for Encode ()
chmod 644 "Encode.bs"
PERL_DL_NONLAZY=1 "/home/rr/perl5/perlbrew/perls/perl-5.24.4/bin/perl" "-MExtUtils::Command::MM" "-MTest::Harness" "-e" "undef *Test::Harness::Switches; test_harness(0, 'blib/lib', 'blib/arch')" t/*.t
t/Aliases.t ................ ok
t/at-cn.t .................. ok
t/at-tw.t .................. ok
t/CJKT.t ................... ok
t/cow.t .................... ok
t/decode.t ................. ok
t/enc_data.t ............... ok
t/enc_eucjp.t .............. ok
t/enc_module.t ............. ok
t/enc_utf8.t ............... ok
t/Encode.t ................. ok
t/Encoder.t ................ ok
t/encoding-locale.t ........ ok
t/encoding.t ............... ok
t/fallback.t ............... ok
t/from_to.t ................ ok
t/grow.t ................... ok
t/gsm0338.t ................ ok
t/guess.t .................. ok
t/isa.t .................... ok
t/jis7-fallback.t .......... ok
t/jperl.t .................. ok
t/magic.t .................. ok
t/mime-header.t ............ ok
t/mime-name.t .............. ok
t/mime_header_iso2022jp.t .. ok
t/perlio.t ................. ok
t/piconv.t ................. ok
t/rt113164.t ............... ok
t/rt65541.t ................ ok
t/rt76824.t ................ ok
t/rt85489.t ................ ok
t/rt86327.t ................ ok
t/taint.t .................. ok
t/truncated_utf8.t ......... ok
t/undef.t .................. ok
t/Unicode.t ................ ok
t/Unicode_trailing_nul.t ... ok
t/use-Encode-Alias.t ....... ok
t/utf32warnings.t .......... ok
t/utf8ref.t ................ ok
t/utf8strict.t ............. ok
t/utf8warnings.t ........... ok
t/whatwg-aliases.t ......... skipped: For maintainers only
t/xml.t .................... ok
All tests successful.

Test Summary Report
-------------------
t/truncated_utf8.t       (Wstat: 0 Tests: 9 Failed: 0)
  TODO passed:   9
Files=45, Tests=7836,  7 wallclock secs ( 0.70 usr  0.10 sys +  5.92 cusr  0.42 csys =  7.14 CPU)
Result: PASS

------------------------------
PREREQUISITES
------------------------------

Prerequisite modules loaded:

runtime:

    Module              Need  Have   
    ------------------- ----- -------
    Exporter            5.57  5.72   
    parent              0.221 0.234  
    Storable            0     2.56_01

build:

    Module              Need  Have   
    ------------------- ----- -------
    ExtUtils::MakeMaker 0     7.10_02

configure:

    Module              Need  Have   
    ------------------- ----- -------
    ExtUtils::MakeMaker 0     7.10_02


------------------------------
ENVIRONMENT AND OTHER CONTEXT
------------------------------

Environment variables:

    LANG = en_GB.UTF-8
    LANGUAGE = en_GB:en
    PATH = /home/rr/perl5/perlbrew/bin:/home/rr/perl5/perlbrew/perls/perl-5.24.4/bin:/home/rr/bin:/usr/local/sbin:/usr/local/bin:/usr/sbin:/usr/bin:/sbin:/bin:/usr/games:/usr/local/games:/snap/bin
    PERLBREW_HOME = /home/rr/.perlbrew
    PERLBREW_MANPATH = /home/rr/perl5/perlbrew/perls/perl-5.24.4/man
    PERLBREW_PATH = /home/rr/perl5/perlbrew/bin:/home/rr/perl5/perlbrew/perls/perl-5.24.4/bin
    PERLBREW_PERL = perl-5.24.4
    PERLBREW_ROOT = /home/rr/perl5/perlbrew
    PERLBREW_SHELLRC_VERSION = 0.82
    PERLBREW_VERSION = 0.97
    PERL_CPANM_OPT = --from https://www.cpan.org --verify
    PERL_CPAN_MIRROR_TINY_BASE = /home/rr/perl5/perlbrew
    SHELL = /bin/bash
    TERM = xterm-256color

Perl special variables (and OS-specific diagnostics, for MSWin32):

    EGID = 1000 4 7 24 27 30 46 118 126 131 1000
    EUID = 1000
    EXECUTABLE_NAME = /home/rr/perl5/perlbrew/perls/perl-5.24.4/bin/perl
    GID = 1000 4 7 24 27 30 46 118 126 131 1000
    UID = 1000

Perl module toolchain versions installed:

    Module              Have      
    ------------------- ----------
    CPAN                2.11_01   
    CPAN::Meta          2.150005  
    Cwd                 3.63_01   
    ExtUtils::CBuilder  0.280225  
    ExtUtils::Command   7.10_02   
    ExtUtils::Install   2.04      
    ExtUtils::MakeMaker 7.10_02   
    ExtUtils::Manifest  1.70      
    ExtUtils::ParseXS   3.31      
    File::Spec          3.63_01   
    JSON                n/a       
    JSON::PP            2.27300_01
    Module::Build       n/a       
    Module::Signature   n/a       
    Parse::CPAN::Meta   1.4417_001
    Test::Harness       3.36_01   
    Test::More          1.001014  
    YAML                n/a       
    YAML::Syck          n/a       
    version             0.9916    


--

Summary of my perl5 (revision 5 version 24 subversion 4) configuration:
   
  Platform:
    osname=linux, osvers=5.15.0-73-generic, archname=x86_64-linux
    uname='linux plasmo 5.15.0-73-generic #80-ubuntu smp mon may 15 15:18:26 utc 2023 x86_64 x86_64 x86_64 gnulinux '
    config_args='-de -Dprefix=/home/rr/perl5/perlbrew/perls/perl-5.24.4 -Aeval:scriptdir=/home/rr/perl5/perlbrew/perls/perl-5.24.4/bin'
    hint=recommended, useposix=true, d_sigaction=define
    useithreads=undef, usemultiplicity=undef
    use64bitint=define, use64bitall=define, uselongdouble=undef
    usemymalloc=n, bincompat5005=undef
  Compiler:
    cc='cc', ccflags ='-fwrapv -fno-strict-aliasing -pipe -fstack-protector-strong -I/usr/local/include -D_LARGEFILE_SOURCE -D_FILE_OFFSET_BITS=64',
    optimize='-O2',
    cppflags='-fwrapv -fno-strict-aliasing -pipe -fstack-protector-strong -I/usr/local/include'
    ccversion='', gccversion='11.3.0', gccosandvers=''
    intsize=4, longsize=8, ptrsize=8, doublesize=8, byteorder=12345678, doublekind=3
    d_longlong=define, longlongsize=8, d_longdbl=define, longdblsize=16, longdblkind=3
    ivtype='long', ivsize=8, nvtype='double', nvsize=8, Off_t='off_t', lseeksize=8
    alignbytes=8, prototype=define
  Linker and Libraries:
    ld='cc', ldflags =' -fstack-protector-strong -L/usr/local/lib'
    libpth=/usr/local/lib /usr/include/x86_64-linux-gnu /usr/lib /lib/x86_64-linux-gnu /lib/../lib /usr/lib/x86_64-linux-gnu /usr/lib/../lib /lib /lib64 /usr/lib64
    libs=-lpthread -lnsl -ldl -lm -lcrypt -lutil -lc
    perllibs=-lpthread -lnsl -ldl -lm -lcrypt -lutil -lc
    libc=/lib/x86_64-linux-gnu/libc.so.6, so=so, useshrplib=false, libperl=libperl.a
    gnulibc_version='2.35'
  Dynamic Linking:
    dlsrc=dl_dlopen.xs, dlext=so, d_dlsymun=undef, ccdlflags='-Wl,-E'
    cccdlflags='-fPIC', lddlflags='-shared -O2 -L/usr/local/lib -fstack-protector-strong'


Characteristics of this binary (from libperl): 
  Compile-time options: HAS_TIMES PERLIO_LAYERS PERL_COPY_ON_WRITE
                        PERL_DONT_CREATE_GVSV
                        PERL_HASH_FUNC_ONE_AT_A_TIME_HARD PERL_MALLOC_WRAP
                        PERL_PRESERVE_IVUV USE_64_BIT_ALL USE_64_BIT_INT
                        USE_LARGE_FILES USE_LOCALE USE_LOCALE_COLLATE
                        USE_LOCALE_CTYPE USE_LOCALE_NUMERIC USE_LOCALE_TIME
                        USE_PERLIO USE_PERL_ATOF
  Locally applied patches:
	Devel::PatchPerl 2.08
  Built under linux
  Compiled at Jun 16 2023 17:30:17
  %ENV:
    PERLBREW_HOME="/home/rr/.perlbrew"
    PERLBREW_MANPATH="/home/rr/perl5/perlbrew/perls/perl-5.24.4/man"
    PERLBREW_PATH="/home/rr/perl5/perlbrew/bin:/home/rr/perl5/perlbrew/perls/perl-5.24.4/bin"
    PERLBREW_PERL="perl-5.24.4"
    PERLBREW_ROOT="/home/rr/perl5/perlbrew"
    PERLBREW_SHELLRC_VERSION="0.82"
    PERLBREW_VERSION="0.97"
    PERL_CPANM_OPT="--from https://www.cpan.org --verify"
    PERL_CPAN_MIRROR_TINY_BASE="/home/rr/perl5/perlbrew"
  @INC:
    /home/rr/perl5/perlbrew/perls/perl-5.24.4/lib/site_perl/5.24.4/x86_64-linux
    /home/rr/perl5/perlbrew/perls/perl-5.24.4/lib/site_perl/5.24.4
    /home/rr/perl5/perlbrew/perls/perl-5.24.4/lib/5.24.4/x86_64-linux
    /home/rr/perl5/perlbrew/perls/perl-5.24.4/lib/5.24.4
    .