urpmi vv8.133.2 Perl 5 v5.34.3 x86_64-linux
- Status
- Pass
- From
- Slaven Rezić
- Dist
-
urpmi vv8.133.2
- Platform
- Perl 5 v5.34.3 x86_64-linux
- Date
- 2024-06-03 08:07:06
- ID
- 4496696a-2180-11ef-a822-41316e8775ea
This distribution has been tested as part of the CPAN Testers
project, supporting the Perl programming language. See
http://wiki.cpantesters.org/ for more information or email
questions to cpan-testers-discuss@perl.org
--
Dear Thierry Vignaud,
This is a computer-generated report for urpmi-v8.133.2
on perl 5.34.3, created by CPAN-Reporter-1.2019.
Thank you for uploading your work to CPAN. Congratulations!
All tests were successful.
Sections of this report:
* Tester comments
* Program output
* Prerequisites
* Environment and other context
------------------------------
TESTER COMMENTS
------------------------------
Additional comments from tester:
none provided
------------------------------
PROGRAM OUTPUT
------------------------------
Output from '/usr/bin/make test':
Skip blib/lib/urpm/sys.pm (unchanged)
Skip blib/lib/urpm/select.pm (unchanged)
Skip blib/lib/urpm/parallel_ssh.pm (unchanged)
Skip blib/lib/urpm/mirrors.pm (unchanged)
Skip blib/lib/urpm/parallel.pm (unchanged)
Skip blib/lib/urpm/download.pm (unchanged)
Skip blib/lib/urpm/README.ka-run (unchanged)
Skip blib/lib/urpm/cdrom.pm (unchanged)
Skip blib/lib/urpm/bug_report.pm (unchanged)
Skip blib/lib/urpm/orphans.pm (unchanged)
Skip blib/lib/urpm/main_loop.pm (unchanged)
Skip blib/lib/urpm/msg.pm (unchanged)
Skip blib/lib/urpm/xml_info.pm (unchanged)
Skip blib/lib/urpm/get_pkgs.pm (unchanged)
Skip blib/lib/urpm/args.pm (unchanged)
Skip blib/lib/urpm/lock.pm (unchanged)
Skip blib/lib/urpm/parallel_ka_run.pm (unchanged)
Skip blib/lib/urpm/xml_info_pkg.pm (unchanged)
Skip blib/lib/urpm/removable.pm (unchanged)
Skip blib/lib/urpmi.pm (unchanged)
Skip blib/lib/urpm/prompt.pm (unchanged)
Skip blib/lib/urpm/util.pm (unchanged)
Skip blib/lib/urpm/md5sum.pm (unchanged)
Skip blib/lib/urpm/signature.pm (unchanged)
Skip blib/lib/urpm/media.pm (unchanged)
Skip blib/lib/urpm/install.pm (unchanged)
Skip blib/lib/urpm/ldap.pm (unchanged)
Skip blib/lib/gurpm/RPMProgressDialog.pm (unchanged)
Skip blib/lib/urpm.pm (unchanged)
Skip blib/lib/urpm/cfg.pm (unchanged)
Skip blib/lib/urpm/README.ssh (unchanged)
PERL_DL_NONLAZY=1 "/opt/perl-5.34.3/bin/perl" "-MExtUtils::Command::MM" "-MTest::Harness" "-e" "undef *Test::Harness::Switches; test_harness(0, 'blib/lib', 'blib/arch')" t/*.t
t/01compile.t ................................................... ok
>> RPM version is: RPM version 4.16.1.2
not a dynamic executable
0 blocks
warning: line 7: It's not recommended to have unversioned Obsoletes: Obsoletes: bb
24489 blocks
warning: RPM v3 packages are deprecated: KBackup-1.2.11-1.i386
warning: RPM v3 packages are deprecated: nls-1.0-2.i386
warning: RPM v3 packages are deprecated: libtermcap-2.0.8-2.i386
warning: RPM v3 packages are deprecated: p2c-1.20-7.i386
warning: RPM v3 packages are deprecated: p2c-1.20-7.i386
warning: RPM v3 packages are deprecated: libtermcap-2.0.8-2.i386
warning: RPM v3 packages are deprecated: KBackup-1.2.11-1.i386
warning: RPM v3 packages are deprecated: nls-1.0-2.i386
missing ./media/various/media_info/pubkey, not creating alternate location ./media/media_info/pubkey_various
missing ./media/various2/media_info/pubkey, not creating alternate location ./media/media_info/pubkey_various_ii
missing ./media/various3/media_info/pubkey, not creating alternate location ./media/media_info/pubkey_various_iii
missing ./media/various-debug/media_info/pubkey, not creating alternate location ./media/media_info/pubkey_various_debug
missing ./media/SRPMS-srpm-bootstrapping/media_info/pubkey, not creating alternate location ./media/media_info/pubkey_various_sources
t/02create_pkgs.t ............................................... ok
t/03kwality.t ................................................... skipped: These tests are for authors only!
Use of uninitialized value $substitutions{"RELEASE"} in substitution iterator at /home/cpansand/.cpan/build/2024060308/urpmi-v8.133.2-2/blib/lib/urpm/cfg.pm line 93.
Use of uninitialized value $substitutions{"RELEASE"} in substitution iterator at /home/cpansand/.cpan/build/2024060308/urpmi-v8.133.2-2/blib/lib/urpm/cfg.pm line 93.
t/cfg.t ......................................................... ok
t/pod.t ......................................................... ok
t/superuser--addmedia.t ......................................... ok
t/superuser--arch_to_noarch.t ................................... ok
t/superuser--backtrack-promotion.t .............................. ok
t/superuser--best-versioned-provide.t ........................... ok
t/superuser--buggy-rpms.t ....................................... ok
t/superuser--dropped-provides.t ................................. ok
t/superuser--epochless-conflict-with-promotion.t ................ ok
t/superuser--exclude.t .......................................... ok
t/superuser--failing-promotion.t ................................ ok
t/superuser--failing-scriptlets.t ............................... ok
t/superuser--file-conflicts.t ................................... ok
t/superuser--handle-conflict-deps.t ............................. ok
t/superuser--handle-conflict-deps2.t ............................ ok
t/superuser--http.t ............................................. ok
t/superuser--media_info_dir.t ................................... ok
t/superuser--mirrorlist.t ....................................... skipped: Needs a Mageia specific patch that introduces Time::ZoneInfo->current_zone() as well as a mirrorlist API server
t/superuser--obsolete-and-conflict.t ............................ ok
t/superuser--ordering-scriptlets.t .............................. ok
t/superuser--orphans-kernels.t .................................. ok
t/superuser--orphans.t .......................................... ok
t/superuser--prefer.t ........................................... ok
t/superuser--prefer2.t .......................................... ok
t/superuser--priority-upgrade.t ................................. ok
t/superuser--provide-and-no-obsolete.t .......................... ok
t/superuser--README-urpmi.t ..................................... ok
t/superuser--rpm.t .............................................. ok
t/superuser--rpmnew.t ........................................... ok
t/superuser--should-restart.t ................................... ok
t/superuser--specify-media.t .................................... ok
t/superuser--split-transactions--conflict.t ..................... ok
t/superuser--split-transactions--promote.t ...................... ok
t/superuser--split-transactions--strict-require-and-obsolete.t .. ok
t/superuser--split-transactions--strict-require.t ............... ok
t/superuser--split-transactions.t ............................... ok
t/superuser--srpm-bootstrapping.t ............................... ok
t/superuser--suggests.t ......................................... ok
t/superuser--urpmi_update.t ..................................... ok
All tests successful.
Files=42, Tests=837, 16 wallclock secs ( 0.20 usr 0.03 sys + 14.98 cusr 2.99 csys = 18.20 CPU)
Result: PASS
------------------------------
PREREQUISITES
------------------------------
Prerequisite modules loaded:
requires:
Module Need Have
------------------- -------- --------
Filesys::Df 0 0.92
Getopt::Long 0 2.57
Locale::gettext 1.01 1.07
MDV::Distribconf 4.100 4.101
Net::LDAP 0 0.68
perl 5.010000 5.034003
Time::ZoneInfo 0 0.3
URPM v5.28.0 v5.225
XML::LibXML 0 2.0209
XML::LibXML::Reader 0 2.0209
build_requires:
Module Need Have
------------------- -------- --------
Expect 0 1.36
ExtUtils::MakeMaker 0 7.70
File::Slurp 0 9999.32
Net::Server 0 2.014
rpmtools 7.12 7.12
Test::More 1.302 1.302198
Test::Pod 0 1.52
Test::Pod::Coverage 0 1.10
configure_requires:
Module Need Have
------------------- -------- --------
ExtUtils::MakeMaker 6.64 7.70
------------------------------
ENVIRONMENT AND OTHER CONTEXT
------------------------------
Environment variables:
LANG = en_US.UTF-8
PATH = /usr/local/bin:/usr/bin:/bin:/usr/local/sbin:/usr/sbin:/sbin:/home/cpansand/bin/linux-gnu:/home/cpansand/bin/sh:/home/cpansand/bin:/usr/games:/home/cpansand/devel:/home/eserte/src/srezic-misc/scripts
PERL5LIB =
PERL5OPT =
PERL5_CPANPLUS_IS_RUNNING = 2679688
PERL5_CPAN_IS_RUNNING = 2679688
PERL5_CPAN_IS_RUNNING_IN_RECURSION = 2673023,2679688
PERLDOC = -MPod::Perldoc::ToTextOverstrike
PERL_BATCH = yes
PERL_CANARY_STABILITY_NOPROMPT = 1
PERL_CPAN_REPORTER_CONFIG = /var/tmp/cpansmoker-1023/2024060308/cpanreporter_000_config.ini
PERL_EXTUTILS_AUTOINSTALL = --defaultdeps
PERL_USE_UNSAFE_INC = 1
SHELL = /usr/bin/zsh
TERM = screen
TMPDIR = /var/tmp/cpansmoker-1023/2024060308
Perl special variables (and OS-specific diagnostics, for MSWin32):
$^X = /opt/perl-5.34.3/bin/perl
$UID/$EUID = 1023 / 1023
$GID = 1023 1023
$EGID = 1023 1023
Perl module toolchain versions installed:
Module Have
------------------- --------
CPAN 2.28
CPAN::Meta 2.150010
Cwd 3.80
ExtUtils::CBuilder 0.280236
ExtUtils::Command 7.70
ExtUtils::Install 2.20
ExtUtils::MakeMaker 7.70
ExtUtils::Manifest 1.73
ExtUtils::ParseXS 3.51
File::Spec 3.80
JSON 4.10
JSON::PP 4.16
Module::Build 0.4234
Module::Signature 0.88
Parse::CPAN::Meta 2.150010
Test2 1.302198
Test::Harness 3.43
Test::More 1.302198
YAML 1.31
YAML::Syck 1.34
version 0.9932
--
Summary of my perl5 (revision 5 version 34 subversion 3) configuration:
Platform:
osname=linux
osvers=5.10.0-26-amd64
archname=x86_64-linux
uname='linux cloud7.bbbike.org 5.10.0-26-amd64 #1 smp debian 5.10.197-1 (2023-09-29) x86_64 gnulinux '
config_args='-ds -e -Dprefix=/opt/perl-5.34.3 -Dcf_email=srezic@cpan.org'
hint=recommended
useposix=true
d_sigaction=define
useithreads=undef
usemultiplicity=undef
use64bitint=define
use64bitall=define
uselongdouble=undef
usemymalloc=n
default_inc_excludes_dot=define
Compiler:
cc='cc'
ccflags ='-fwrapv -fno-strict-aliasing -pipe -fstack-protector-strong -I/usr/local/include -D_LARGEFILE_SOURCE -D_FILE_OFFSET_BITS=64 -D_FORTIFY_SOURCE=2'
optimize='-O2'
cppflags='-fwrapv -fno-strict-aliasing -pipe -fstack-protector-strong -I/usr/local/include'
ccversion=''
gccversion='10.2.1 20210110'
gccosandvers=''
intsize=4
longsize=8
ptrsize=8
doublesize=8
byteorder=12345678
doublekind=3
d_longlong=define
longlongsize=8
d_longdbl=define
longdblsize=16
longdblkind=3
ivtype='long'
ivsize=8
nvtype='double'
nvsize=8
Off_t='off_t'
lseeksize=8
alignbytes=8
prototype=define
Linker and Libraries:
ld='cc'
ldflags =' -fstack-protector-strong -L/usr/local/lib'
libpth=/usr/local/lib /usr/lib/x86_64-linux-gnu /usr/lib /usr/lib64
libs=-lpthread -lnsl -lgdbm -ldb -ldl -lm -lcrypt -lutil -lc
perllibs=-lpthread -lnsl -ldl -lm -lcrypt -lutil -lc
libc=libc-2.31.so
so=so
useshrplib=false
libperl=libperl.a
gnulibc_version='2.31'
Dynamic Linking:
dlsrc=dl_dlopen.xs
dlext=so
d_dlsymun=undef
ccdlflags='-Wl,-E'
cccdlflags='-fPIC'
lddlflags='-shared -O2 -L/usr/local/lib -fstack-protector-strong'
Characteristics of this binary (from libperl):
Compile-time options:
HAS_TIMES
PERLIO_LAYERS
PERL_COPY_ON_WRITE
PERL_DONT_CREATE_GVSV
PERL_MALLOC_WRAP
PERL_OP_PARENT
PERL_PRESERVE_IVUV
USE_64_BIT_ALL
USE_64_BIT_INT
USE_LARGE_FILES
USE_LOCALE
USE_LOCALE_COLLATE
USE_LOCALE_CTYPE
USE_LOCALE_NUMERIC
USE_LOCALE_TIME
USE_PERLIO
USE_PERL_ATOF
Built under linux
Compiled at Jan 1 2024 09:35:28
%ENV:
PERL5LIB=""
PERL5OPT=""
PERL5_CPANPLUS_IS_RUNNING="2679688"
PERL5_CPAN_IS_RUNNING="2679688"
PERL5_CPAN_IS_RUNNING_IN_RECURSION="2673023,2679688"
PERLDOC="-MPod::Perldoc::ToTextOverstrike"
PERL_BATCH="yes"
PERL_CANARY_STABILITY_NOPROMPT="1"
PERL_CPAN_REPORTER_CONFIG="/var/tmp/cpansmoker-1023/2024060308/cpanreporter_000_config.ini"
PERL_EXTUTILS_AUTOINSTALL="--defaultdeps"
PERL_USE_UNSAFE_INC="1"
@INC:
/opt/perl-5.34.3/lib/site_perl/5.34.3/x86_64-linux
/opt/perl-5.34.3/lib/site_perl/5.34.3
/opt/perl-5.34.3/lib/5.34.3/x86_64-linux
/opt/perl-5.34.3/lib/5.34.3
.